BEGIN:VCALENDAR
VERSION:2.0
PRODID:-//Woluwe Saint Pierre - ECPv6.13.2//NONSGML v1.0//EN
CALSCALE:GREGORIAN
METHOD:PUBLISH
X-ORIGINAL-URL:https://www.woluwe1150.be/nl/
X-WR-CALDESC:Evenementen voor Woluwe Saint Pierre
REFRESH-INTERVAL;VALUE=DURATION:PT1H
X-Robots-Tag:noindex
X-PUBLISHED-TTL:PT1H
BEGIN:VTIMEZONE
TZID:Europe/Brussels
BEGIN:DAYLIGHT
TZOFFSETFROM:+0100
TZOFFSETTO:+0200
TZNAME:CEST
DTSTART:20250330T010000
END:DAYLIGHT
BEGIN:STANDARD
TZOFFSETFROM:+0200
TZOFFSETTO:+0100
TZNAME:CET
DTSTART:20251026T010000
END:STANDARD
END:VTIMEZONE
BEGIN:VEVENT
DTSTART;TZID=Europe/Brussels:20250327T190000
DTEND;TZID=Europe/Brussels:20250327T210000
DTSTAMP:20260425T035241
CREATED:20250218T100359Z
LAST-MODIFIED:20250218T100359Z
UID:77635-1743102000-1743109200@www.woluwe1150.be
SUMMARY:Eerste hulp bij Make-upvragen
DESCRIPTION:Een workshop boordevol tips en tricks om het maximum uit je eigen make-upproducten te halen. Voor deze workshop neem je je eigen make-uptasje mee en leer je hoe je jouw eigen producten op verschillende manieren kan gebruiken voor het beste resultaat. Nood aan een nieuwe beauty-routine? Hulp nodig bij het aanbrengen van de perfecte rode lip\, winged eyeliner of smokey eye? Krijg je je wenkbrauwen niet natuurlijk bijgetekend? Droom je van een modieuze make-up look maar heb je geen idee hoe daaraan te beginnen? \n\nTijdens deze workshop krijg je (letterlijk en figuurlijk) de juiste tools aangereikt om jouw make-up enkele trapjes hoger te tillen zonder dat je daarvoor extra spullen nodig hebt. \nInfo en reservatie
URL:https://www.woluwe1150.be/nl/event/eerste-hulp-bij-make-upvragen/
LOCATION:GC Kontakt\, 54 avenue Orbanlaan\, Sint-Pieters-Woluwe\, 1150
CATEGORIES:Animaties
ATTACH;FMTTYPE=image/png:https://www.woluwe1150.be/app/uploads/2025/02/workshop_kontakt.png
ORGANIZER;CN="GC Kontakt":MAILTO:kontakt@vgc.be
END:VEVENT
END:VCALENDAR