BEGIN:VCALENDAR
VERSION:2.0
PRODID:-//Woluwe Saint Pierre - ECPv6.13.2//NONSGML v1.0//EN
CALSCALE:GREGORIAN
METHOD:PUBLISH
X-ORIGINAL-URL:https://www.woluwe1150.be/nl/
X-WR-CALDESC:Evenementen voor Woluwe Saint Pierre
REFRESH-INTERVAL;VALUE=DURATION:PT1H
X-Robots-Tag:noindex
X-PUBLISHED-TTL:PT1H
BEGIN:VTIMEZONE
TZID:Europe/Brussels
BEGIN:DAYLIGHT
TZOFFSETFROM:+0100
TZOFFSETTO:+0200
TZNAME:CEST
DTSTART:20250330T010000
END:DAYLIGHT
BEGIN:STANDARD
TZOFFSETFROM:+0200
TZOFFSETTO:+0100
TZNAME:CET
DTSTART:20251026T010000
END:STANDARD
END:VTIMEZONE
BEGIN:VEVENT
DTSTART;TZID=Europe/Brussels:20250504T110000
DTEND;TZID=Europe/Brussels:20250504T190000
DTSTAMP:20260425T004506
CREATED:20250326T083525Z
LAST-MODIFIED:20250326T083525Z
UID:78675-1746356400-1746385200@www.woluwe1150.be
SUMMARY:Feest van de Tervurenlaan 2025
DESCRIPTION:Elk jaar in mei slaan de gemeenten Etterbeek en Sint-Pieters-Woluwe de handen in elkaar om deze prestigieuze laan in ere te houden. Ter gelegenheid van deze feestelijke dag\, zal een deel van het parcours autovrij zijn van 11u tot 19u\, met meer dan 3 km aan kraampjes van Merode tot Groene Hond overgenomen door handelaars\, brocanteurs en verenigingen\, evenals een kermis\, voorstellingen en animaties.  \n  \nVoorstellingen\n\nCie O Quel Dommage – Room service. Room Service is een hansworstachtig toneelstuk waarin we getuige zijn van de verduistering van alledaagse activiteiten in verband met het moederschap en de stereotypen van de relatie tussen moeder en kind. Tijden: 14u en 16u30 (duur: 30′).\nKirn Compagnie (acrobatiek). Twee broers bevinden zich in een afgesloten ruimte waarin de omgeving hen door elkaar schudt en hen dwingt oplossingen te vinden om de harmonie te bewaren. Tijden: 15.00 en 17.30 uur (duur: 30′).\n Blue Birds. Als in trance dwalen deze zeer grote blauwe vogels door de menigte. Tijden: 13.00 – 13.45 uur en 15.30 – 16.15 uur.\n\n  \nAnimaties voor kinderen\n Springkastelen\, schminken\, gigantische zeepbellen\, ballonfiguren\, enz. \n  \nDe verschillende dorpen\nBrocanteurs\, ambulante handelaars\, foorkramers\, verenigingen\, kunstenaars\, ambachtslieden\, foodtrucks zullen hun verschillende projecten/producten voorstellen.  \n  \nOnze partners uit het verenigingsleven in het gemeentelijke dorp \n De Dienst Duurzame Ontwikkeling: associatieve stands en workshops in verband met duurzame ontwikkeling. \n Demonstraties van verschillende sportclubs uit de gemeente en aanwezigheid van verenigingen. \n  \nMeer info :\nevents@woluwe1150.be \n 
URL:https://www.woluwe1150.be/nl/event/feest-van-de-tervurenlaan-2025/
LOCATION:Avenue de tervueren/Tervurenlaan\, Avenue de Tervueren\, 1150 Woluwe-Saint-Pierre
CATEGORIES:Animaties
ATTACH;FMTTYPE=image/jpeg:https://www.woluwe1150.be/app/uploads/2025/03/fete_tervueren2025.jpg
END:VEVENT
BEGIN:VEVENT
DTSTART;TZID=Europe/Brussels:20250507T150000
DTEND;TZID=Europe/Brussels:20250507T180000
DTSTAMP:20260425T004506
CREATED:20250429T101240Z
LAST-MODIFIED:20250429T101240Z
UID:79440-1746630000-1746640800@www.woluwe1150.be
SUMMARY:Fietsbieb is open
DESCRIPTION:Heeft je kind een fiets nodig\, maar zie je op tegen de hoge aankoopprijs? Of ben je van mening dat een fiets vlot van eigenaar moet kunnen wisselen? Word lid van de Fietsbieb en fiets zonder zorgen. Bij de Fietsbieb kan je kinderfietsen goedkoop lenen\, met een aanbod voor kinderen tot 12 jaar. De Fietsbieb is een project van beweging.net en draait vooral op de inzet van vrijwilligers\, actief in de lokale uitleenpunten. Net zoals bij elk deelsysteem steunt de Fietsbieb op onderling respect\, vertrouwen en solidariteit. \nMeer info
URL:https://www.woluwe1150.be/nl/event/fietsbieb-is-open-3/
LOCATION:GC Kontakt\, 54 avenue Orbanlaan\, Sint-Pieters-Woluwe\, 1150
CATEGORIES:Animaties
ATTACH;FMTTYPE=image/png:https://www.woluwe1150.be/app/uploads/2025/03/fietsbib.png
ORGANIZER;CN="GC Kontakt":MAILTO:kontakt@vgc.be
END:VEVENT
BEGIN:VEVENT
DTSTART;TZID=Europe/Brussels:20250522T190000
DTEND;TZID=Europe/Brussels:20250522T210000
DTSTAMP:20260425T004506
CREATED:20250429T102117Z
LAST-MODIFIED:20250429T102117Z
UID:79455-1747940400-1747947600@www.woluwe1150.be
SUMMARY:Umami Night - Workshop ramen maken
DESCRIPTION:Dompel je onder in de diepe smaken van umami en ontdek de kunst van authentieke ramen! Tijdens deze workshop neemt hobbykok\, sommelier en bon vivant Julien Itterbeek je mee op een culinaire reis langs de bouillons en toppings die Japanse ramen zo uniek maken. \nVan de zijdezachte tonkotsu uit Zuid-Japan tot de rijke shoyu van Tokyo leer de geheimen achter de perfecte noodlesoep en hoe je thuis je eigen bowl perfectioneert. Julien deelt zijn kennis en ervaringen uit Japan\, waar hij van Kagoshima\, via Hiroshima tot Kyoto\, de lokale specialiteiten proefde en bestudeerde. \nInfo en reservatie
URL:https://www.woluwe1150.be/nl/event/umami-night-workshop-ramen-maken/
LOCATION:GC Kontakt\, 54 avenue Orbanlaan\, Sint-Pieters-Woluwe\, 1150
CATEGORIES:Animaties
ATTACH;FMTTYPE=image/png:https://www.woluwe1150.be/app/uploads/2025/04/umami_night_gc_kontakt.png
ORGANIZER;CN="GC Kontakt":MAILTO:kontakt@vgc.be
END:VEVENT
END:VCALENDAR