BEGIN:VCALENDAR
VERSION:2.0
PRODID:-//Woluwe Saint Pierre - ECPv6.13.2//NONSGML v1.0//EN
CALSCALE:GREGORIAN
METHOD:PUBLISH
X-WR-CALNAME:Woluwe Saint Pierre
X-ORIGINAL-URL:https://www.woluwe1150.be/nl/
X-WR-CALDESC:Evenementen voor Woluwe Saint Pierre
REFRESH-INTERVAL;VALUE=DURATION:PT1H
X-Robots-Tag:noindex
X-PUBLISHED-TTL:PT1H
BEGIN:VTIMEZONE
TZID:Europe/Brussels
BEGIN:DAYLIGHT
TZOFFSETFROM:+0100
TZOFFSETTO:+0200
TZNAME:CEST
DTSTART:20250330T010000
END:DAYLIGHT
BEGIN:STANDARD
TZOFFSETFROM:+0200
TZOFFSETTO:+0100
TZNAME:CET
DTSTART:20251026T010000
END:STANDARD
END:VTIMEZONE
BEGIN:VEVENT
DTSTART;TZID=Europe/Brussels:20250604T150000
DTEND;TZID=Europe/Brussels:20250604T180000
DTSTAMP:20260424T231805
CREATED:20250528T122553Z
LAST-MODIFIED:20250528T122553Z
UID:80328-1749049200-1749060000@www.woluwe1150.be
SUMMARY:Fietsbieb is open
DESCRIPTION:Heeft je kind een fiets nodig\, maar zie je op tegen de hoge aankoopprijs? Of ben je van mening dat een fiets vlot van eigenaar moet kunnen wisselen? Word lid van de Fietsbieb en fiets zonder zorgen. Bij de Fietsbieb kan je kinderfietsen goedkoop lenen\, met een aanbod voor kinderen tot 12 jaar. De Fietsbieb is een project van beweging.net en draait vooral op de inzet van vrijwilligers\, actief in de lokale uitleenpunten. Net zoals bij elk deelsysteem steunt de Fietsbieb op onderling respect\, vertrouwen en solidariteit. \nMeer info
URL:https://www.woluwe1150.be/nl/event/fietsbieb-is-open-4/
LOCATION:GC Kontakt\, 54 avenue Orbanlaan\, Sint-Pieters-Woluwe\, 1150
CATEGORIES:Animaties
ATTACH;FMTTYPE=image/png:https://www.woluwe1150.be/app/uploads/2025/03/fietsbib.png
ORGANIZER;CN="GC Kontakt":MAILTO:kontakt@vgc.be
END:VEVENT
BEGIN:VEVENT
DTSTART;TZID=Europe/Brussels:20250608T110000
DTEND;TZID=Europe/Brussels:20250608T210000
DTSTAMP:20260424T231805
CREATED:20250429T114537Z
LAST-MODIFIED:20250429T114537Z
UID:79472-1749380400-1749416400@www.woluwe1150.be
SUMMARY:Foodtruck Festival 2025
DESCRIPTION:Op zondag 8 juni\, van 11u tot 21u\, vindt op het Dumonplein en aan het begin van de Baron d’Huartlaan de 5e editie plaats van het Foodtruck Festival! \nOp het programma: \n\nEen twintigtal foodtrucks met een brede waaier aan smaken: wereldkeuken\, zoete lekkernijen en verfrissende drankjes\nMuziek en DJ\nLigstoelen om te ontspannen\nAnimatie voor kinderen
URL:https://www.woluwe1150.be/nl/event/foodtruck-festival-2025/
LOCATION:Place Dumonplein\, Place Dumonplein\, 1150 Woluwe-Saint-Pierre\, Belgique
CATEGORIES:Animaties
ATTACH;FMTTYPE=image/jpeg:https://www.woluwe1150.be/app/uploads/2025/04/foodtruck_festival_2025.jpg
ORGANIZER;CN="Service Vie %C3%A9conomique locale/Dienst Lokaal Economisch leven":MAILTO:economie@woluwe1150.be
END:VEVENT
BEGIN:VEVENT
DTSTART;TZID=Europe/Brussels:20250613T000000
DTEND;TZID=Europe/Brussels:20250614T000000
DTSTAMP:20260424T231805
CREATED:20250508T102310Z
LAST-MODIFIED:20250604T124010Z
UID:79820-1749772800-1749859200@www.woluwe1150.be
SUMMARY:Guinguette 2025
DESCRIPTION:De guinguette is terug voor een nieuwe editie in 2025\, deze keer voor twee dagen! Kom voor een drankje en geniet van de verschillende activiteiten die door onze lokale partners worden georganiseerd.\n \nVrijdag 13 juni van 17u tot 22u\n\n18u: muziekquiz\n20u: DJ set\n\n \nZaterdag 14 juni van 11u tot 22u\n\n11u-18u: aïkido\, dans\, salsa\, bachata\, schminken\, houten spelen\, buitenspelen\, enz.\n11u-12u : aïkido met Yume Aiki Dojo\n12u-12u30\, 13h-13h30\,14h-14h30 : demonstratie van ASENDANSE\n14u30-15u30 en 16u-17u30 : Batcha- en salsalessen met FOUR YOU DANCE\n18u: Karaoke\n20u: BLAST! concert\n\nFoodtruck en bar op beide dagen. \nLocatie: park op de kruising van de Hinnisdaallaan en de Perspectieflaan. Tramhalte “Vriendschap”.
URL:https://www.woluwe1150.be/nl/event/guinguette-2025/
CATEGORIES:Animaties
ATTACH;FMTTYPE=image/png:https://www.woluwe1150.be/app/uploads/2025/05/guinguette_2015_cover.png
ORGANIZER;CN="Service Animations - No%C3%ABlie Jacqmin":MAILTO:njacqmin@woluwe1150.be
END:VEVENT
END:VCALENDAR