BEGIN:VCALENDAR
VERSION:2.0
PRODID:-//Woluwe Saint Pierre - ECPv6.13.2//NONSGML v1.0//EN
CALSCALE:GREGORIAN
METHOD:PUBLISH
X-ORIGINAL-URL:https://www.woluwe1150.be/nl/
X-WR-CALDESC:Evenementen voor Woluwe Saint Pierre
REFRESH-INTERVAL;VALUE=DURATION:PT1H
X-Robots-Tag:noindex
X-PUBLISHED-TTL:PT1H
BEGIN:VTIMEZONE
TZID:Europe/Brussels
BEGIN:DAYLIGHT
TZOFFSETFROM:+0100
TZOFFSETTO:+0200
TZNAME:CEST
DTSTART:20250330T010000
END:DAYLIGHT
BEGIN:STANDARD
TZOFFSETFROM:+0200
TZOFFSETTO:+0100
TZNAME:CET
DTSTART:20251026T010000
END:STANDARD
END:VTIMEZONE
BEGIN:VEVENT
DTSTART;TZID=Europe/Brussels:20250904T170000
DTEND;TZID=Europe/Brussels:20250904T220000
DTSTAMP:20260424T200514
CREATED:20250807T133134Z
LAST-MODIFIED:20250807T133134Z
UID:81697-1757005200-1757023200@www.woluwe1150.be
SUMMARY:Groeten uit Kontakt!
DESCRIPTION:Het voorjaar van 2025 loopt bijna op z’n einde\, de grote vakantie staat voor de deur…\nHet ideale moment om vooruit te blikken op het eerste evenement van het nieuwe seizoen! \nWe nodigen jullie van harte uit op donderdag 4 september vanaf 17 uur op ‘Groeten uit Kontakt!’\, de opening van ons najaarsseizoen. \nPROGRAMMA: \n\nvernissage Lynne Vermeulen – resident GC Kontakt\nconcert Domoor – melancholische Nederlandstalige hiphop\ndrankjes en hapjes\n\nMeer info
URL:https://www.woluwe1150.be/nl/event/groeten-uit-kontakt/
LOCATION:GC Kontakt\, 54 avenue Orbanlaan\, Sint-Pieters-Woluwe\, 1150
CATEGORIES:Animaties
ATTACH;FMTTYPE=image/png:https://www.woluwe1150.be/app/uploads/2025/08/kontakt_groeten.png
ORGANIZER;CN="GC Kontakt":MAILTO:kontakt@vgc.be
END:VEVENT
END:VCALENDAR