BEGIN:VCALENDAR
VERSION:2.0
PRODID:-//Woluwe Saint Pierre - ECPv6.13.2//NONSGML v1.0//EN
CALSCALE:GREGORIAN
METHOD:PUBLISH
X-WR-CALNAME:Woluwe Saint Pierre
X-ORIGINAL-URL:https://www.woluwe1150.be/nl/
X-WR-CALDESC:Evenementen voor Woluwe Saint Pierre
REFRESH-INTERVAL;VALUE=DURATION:PT1H
X-Robots-Tag:noindex
X-PUBLISHED-TTL:PT1H
BEGIN:VTIMEZONE
TZID:Europe/Brussels
BEGIN:DAYLIGHT
TZOFFSETFROM:+0100
TZOFFSETTO:+0200
TZNAME:CEST
DTSTART:20250330T010000
END:DAYLIGHT
BEGIN:STANDARD
TZOFFSETFROM:+0200
TZOFFSETTO:+0100
TZNAME:CET
DTSTART:20251026T010000
END:STANDARD
END:VTIMEZONE
BEGIN:VEVENT
DTSTART;TZID=Europe/Brussels:20250918T190000
DTEND;TZID=Europe/Brussels:20250918T210000
DTSTAMP:20260424T200130
CREATED:20250807T133616Z
LAST-MODIFIED:20250807T133616Z
UID:81707-1758222000-1758229200@www.woluwe1150.be
SUMMARY:Duik in de wereld van échte pizza
DESCRIPTION:Ben jij ook zo gek op pizza? Tijdens deze smakelijke avond neemt Julien je mee op een culinaire reis door de wereld van Napolitaanse pizza. We verdiepen ons in het geheim van een luchtige en smaakvolle korst: een lang gefermenteerd deeg van 24 tot 48 uur. \nWe bespreken het verschil tussen pizzastijlen\, werken met verse ingrediënten en bakken in een echte pizzaoven. \nSamen creëren we\, proeven we\, vergelijken we en vooral: genieten we van elkaars creaties. Verwacht geen doorsnee pizza-avond\, maar een deep dive in la vera pizza napoletana! \nMeer info
URL:https://www.woluwe1150.be/nl/event/duik-in-de-wereld-van-echte-pizza/
LOCATION:GC Kontakt\, 54 avenue Orbanlaan\, Sint-Pieters-Woluwe\, 1150
CATEGORIES:Animaties
ATTACH;FMTTYPE=image/png:https://www.woluwe1150.be/app/uploads/2025/08/workshop_pizza.png
ORGANIZER;CN="GC Kontakt":MAILTO:kontakt@vgc.be
END:VEVENT
END:VCALENDAR