BEGIN:VCALENDAR
VERSION:2.0
PRODID:-//Woluwe Saint Pierre - ECPv6.13.2//NONSGML v1.0//EN
CALSCALE:GREGORIAN
METHOD:PUBLISH
X-WR-CALNAME:Woluwe Saint Pierre
X-ORIGINAL-URL:https://www.woluwe1150.be/nl/
X-WR-CALDESC:Evenementen voor Woluwe Saint Pierre
REFRESH-INTERVAL;VALUE=DURATION:PT1H
X-Robots-Tag:noindex
X-PUBLISHED-TTL:PT1H
BEGIN:VTIMEZONE
TZID:Europe/Brussels
BEGIN:DAYLIGHT
TZOFFSETFROM:+0100
TZOFFSETTO:+0200
TZNAME:CEST
DTSTART:20250330T010000
END:DAYLIGHT
BEGIN:STANDARD
TZOFFSETFROM:+0200
TZOFFSETTO:+0100
TZNAME:CET
DTSTART:20251026T010000
END:STANDARD
END:VTIMEZONE
BEGIN:VEVENT
DTSTART;TZID=Europe/Brussels:20251123T083000
DTEND;TZID=Europe/Brussels:20251123T113000
DTSTAMP:20260424T161825
CREATED:20251020T124846Z
LAST-MODIFIED:20251020T124846Z
UID:85715-1763886600-1763897400@www.woluwe1150.be
SUMMARY:Oxfam-ontbijt
DESCRIPTION:In een context waarin de ongelijkheid toeneemt en de solidariteit onder druk staat\, nodigt Oxfam Wereldwinkels u uit voor een collectief ontwaken. Kom op zondag 23 november naar de gemeenteschool van Stokkel voor een gezellige\, solidaire en geëngageerde ontbijt. \nDit jaar steunt de actie de fairtrade-organisatie ALLPA in Peru\, sinds 2012 partner van Oxfam. Het ALLPA-project heeft tot doel het waterverbruik in het productieproces van alpacastoffen te verminderen als reactie op de droogte in de Andesgebieden van Peru. \nPraktische Info \n\nZondag 23 november 2025 van 8.30 tot 11.30 uur\nIn de gemeenteschool van Stokkel\, Vandermaelenstraat 61.\nPrijs: volwassenen 10€/ kinderen 6€ (vanaf 5 jaar).\nGratis parkeren op de parking van de Stockel Square\, aangeboden door Interparking\, toegang via de Dominique De Jonghe straat.
URL:https://www.woluwe1150.be/nl/event/oxfam-ontbijt-2/
LOCATION:Ecole communale de Stockel\, Rue Vandermaelen 61\, Woluwe-Saint-Pierre\, 1150\, Belgium
CATEGORIES:Animaties
ATTACH;FMTTYPE=image/jpeg:https://www.woluwe1150.be/app/uploads/2025/10/PDJ-Oxfam-2025-scaled.jpg
END:VEVENT
END:VCALENDAR