BEGIN:VCALENDAR
VERSION:2.0
PRODID:-//Woluwe Saint Pierre - ECPv6.13.2//NONSGML v1.0//EN
CALSCALE:GREGORIAN
METHOD:PUBLISH
X-WR-CALNAME:Woluwe Saint Pierre
X-ORIGINAL-URL:https://www.woluwe1150.be/nl/
X-WR-CALDESC:Evenementen voor Woluwe Saint Pierre
REFRESH-INTERVAL;VALUE=DURATION:PT1H
X-Robots-Tag:noindex
X-PUBLISHED-TTL:PT1H
BEGIN:VTIMEZONE
TZID:Europe/Brussels
BEGIN:DAYLIGHT
TZOFFSETFROM:+0100
TZOFFSETTO:+0200
TZNAME:CEST
DTSTART:20250330T010000
END:DAYLIGHT
BEGIN:STANDARD
TZOFFSETFROM:+0200
TZOFFSETTO:+0100
TZNAME:CET
DTSTART:20251026T010000
END:STANDARD
END:VTIMEZONE
BEGIN:VEVENT
DTSTART;TZID=Europe/Brussels:20251127T190000
DTEND;TZID=Europe/Brussels:20251127T210000
DTSTAMP:20260424T161853
CREATED:20251020T141026Z
LAST-MODIFIED:20251020T141026Z
UID:85762-1764270000-1764277200@www.woluwe1150.be
SUMMARY:Julien’s kitchen: aubergine
DESCRIPTION:Julien neemt U mee op wereldreis met de aubergine als gids. Denk aan rokerige aroma’s\, romige texturen\, een vleugje umami\, een tikje zuur en een frisse kruidigheid. \nWe ontdekken hoe je van deze paarse krachtpatser een verfijnde\, smaakvolle blikvanger maakt of hij nu gegrild\, gepureerd of gelakt op tafel komt. Na deze avond kijk je nooit meer hetzelfde naar aubergine. \nWe maken moutabal (baba ganoush)\, gerookte aubergine met miso glazuur en huisgemaakte pickles\, en een siciliaanse caponata. Schrijf je maar alvast in. \nMeer info
URL:https://www.woluwe1150.be/nl/event/juliens-kitchen-aubergine/
LOCATION:GC Kontakt\, 54 avenue Orbanlaan\, Sint-Pieters-Woluwe\, 1150
CATEGORIES:Animaties
ATTACH;FMTTYPE=image/png:https://www.woluwe1150.be/app/uploads/2025/10/aubergine_kitchen.png
ORGANIZER;CN="GC Kontakt":MAILTO:kontakt@vgc.be
END:VEVENT
END:VCALENDAR