BEGIN:VCALENDAR
VERSION:2.0
PRODID:-//Woluwe Saint Pierre - ECPv6.13.2//NONSGML v1.0//EN
CALSCALE:GREGORIAN
METHOD:PUBLISH
X-ORIGINAL-URL:https://www.woluwe1150.be/nl/
X-WR-CALDESC:Evenementen voor Woluwe Saint Pierre
REFRESH-INTERVAL;VALUE=DURATION:PT1H
X-Robots-Tag:noindex
X-PUBLISHED-TTL:PT1H
BEGIN:VTIMEZONE
TZID:Europe/Brussels
BEGIN:DAYLIGHT
TZOFFSETFROM:+0100
TZOFFSETTO:+0200
TZNAME:CEST
DTSTART:20250330T010000
END:DAYLIGHT
BEGIN:STANDARD
TZOFFSETFROM:+0200
TZOFFSETTO:+0100
TZNAME:CET
DTSTART:20251026T010000
END:STANDARD
BEGIN:DAYLIGHT
TZOFFSETFROM:+0100
TZOFFSETTO:+0200
TZNAME:CEST
DTSTART:20260329T010000
END:DAYLIGHT
BEGIN:STANDARD
TZOFFSETFROM:+0200
TZOFFSETTO:+0100
TZNAME:CET
DTSTART:20261025T010000
END:STANDARD
END:VTIMEZONE
BEGIN:VEVENT
DTSTART;TZID=Europe/Brussels:20251203T150000
DTEND;TZID=Europe/Brussels:20251203T180000
DTSTAMP:20260424T163640
CREATED:20251120T104153Z
LAST-MODIFIED:20251120T104153Z
UID:87001-1764774000-1764784800@www.woluwe1150.be
SUMMARY:Fietsbieb
DESCRIPTION:Heeft je kind een fiets nodig\, maar zie je op tegen de hoge aankoopprijs? Of ben je van mening dat een fiets vlot van eigenaar moet kunnen wisselen? Word lid van de Fietsbieb en fiets zonder zorgen. \nBij de Fietsbieb kan je kinderfietsen goedkoop lenen\, met een aanbod voor kinderen tot 12 jaar. De Fietsbieb is een project van beweging.net en draait vooral op de inzet van vrijwilligers\, actief in de lokale uitleenpunten. Net zoals bij elk deelsysteem steunt de Fietsbieb op onderling respect\, vertrouwen en solidariteit. \nMeer info
URL:https://www.woluwe1150.be/nl/event/fietsbieb-3/
LOCATION:GC Kontakt\, 54 avenue Orbanlaan\, Sint-Pieters-Woluwe\, 1150
CATEGORIES:Kinderen,Animaties
ATTACH;FMTTYPE=image/png:https://www.woluwe1150.be/app/uploads/2025/03/fietsbib.png
ORGANIZER;CN="GC Kontakt":MAILTO:kontakt@vgc.be
END:VEVENT
BEGIN:VEVENT
DTSTART;TZID=Europe/Brussels:20251212T180000
DTEND;TZID=Europe/Brussels:20251212T220000
DTSTAMP:20260424T163640
CREATED:20251120T110231Z
LAST-MODIFIED:20251120T110231Z
UID:87020-1765562400-1765576800@www.woluwe1150.be
SUMMARY:Benefiet & film & nagesprek & Palestijnse maaltijd
DESCRIPTION:Vanaf 18u00 kan je deelnemen aan een Palestijnse maaltijd\, daarna kijken we samen naar The jacket van Mathijs Poppe. Het verhaal begint wanneer Jamal Hindawi\, terwijl hij repeteert voor een nieuw toneelstuk\, zijn jas verliest — een eenvoudig rekwisiet\, maar beladen met symboliek. De jas staat voor identiteit\, geschiedenis\, en het Palestijnse collectieve geheugen. Wat volgt is een poëtische zoektocht door de chaotische straten van Beiroet\, waarin het persoonlijke en politieke voortdurend door elkaar lopen. \nBrussels regisseur Mathijs Poppe staat je te woord tijdens het gesprek achteraf. \nMeer info\nNaar de trailer
URL:https://www.woluwe1150.be/nl/event/benefiet-film-nagesprek-palestijnse-maaltijd/
LOCATION:GC Kontakt\, 54 avenue Orbanlaan\, Sint-Pieters-Woluwe\, 1150
CATEGORIES:Animaties,Cinema
ATTACH;FMTTYPE=image/png:https://www.woluwe1150.be/app/uploads/2025/11/the_jacket.png
ORGANIZER;CN="GC Kontakt":MAILTO:kontakt@vgc.be
END:VEVENT
BEGIN:VEVENT
DTSTART;TZID=Europe/Brussels:20260130T180000
DTEND;TZID=Europe/Brussels:20260130T230000
DTSTAMP:20260424T163640
CREATED:20251209T142631Z
LAST-MODIFIED:20260106T075303Z
UID:88567-1769796000-1769814000@www.woluwe1150.be
SUMMARY:Nieuwjaarsreceptie GC Kontakt
DESCRIPTION:Op het programma: \n\nDegustaties door Biergilde Het Lindeke en Wijngilde Wijnroute\nHapjes \nKinderdisco\, kindergrime & fotobooth\nDJ‑set\nVernissage van de expo van Cyril Beerten\, illustrator in residentie\nExpo RHoK academie\,  atelier Tekenkunst\nCasinospelen: poker\, blackjack & roulette\nWelkomstwoord & speeches\n\nDresscode: Casino Royale\n*Welkom vanaf 18u00! \n  \nInschrijven via: kontakt@vgc.be
URL:https://www.woluwe1150.be/nl/event/nieuwjaarsreceptie-gc-kontakt-3/
LOCATION:GC Kontakt\, 54 avenue Orbanlaan\, Sint-Pieters-Woluwe\, 1150
CATEGORIES:Animaties
ATTACH;FMTTYPE=image/png:https://www.woluwe1150.be/app/uploads/2025/12/nieuwjaar_kontakt_2026.png
ORGANIZER;CN="GC Kontakt":MAILTO:kontakt@vgc.be
END:VEVENT
BEGIN:VEVENT
DTSTART;TZID=Europe/Brussels:20260204T150000
DTEND;TZID=Europe/Brussels:20260204T180000
DTSTAMP:20260424T163640
CREATED:20260126T101038Z
LAST-MODIFIED:20260126T101038Z
UID:90652-1770217200-1770228000@www.woluwe1150.be
SUMMARY:Fietsbieb
DESCRIPTION:Heeft je kind een fiets nodig\, maar zie je op tegen de hoge aankoopprijs? Of ben je van mening dat een fiets vlot van eigenaar moet kunnen wisselen? Word lid van de Fietsbieb en fiets zonder zorgen. \nBij de Fietsbieb kan je kinderfietsen goedkoop lenen\, met een aanbod voor kinderen tot 12 jaar. De Fietsbieb is een project van beweging.net en draait vooral op de inzet van vrijwilligers\, actief in de lokale uitleenpunten. Net zoals bij elk deelsysteem steunt de Fietsbieb op onderling respect\, vertrouwen en solidariteit. \nMeer info
URL:https://www.woluwe1150.be/nl/event/fietsbieb-4/
LOCATION:GC Kontakt\, 54 avenue Orbanlaan\, Sint-Pieters-Woluwe\, 1150
CATEGORIES:Kinderen,Animaties
ATTACH;FMTTYPE=image/png:https://www.woluwe1150.be/app/uploads/2025/03/fietsbib.png
ORGANIZER;CN="GC Kontakt":MAILTO:kontakt@vgc.be
END:VEVENT
BEGIN:VEVENT
DTSTART;TZID=Europe/Brussels:20260207T140000
DTEND;TZID=Europe/Brussels:20260207T180000
DTSTAMP:20260424T163640
CREATED:20260107T152515Z
LAST-MODIFIED:20260202T120443Z
UID:90074-1770472800-1770487200@www.woluwe1150.be
SUMMARY:Kindercarnaval 2026 - SOLD OUT
DESCRIPTION:De gemeente en de vzw Wolu-animaties nodigen u uit voor het kindercarnaval op zaterdag 7 februari van 14 tot 18 uur in het gemeenschapscentrum van Mooi-Bos (Shetlanddreef 15). \nEr zijn tal van activiteiten gepland voor kinderen van alle leeftijden: ballonclowns\, jongleurs\, steltlopers\, schminken\, verhalen\, babyhoek\, muzikale activiteiten\, bouwworkshop en confetti- en ballonloslaten. \nEten en drinken ter plaatse verkrijgbaar. \nTrek je beste kostuum aan en kom het met ons vieren! \nMeer info: njacqmin@woluwe1150.be (Dienst Animaties).
URL:https://www.woluwe1150.be/nl/event/kindercarnaval-2026/
LOCATION:centre communautaire de Joli-Bois\, 15 drève des Shetlands\, Woluwe-Saint-Pierre\, 1150
CATEGORIES:Kinderen,Animaties
ATTACH;FMTTYPE=image/png:https://www.woluwe1150.be/app/uploads/2026/01/carnaval_2026_soldout.png
ORGANIZER;CN="Service Animations - No%C3%ABlie Jacqmin":MAILTO:njacqmin@woluwe1150.be
END:VEVENT
BEGIN:VEVENT
DTSTART;TZID=Europe/Brussels:20260212T140000
DTEND;TZID=Europe/Brussels:20260212T160000
DTSTAMP:20260424T163640
CREATED:20260126T091541Z
LAST-MODIFIED:20260126T091541Z
UID:90614-1770904800-1770912000@www.woluwe1150.be
SUMMARY:Voorstelling Podcast: “De paardenwijk in Stokkel; de verdwenen renbaan van Sint-Pieters-Woluwe”
DESCRIPTION:De nieuwste aflevering van de podcastreeks (Zw)erfgoed\, van erfgoedcel Brussel speelt zich af in Sint-Pieters-Woluwe! \nWist je dat er ooit een enorme paardenrenbaan lag in Sint-Pieters-Woluwe? \nIn Stokkel denderden begin vorige eeuw paarden over een duizend meter lange piste\, wemelde het van de cafés voor jockeys en gokkers\, en sprak men er even vaak Engels als Frans of Nederlands. \nEen oude foto van een vrachtwagen vol hooi brengt ons bij de familie De Keuster\, al generaties lang verbonden met de ‘koers’. \nOntdek hoe Stokkel veranderde van landelijk gehucht tot bruisende trekpleister en beluister als eerste de nieuwe aflevering ‘De paardenwijk in Stokkel: de verdwenen renbaan van Sint-Pieters-Woluwe’ van de podcast (Zw)erfgoed tijdens een uniek luistermoment in het Dienstencentrum Het Koetshuis. \nTerwijl je luistert naar de aflevering\, word je visueel meegenomen door foto’s uit de Erfgoedbank Sint-Pieters-Woluwe uit die vervlogen tijd. Om het af te maken trakteren we op versgebakken pannenkoeken en lekkere koffie! \n  \n \n\n14u00-14u15: Introductie\n14u15-15u00: Podcastaflevering beluisteren\n15u00-16u00: Pannenkoeken en koffie\n\n  ?     ! \n  \n\nDatum: donderdag 12 februari\, van 14u tot 16u\nPlaats: Lokaal dienstencentrum Koetshuis – Orbanlaan 54\, 1150 Sint-Pieters-Woluwe \nToegang: \,     \n\nerfgoedbrussel@vgc.be\n02 563 05 82\nAan de balie van het Gemeenschapscentrum Kontakt: Orbanlaan 54\nOf via het online formulier: https://forms.office.com/e/9XKemxkzC2\n\n  \nFoto: Felix De Keuster en een werknemer bij een vrachtwagen van zijn vader François De Keuster\, handelaar in granen en paardenvoer\, en vervoerder van paarden. Foto genomen aan het Dumonplein in Stokkel in 1945. Erfgoedbank Sint-Pieters-Woluwe\, collectie Christian De Keuster.
URL:https://www.woluwe1150.be/nl/event/voorstelling-podcast-de-paardenwijk-in-stokkel-de-verdwenen-renbaan-van-sint-pieters-woluwe/
LOCATION:GC Kontakt\, 54 avenue Orbanlaan\, Sint-Pieters-Woluwe\, 1150
CATEGORIES:Animaties
ATTACH;FMTTYPE=image/jpeg:https://www.woluwe1150.be/app/uploads/2026/01/Stockel-ancienne-photo-scaled.jpg
ORGANIZER;CN="GC Kontakt":MAILTO:kontakt@vgc.be
END:VEVENT
BEGIN:VEVENT
DTSTART;TZID=Europe/Brussels:20260304T150000
DTEND;TZID=Europe/Brussels:20260304T180000
DTSTAMP:20260424T163640
CREATED:20260223T133141Z
LAST-MODIFIED:20260223T133141Z
UID:92573-1772636400-1772647200@www.woluwe1150.be
SUMMARY:Fietsbieb
DESCRIPTION:Heeft je kind een fiets nodig\, maar zie je op tegen de hoge aankoopprijs? Of ben je van mening dat een fiets vlot van eigenaar moet kunnen wisselen? Word lid van de Fietsbieb en fiets zonder zorgen. \nBij de Fietsbieb kan je kinderfietsen goedkoop lenen\, met een aanbod voor kinderen tot 12 jaar. De Fietsbieb is een project van beweging.net en draait vooral op de inzet van vrijwilligers\, actief in de lokale uitleenpunten. Net zoals bij elk deelsysteem steunt de Fietsbieb op onderling respect\, vertrouwen en solidariteit. \nMeer info
URL:https://www.woluwe1150.be/nl/event/fietsbieb-5/
LOCATION:GC Kontakt\, 54 avenue Orbanlaan\, Sint-Pieters-Woluwe\, 1150
CATEGORIES:Kinderen,Animaties
ATTACH;FMTTYPE=image/png:https://www.woluwe1150.be/app/uploads/2025/03/fietsbib.png
ORGANIZER;CN="GC Kontakt":MAILTO:kontakt@vgc.be
END:VEVENT
BEGIN:VEVENT
DTSTART;TZID=Europe/Brussels:20260305T190000
DTEND;TZID=Europe/Brussels:20260305T203000
DTSTAMP:20260424T163640
CREATED:20260223T133049Z
LAST-MODIFIED:20260223T133104Z
UID:92567-1772737200-1772742600@www.woluwe1150.be
SUMMARY:Julien’s kitchen : Bangkok express
DESCRIPTION:Geen ingewikkelde technieken\, geen obscure ingrediënten\, wel pure smaak en slimme shortcuts. \nIn deze workshop leer je hoe je in no-time vibrant Zuid-Oost-Aziatische gerechten op tafel zet; ideaal voor drukke avonden. \nInfo en reservatie
URL:https://www.woluwe1150.be/nl/event/bangkok-express/
LOCATION:GC Kontakt\, 54 avenue Orbanlaan\, Sint-Pieters-Woluwe\, 1150
CATEGORIES:Animaties
ATTACH;FMTTYPE=image/png:https://www.woluwe1150.be/app/uploads/2026/02/bangkok_express.png
ORGANIZER;CN="GC Kontakt":MAILTO:kontakt@vgc.be
END:VEVENT
BEGIN:VEVENT
DTSTART;TZID=Europe/Brussels:20260320T180000
DTEND;TZID=Europe/Brussels:20260320T200000
DTSTAMP:20260424T163640
CREATED:20260223T134202Z
LAST-MODIFIED:20260223T134202Z
UID:92586-1774029600-1774036800@www.woluwe1150.be
SUMMARY:Smash Burger Family Day
DESCRIPTION:Smash. Flip. Laugh. Eat. Repeat. Samen burgers maken met crispy edges & gesmolten kaas. We delen de geheimen van fast-food techniek\, maar met liefde voor kwaliteit en smaak! Kom met het hele gezin\, pak een spatel en geniet van cheesy smash burgers in de tuin. Let’s smash\, melt & bond. \nInfo en reservatie
URL:https://www.woluwe1150.be/nl/event/smash-burger-family-day/
LOCATION:GC Kontakt\, 54 avenue Orbanlaan\, Sint-Pieters-Woluwe\, 1150
CATEGORIES:Animaties
ATTACH;FMTTYPE=image/png:https://www.woluwe1150.be/app/uploads/2026/02/smashburger.png
ORGANIZER;CN="GC Kontakt":MAILTO:kontakt@vgc.be
END:VEVENT
BEGIN:VEVENT
DTSTART;TZID=Europe/Brussels:20260323T190000
DTEND;TZID=Europe/Brussels:20260327T170000
DTSTAMP:20260424T163640
CREATED:20260223T134643Z
LAST-MODIFIED:20260223T134643Z
UID:92593-1774292400-1774630800@www.woluwe1150.be
SUMMARY:THE WEEK: think\, participate & share
DESCRIPTION:De milieucrisis voelt vaak abstract en overweldigend aan.\n‘The Week’ is een manier om dit onderwerp echt aan te kaarten met\nvrienden\, familie\, collega’s en buren samen.\nHet vertelt ons niet wat we moeten doen\, maar stelt ons in staat om zelf\neen besluit te nemen.\nZodat we later kunnen zeggen: “Ik wist wat ik moest weten\, ik heb gedaan\nwat ik moest doen en ik heb geen spijt”? \nGratis \nInschrijving
URL:https://www.woluwe1150.be/nl/event/the-week-think-participate-share/
LOCATION:GC Kontakt\, 54 avenue Orbanlaan\, Sint-Pieters-Woluwe\, 1150
CATEGORIES:Animaties,Duurzame ontwikkeling
ATTACH;FMTTYPE=image/png:https://www.woluwe1150.be/app/uploads/2026/01/Woluwe1150_The-Week.png
ORGANIZER;CN="GC Kontakt":MAILTO:kontakt@vgc.be
END:VEVENT
BEGIN:VEVENT
DTSTART;TZID=Europe/Brussels:20260401T150000
DTEND;TZID=Europe/Brussels:20260401T180000
DTSTAMP:20260424T163640
CREATED:20260223T133215Z
LAST-MODIFIED:20260319T141635Z
UID:92575-1775055600-1775066400@www.woluwe1150.be
SUMMARY:Fietsbieb
DESCRIPTION:Heeft je kind een fiets nodig\, maar zie je op tegen de hoge aankoopprijs? Of ben je van mening dat een fiets vlot van eigenaar moet kunnen wisselen? Word lid van de Fietsbieb en fiets zonder zorgen. \nBij de Fietsbieb kan je kinderfietsen goedkoop lenen\, met een aanbod voor kinderen tot 12 jaar. De Fietsbieb is een project van beweging.net en draait vooral op de inzet van vrijwilligers\, actief in de lokale uitleenpunten. Net zoals bij elk deelsysteem steunt de Fietsbieb op onderling respect\, vertrouwen en solidariteit. \nMeer info
URL:https://www.woluwe1150.be/nl/event/fietsbieb-6/
LOCATION:GC Kontakt\, 54 avenue Orbanlaan\, Sint-Pieters-Woluwe\, 1150
CATEGORIES:Kinderen,Animaties
ATTACH;FMTTYPE=image/png:https://www.woluwe1150.be/app/uploads/2025/03/fietsbib.png
ORGANIZER;CN="GC Kontakt":MAILTO:kontakt@vgc.be
END:VEVENT
BEGIN:VEVENT
DTSTART;TZID=Europe/Brussels:20260402T190000
DTEND;TZID=Europe/Brussels:20260402T203000
DTSTAMP:20260424T163640
CREATED:20260319T141909Z
LAST-MODIFIED:20260319T141909Z
UID:93380-1775156400-1775161800@www.woluwe1150.be
SUMMARY:Batch Cooking 101
DESCRIPTION:Geen zin om elke avond te stressen over “wat eten we?” In deze workshop leer je in 2 uur hoe je met één slimme kookplanning de hele week sneller\, gezonder en relaxter kookt.\nWe tonen je: \n\nhoe je een weekmenu opbouwt\nwelke basics je vooraf klaarmaakt\nsnij- & bewaartechnieken\nslimme combinaties voor variatie\n\nWe koken samen een paar key voorbereidingen zodat je meteen thuis aan de slag kan. Minder denkwerk. Minder afwas. Meer rust. Meer smaak. Meal prep\, maar dan leuk\, flexibel en superpraktisch. \nInfo en inschrijving
URL:https://www.woluwe1150.be/nl/event/batch-cooking-101/
LOCATION:GC Kontakt\, 54 avenue Orbanlaan\, Sint-Pieters-Woluwe\, 1150
CATEGORIES:Animaties
ATTACH;FMTTYPE=image/png:https://www.woluwe1150.be/app/uploads/2026/03/batch_cooking.png
ORGANIZER;CN="GC Kontakt":MAILTO:kontakt@vgc.be
END:VEVENT
BEGIN:VEVENT
DTSTART;TZID=Europe/Brussels:20260422T130000
DTEND;TZID=Europe/Brussels:20260422T170000
DTSTAMP:20260424T163640
CREATED:20260319T142216Z
LAST-MODIFIED:20260319T142216Z
UID:93385-1776862800-1776877200@www.woluwe1150.be
SUMMARY:Buitenspeeldag
DESCRIPTION:Kom mee buiten ravotten! Durf jij van de 10 meter hoge death ride te zoeven? Laat je snoetje omtoveren met kleurrijke schmink\, duik in een reeks knotsgekke binnen- en buitenspelletjes en verwen je smaakpapillen met heerlijke lekkernijen. Fun\, fun\, FUN verzekerd!
URL:https://www.woluwe1150.be/nl/event/buitenspeeldag-3/
LOCATION:GC Kontakt\, 54 avenue Orbanlaan\, Sint-Pieters-Woluwe\, 1150
CATEGORIES:Kinderen,Animaties
ATTACH;FMTTYPE=image/jpeg:https://www.woluwe1150.be/app/uploads/2026/03/Kontakt-buitenspeeldag.jpeg
ORGANIZER;CN="GC Kontakt":MAILTO:kontakt@vgc.be
END:VEVENT
BEGIN:VEVENT
DTSTART;TZID=Europe/Brussels:20260506T150000
DTEND;TZID=Europe/Brussels:20260506T180000
DTSTAMP:20260424T163640
CREATED:20260421T125934Z
LAST-MODIFIED:20260421T125934Z
UID:94519-1778079600-1778090400@www.woluwe1150.be
SUMMARY:Fietsbieb
DESCRIPTION:Heeft je kind een fiets nodig\, maar zie je op tegen de hoge aankoopprijs? Of ben je van mening dat een fiets vlot van eigenaar moet kunnen wisselen? Word lid van de Fietsbieb en fiets zonder zorgen. \nBij de Fietsbieb kan je kinderfietsen goedkoop lenen\, met een aanbod voor kinderen tot 12 jaar. De Fietsbieb is een project van beweging.net en draait vooral op de inzet van vrijwilligers\, actief in de lokale uitleenpunten. Net zoals bij elk deelsysteem steunt de Fietsbieb op onderling respect\, vertrouwen en solidariteit. \nMeer info
URL:https://www.woluwe1150.be/nl/event/fietsbieb-7/
LOCATION:GC Kontakt\, 54 avenue Orbanlaan\, Sint-Pieters-Woluwe\, 1150
CATEGORIES:Kinderen,Animaties
ATTACH;FMTTYPE=image/png:https://www.woluwe1150.be/app/uploads/2025/03/fietsbib.png
ORGANIZER;CN="GC Kontakt":MAILTO:kontakt@vgc.be
END:VEVENT
BEGIN:VEVENT
DTSTART;TZID=Europe/Brussels:20260507T190000
DTEND;TZID=Europe/Brussels:20260507T203000
DTSTAMP:20260424T163640
CREATED:20260421T130219Z
LAST-MODIFIED:20260421T130219Z
UID:94521-1778180400-1778185800@www.woluwe1150.be
SUMMARY:Taco Night
DESCRIPTION:Tortillas from scratch: mais\, masa\, magie. We roosteren\, knijpen limoenen\, smashen avocado\, bouwen lagen smaak en zuur. Met vlees én killer veggie fillings. Let’s go to Mexico! \nInfo & reservatie
URL:https://www.woluwe1150.be/nl/event/taco-night/
LOCATION:GC Kontakt\, 54 avenue Orbanlaan\, Sint-Pieters-Woluwe\, 1150
CATEGORIES:Animaties
ATTACH;FMTTYPE=image/png:https://www.woluwe1150.be/app/uploads/2026/04/taco_night.png
ORGANIZER;CN="GC Kontakt":MAILTO:kontakt@vgc.be
END:VEVENT
END:VCALENDAR