BEGIN:VCALENDAR
VERSION:2.0
PRODID:-//Woluwe Saint Pierre - ECPv6.13.2//NONSGML v1.0//EN
CALSCALE:GREGORIAN
METHOD:PUBLISH
X-WR-CALNAME:Woluwe Saint Pierre
X-ORIGINAL-URL:https://www.woluwe1150.be/nl/
X-WR-CALDESC:Evenementen voor Woluwe Saint Pierre
REFRESH-INTERVAL;VALUE=DURATION:PT1H
X-Robots-Tag:noindex
X-PUBLISHED-TTL:PT1H
BEGIN:VTIMEZONE
TZID:Europe/Brussels
BEGIN:DAYLIGHT
TZOFFSETFROM:+0100
TZOFFSETTO:+0200
TZNAME:CEST
DTSTART:20260329T010000
END:DAYLIGHT
BEGIN:STANDARD
TZOFFSETFROM:+0200
TZOFFSETTO:+0100
TZNAME:CET
DTSTART:20261025T010000
END:STANDARD
END:VTIMEZONE
BEGIN:VEVENT
DTSTART;TZID=Europe/Brussels:20260422T130000
DTEND;TZID=Europe/Brussels:20260422T170000
DTSTAMP:20260424T180943
CREATED:20260319T142216Z
LAST-MODIFIED:20260319T142216Z
UID:93385-1776862800-1776877200@www.woluwe1150.be
SUMMARY:Buitenspeeldag
DESCRIPTION:Kom mee buiten ravotten! Durf jij van de 10 meter hoge death ride te zoeven? Laat je snoetje omtoveren met kleurrijke schmink\, duik in een reeks knotsgekke binnen- en buitenspelletjes en verwen je smaakpapillen met heerlijke lekkernijen. Fun\, fun\, FUN verzekerd!
URL:https://www.woluwe1150.be/nl/event/buitenspeeldag-3/
LOCATION:GC Kontakt\, 54 avenue Orbanlaan\, Sint-Pieters-Woluwe\, 1150
CATEGORIES:Kinderen,Animaties
ATTACH;FMTTYPE=image/jpeg:https://www.woluwe1150.be/app/uploads/2026/03/Kontakt-buitenspeeldag.jpeg
ORGANIZER;CN="GC Kontakt":MAILTO:kontakt@vgc.be
END:VEVENT
END:VCALENDAR