BEGIN:VCALENDAR
VERSION:2.0
PRODID:-//Woluwe Saint Pierre - ECPv6.13.2//NONSGML v1.0//EN
CALSCALE:GREGORIAN
METHOD:PUBLISH
X-WR-CALNAME:Woluwe Saint Pierre
X-ORIGINAL-URL:https://www.woluwe1150.be/nl/
X-WR-CALDESC:Evenementen voor Woluwe Saint Pierre
REFRESH-INTERVAL;VALUE=DURATION:PT1H
X-Robots-Tag:noindex
X-PUBLISHED-TTL:PT1H
BEGIN:VTIMEZONE
TZID:Europe/Brussels
BEGIN:DAYLIGHT
TZOFFSETFROM:+0100
TZOFFSETTO:+0200
TZNAME:CEST
DTSTART:20260329T010000
END:DAYLIGHT
BEGIN:STANDARD
TZOFFSETFROM:+0200
TZOFFSETTO:+0100
TZNAME:CET
DTSTART:20261025T010000
END:STANDARD
END:VTIMEZONE
BEGIN:VEVENT
DTSTART;TZID=Europe/Brussels:20260426T100000
DTEND;TZID=Europe/Brussels:20260426T120000
DTSTAMP:20260424T174806
CREATED:20260319T151107Z
LAST-MODIFIED:20260319T151107Z
UID:93398-1777197600-1777204800@www.woluwe1150.be
SUMMARY:Kids can cook - april
DESCRIPTION:Kom samen kokkerellen met je (klein)kind. Ikram bedenkt leuke en originele receptjes die je gemakkelijk samen kan maken. \nMeer info
URL:https://www.woluwe1150.be/nl/event/kids-can-cook-april/
LOCATION:GC Kontakt\, 54 avenue Orbanlaan\, Sint-Pieters-Woluwe\, 1150
CATEGORIES:Kinderen
ATTACH;FMTTYPE=image/png:https://www.woluwe1150.be/app/uploads/2025/08/kids_cook.png
ORGANIZER;CN="GC Kontakt":MAILTO:kontakt@vgc.be
END:VEVENT
BEGIN:VEVENT
DTSTART;TZID=Europe/Brussels:20260426T150000
DTEND;TZID=Europe/Brussels:20260426T173000
DTSTAMP:20260424T174806
CREATED:20260319T142335Z
LAST-MODIFIED:20260319T142335Z
UID:93391-1777215600-1777224600@www.woluwe1150.be
SUMMARY:Spellenfeest
DESCRIPTION:Kom op zondag samen met je kids naar Kontakt. Geniet van een gratis pannenkoek en heerlijke spelletjes. \nVan reuze-Jenga tot Parachutes\, van Monopoly tot elkaar schaakmat zetten. \nNeem gerust je favoriete spel mee\, wie weet kan iemand anders er mee van genieten! \nMeer info
URL:https://www.woluwe1150.be/nl/event/spellenfeest-8/
LOCATION:GC Kontakt\, 54 avenue Orbanlaan\, Sint-Pieters-Woluwe\, 1150
CATEGORIES:Kinderen
ATTACH;FMTTYPE=image/png:https://www.woluwe1150.be/app/uploads/2025/09/spellenfest.png
ORGANIZER;CN="GC Kontakt":MAILTO:kontakt@vgc.be
END:VEVENT
END:VCALENDAR