BEGIN:VCALENDAR
VERSION:2.0
PRODID:-//Woluwe Saint Pierre - ECPv6.13.2//NONSGML v1.0//EN
CALSCALE:GREGORIAN
METHOD:PUBLISH
X-WR-CALNAME:Woluwe Saint Pierre
X-ORIGINAL-URL:https://www.woluwe1150.be/nl/
X-WR-CALDESC:Evenementen voor Woluwe Saint Pierre
REFRESH-INTERVAL;VALUE=DURATION:PT1H
X-Robots-Tag:noindex
X-PUBLISHED-TTL:PT1H
BEGIN:VTIMEZONE
TZID:Europe/Brussels
BEGIN:DAYLIGHT
TZOFFSETFROM:+0100
TZOFFSETTO:+0200
TZNAME:CEST
DTSTART:20250330T010000
END:DAYLIGHT
BEGIN:STANDARD
TZOFFSETFROM:+0200
TZOFFSETTO:+0100
TZNAME:CET
DTSTART:20251026T010000
END:STANDARD
BEGIN:DAYLIGHT
TZOFFSETFROM:+0100
TZOFFSETTO:+0200
TZNAME:CEST
DTSTART:20260329T010000
END:DAYLIGHT
BEGIN:STANDARD
TZOFFSETFROM:+0200
TZOFFSETTO:+0100
TZNAME:CET
DTSTART:20261025T010000
END:STANDARD
END:VTIMEZONE
BEGIN:VEVENT
DTSTART;TZID=Europe/Brussels:20260422T130000
DTEND;TZID=Europe/Brussels:20260422T170000
DTSTAMP:20260424T155553
CREATED:20260319T142216Z
LAST-MODIFIED:20260319T142216Z
UID:93385-1776862800-1776877200@www.woluwe1150.be
SUMMARY:Buitenspeeldag
DESCRIPTION:Kom mee buiten ravotten! Durf jij van de 10 meter hoge death ride te zoeven? Laat je snoetje omtoveren met kleurrijke schmink\, duik in een reeks knotsgekke binnen- en buitenspelletjes en verwen je smaakpapillen met heerlijke lekkernijen. Fun\, fun\, FUN verzekerd!
URL:https://www.woluwe1150.be/nl/event/buitenspeeldag-3/
LOCATION:GC Kontakt\, 54 avenue Orbanlaan\, Sint-Pieters-Woluwe\, 1150
CATEGORIES:Kinderen,Animaties
ATTACH;FMTTYPE=image/jpeg:https://www.woluwe1150.be/app/uploads/2026/03/Kontakt-buitenspeeldag.jpeg
ORGANIZER;CN="GC Kontakt":MAILTO:kontakt@vgc.be
END:VEVENT
BEGIN:VEVENT
DTSTART;TZID=Europe/Brussels:20260401T150000
DTEND;TZID=Europe/Brussels:20260401T180000
DTSTAMP:20260424T155553
CREATED:20260223T133215Z
LAST-MODIFIED:20260319T141635Z
UID:92575-1775055600-1775066400@www.woluwe1150.be
SUMMARY:Fietsbieb
DESCRIPTION:Heeft je kind een fiets nodig\, maar zie je op tegen de hoge aankoopprijs? Of ben je van mening dat een fiets vlot van eigenaar moet kunnen wisselen? Word lid van de Fietsbieb en fiets zonder zorgen. \nBij de Fietsbieb kan je kinderfietsen goedkoop lenen\, met een aanbod voor kinderen tot 12 jaar. De Fietsbieb is een project van beweging.net en draait vooral op de inzet van vrijwilligers\, actief in de lokale uitleenpunten. Net zoals bij elk deelsysteem steunt de Fietsbieb op onderling respect\, vertrouwen en solidariteit. \nMeer info
URL:https://www.woluwe1150.be/nl/event/fietsbieb-6/
LOCATION:GC Kontakt\, 54 avenue Orbanlaan\, Sint-Pieters-Woluwe\, 1150
CATEGORIES:Kinderen,Animaties
ATTACH;FMTTYPE=image/png:https://www.woluwe1150.be/app/uploads/2025/03/fietsbib.png
ORGANIZER;CN="GC Kontakt":MAILTO:kontakt@vgc.be
END:VEVENT
BEGIN:VEVENT
DTSTART;TZID=Europe/Brussels:20260322T100000
DTEND;TZID=Europe/Brussels:20260322T120000
DTSTAMP:20260424T155553
CREATED:20260223T134314Z
LAST-MODIFIED:20260223T134314Z
UID:92591-1774173600-1774180800@www.woluwe1150.be
SUMMARY:Kids can cook - maart
DESCRIPTION:Kom samen kokkerellen met je (klein)kind. Ikram bedenkt leuke en originele receptjes die je gemakkelijk samen kan maken. \nMeer info
URL:https://www.woluwe1150.be/nl/event/kids-can-cook-maart/
LOCATION:GC Kontakt\, 54 avenue Orbanlaan\, Sint-Pieters-Woluwe\, 1150
CATEGORIES:Kinderen
ATTACH;FMTTYPE=image/png:https://www.woluwe1150.be/app/uploads/2025/08/kids_cook.png
ORGANIZER;CN="GC Kontakt":MAILTO:kontakt@vgc.be
END:VEVENT
BEGIN:VEVENT
DTSTART;TZID=Europe/Brussels:20260315T150000
DTEND;TZID=Europe/Brussels:20260315T173000
DTSTAMP:20260424T155553
CREATED:20260223T133920Z
LAST-MODIFIED:20260223T133920Z
UID:92584-1773586800-1773595800@www.woluwe1150.be
SUMMARY:Spellenfeest
DESCRIPTION:Kom op zondag samen met je kids naar Kontakt. Geniet van een gratis pannenkoek en heerlijke spelletjes. \nVan reuze-Jenga tot Parachutes\, van Monopoly tot elkaar schaakmat zetten. \nNeem gerust je favoriete spel mee\, wie weet kan iemand anders er mee van genieten! \nMeer info
URL:https://www.woluwe1150.be/nl/event/spellenfeest-7/
LOCATION:GC Kontakt\, 54 avenue Orbanlaan\, Sint-Pieters-Woluwe\, 1150
CATEGORIES:Kinderen
ATTACH;FMTTYPE=image/png:https://www.woluwe1150.be/app/uploads/2025/09/spellenfest.png
ORGANIZER;CN="GC Kontakt":MAILTO:kontakt@vgc.be
END:VEVENT
BEGIN:VEVENT
DTSTART;TZID=Europe/Brussels:20260304T150000
DTEND;TZID=Europe/Brussels:20260304T180000
DTSTAMP:20260424T155553
CREATED:20260223T133141Z
LAST-MODIFIED:20260223T133141Z
UID:92573-1772636400-1772647200@www.woluwe1150.be
SUMMARY:Fietsbieb
DESCRIPTION:Heeft je kind een fiets nodig\, maar zie je op tegen de hoge aankoopprijs? Of ben je van mening dat een fiets vlot van eigenaar moet kunnen wisselen? Word lid van de Fietsbieb en fiets zonder zorgen. \nBij de Fietsbieb kan je kinderfietsen goedkoop lenen\, met een aanbod voor kinderen tot 12 jaar. De Fietsbieb is een project van beweging.net en draait vooral op de inzet van vrijwilligers\, actief in de lokale uitleenpunten. Net zoals bij elk deelsysteem steunt de Fietsbieb op onderling respect\, vertrouwen en solidariteit. \nMeer info
URL:https://www.woluwe1150.be/nl/event/fietsbieb-5/
LOCATION:GC Kontakt\, 54 avenue Orbanlaan\, Sint-Pieters-Woluwe\, 1150
CATEGORIES:Kinderen,Animaties
ATTACH;FMTTYPE=image/png:https://www.woluwe1150.be/app/uploads/2025/03/fietsbib.png
ORGANIZER;CN="GC Kontakt":MAILTO:kontakt@vgc.be
END:VEVENT
BEGIN:VEVENT
DTSTART;TZID=Europe/Brussels:20260215T150000
DTEND;TZID=Europe/Brussels:20260215T173000
DTSTAMP:20260424T155553
CREATED:20260126T111934Z
LAST-MODIFIED:20260126T111934Z
UID:90659-1771167600-1771176600@www.woluwe1150.be
SUMMARY:Spellenfeest
DESCRIPTION:Kom op zondag samen met je kids naar Kontakt. Geniet van een gratis pannenkoek en heerlijke spelletjes. \nVan reuze-Jenga tot Parachutes\, van Monopoly tot elkaar schaakmat zetten. \nNeem gerust je favoriete spel mee\, wie weet kan iemand anders er mee van genieten! \nMeer info
URL:https://www.woluwe1150.be/nl/event/spellenfeest-6/
LOCATION:GC Kontakt\, 54 avenue Orbanlaan\, Sint-Pieters-Woluwe\, 1150
CATEGORIES:Kinderen
ATTACH;FMTTYPE=image/png:https://www.woluwe1150.be/app/uploads/2025/09/spellenfest.png
ORGANIZER;CN="GC Kontakt":MAILTO:kontakt@vgc.be
END:VEVENT
BEGIN:VEVENT
DTSTART;TZID=Europe/Brussels:20260215T100000
DTEND;TZID=Europe/Brussels:20260215T120000
DTSTAMP:20260424T155553
CREATED:20260126T102000Z
LAST-MODIFIED:20260126T102000Z
UID:90657-1771149600-1771156800@www.woluwe1150.be
SUMMARY:Kids can cook
DESCRIPTION:Kom samen kokkerellen met je (klein)kind. Ikram bedenkt leuke en originele receptjes die je gemakkelijk samen kan maken. \nMeer info
URL:https://www.woluwe1150.be/nl/event/kids-can-cook-7/
LOCATION:GC Kontakt\, 54 avenue Orbanlaan\, Sint-Pieters-Woluwe\, 1150
CATEGORIES:Kinderen
ATTACH;FMTTYPE=image/png:https://www.woluwe1150.be/app/uploads/2025/08/kids_cook.png
ORGANIZER;CN="GC Kontakt":MAILTO:kontakt@vgc.be
END:VEVENT
BEGIN:VEVENT
DTSTART;TZID=Europe/Brussels:20260207T140000
DTEND;TZID=Europe/Brussels:20260207T180000
DTSTAMP:20260424T155553
CREATED:20260107T152515Z
LAST-MODIFIED:20260202T120443Z
UID:90074-1770472800-1770487200@www.woluwe1150.be
SUMMARY:Kindercarnaval 2026 - SOLD OUT
DESCRIPTION:De gemeente en de vzw Wolu-animaties nodigen u uit voor het kindercarnaval op zaterdag 7 februari van 14 tot 18 uur in het gemeenschapscentrum van Mooi-Bos (Shetlanddreef 15). \nEr zijn tal van activiteiten gepland voor kinderen van alle leeftijden: ballonclowns\, jongleurs\, steltlopers\, schminken\, verhalen\, babyhoek\, muzikale activiteiten\, bouwworkshop en confetti- en ballonloslaten. \nEten en drinken ter plaatse verkrijgbaar. \nTrek je beste kostuum aan en kom het met ons vieren! \nMeer info: njacqmin@woluwe1150.be (Dienst Animaties).
URL:https://www.woluwe1150.be/nl/event/kindercarnaval-2026/
LOCATION:centre communautaire de Joli-Bois\, 15 drève des Shetlands\, Woluwe-Saint-Pierre\, 1150
CATEGORIES:Kinderen,Animaties
ATTACH;FMTTYPE=image/png:https://www.woluwe1150.be/app/uploads/2026/01/carnaval_2026_soldout.png
ORGANIZER;CN="Service Animations - No%C3%ABlie Jacqmin":MAILTO:njacqmin@woluwe1150.be
END:VEVENT
BEGIN:VEVENT
DTSTART;TZID=Europe/Brussels:20260204T150000
DTEND;TZID=Europe/Brussels:20260204T180000
DTSTAMP:20260424T155553
CREATED:20260126T101038Z
LAST-MODIFIED:20260126T101038Z
UID:90652-1770217200-1770228000@www.woluwe1150.be
SUMMARY:Fietsbieb
DESCRIPTION:Heeft je kind een fiets nodig\, maar zie je op tegen de hoge aankoopprijs? Of ben je van mening dat een fiets vlot van eigenaar moet kunnen wisselen? Word lid van de Fietsbieb en fiets zonder zorgen. \nBij de Fietsbieb kan je kinderfietsen goedkoop lenen\, met een aanbod voor kinderen tot 12 jaar. De Fietsbieb is een project van beweging.net en draait vooral op de inzet van vrijwilligers\, actief in de lokale uitleenpunten. Net zoals bij elk deelsysteem steunt de Fietsbieb op onderling respect\, vertrouwen en solidariteit. \nMeer info
URL:https://www.woluwe1150.be/nl/event/fietsbieb-4/
LOCATION:GC Kontakt\, 54 avenue Orbanlaan\, Sint-Pieters-Woluwe\, 1150
CATEGORIES:Kinderen,Animaties
ATTACH;FMTTYPE=image/png:https://www.woluwe1150.be/app/uploads/2025/03/fietsbib.png
ORGANIZER;CN="GC Kontakt":MAILTO:kontakt@vgc.be
END:VEVENT
BEGIN:VEVENT
DTSTART;TZID=Europe/Brussels:20260111T150000
DTEND;TZID=Europe/Brussels:20260111T173000
DTSTAMP:20260424T155553
CREATED:20251209T143837Z
LAST-MODIFIED:20251209T143837Z
UID:88572-1768143600-1768152600@www.woluwe1150.be
SUMMARY:Spellenfeest
DESCRIPTION:Kom op zondag samen met je kids naar Kontakt. Geniet van een gratis pannenkoek en heerlijke spelletjes. \nVan reuze-Jenga tot Parachutes\, van Monopoly tot elkaar schaakmat zetten. \nNeem gerust je favoriete spel mee\, wie weet kan iemand anders er mee van genieten! \nMeer info
URL:https://www.woluwe1150.be/nl/event/spellenfeest-5/
LOCATION:GC Kontakt\, 54 avenue Orbanlaan\, Sint-Pieters-Woluwe\, 1150
CATEGORIES:Kinderen
ATTACH;FMTTYPE=image/png:https://www.woluwe1150.be/app/uploads/2025/09/spellenfest.png
ORGANIZER;CN="GC Kontakt":MAILTO:kontakt@vgc.be
END:VEVENT
BEGIN:VEVENT
DTSTART;TZID=Europe/Brussels:20251207T150000
DTEND;TZID=Europe/Brussels:20251207T173000
DTSTAMP:20260424T155553
CREATED:20251120T104332Z
LAST-MODIFIED:20251120T104332Z
UID:87003-1765119600-1765128600@www.woluwe1150.be
SUMMARY:Spellenfeest
DESCRIPTION:Kom op zondag samen met je kids naar Kontakt. Geniet van een gratis pannenkoek en heerlijke spelletjes. \nVan reuze-Jenga tot Parachutes\, van Monopoly tot elkaar schaakmat zetten. \nNeem gerust je favoriete spel mee\, wie weet kan iemand anders er mee van genieten! \nMeer info
URL:https://www.woluwe1150.be/nl/event/spellenfeest-4/
LOCATION:GC Kontakt\, 54 avenue Orbanlaan\, Sint-Pieters-Woluwe\, 1150
CATEGORIES:Kinderen
ATTACH;FMTTYPE=image/png:https://www.woluwe1150.be/app/uploads/2025/09/spellenfest.png
ORGANIZER;CN="GC Kontakt":MAILTO:kontakt@vgc.be
END:VEVENT
BEGIN:VEVENT
DTSTART;TZID=Europe/Brussels:20251203T150000
DTEND;TZID=Europe/Brussels:20251203T180000
DTSTAMP:20260424T155553
CREATED:20251120T104153Z
LAST-MODIFIED:20251120T104153Z
UID:87001-1764774000-1764784800@www.woluwe1150.be
SUMMARY:Fietsbieb
DESCRIPTION:Heeft je kind een fiets nodig\, maar zie je op tegen de hoge aankoopprijs? Of ben je van mening dat een fiets vlot van eigenaar moet kunnen wisselen? Word lid van de Fietsbieb en fiets zonder zorgen. \nBij de Fietsbieb kan je kinderfietsen goedkoop lenen\, met een aanbod voor kinderen tot 12 jaar. De Fietsbieb is een project van beweging.net en draait vooral op de inzet van vrijwilligers\, actief in de lokale uitleenpunten. Net zoals bij elk deelsysteem steunt de Fietsbieb op onderling respect\, vertrouwen en solidariteit. \nMeer info
URL:https://www.woluwe1150.be/nl/event/fietsbieb-3/
LOCATION:GC Kontakt\, 54 avenue Orbanlaan\, Sint-Pieters-Woluwe\, 1150
CATEGORIES:Kinderen,Animaties
ATTACH;FMTTYPE=image/png:https://www.woluwe1150.be/app/uploads/2025/03/fietsbib.png
ORGANIZER;CN="GC Kontakt":MAILTO:kontakt@vgc.be
END:VEVENT
BEGIN:VEVENT
DTSTART;TZID=Europe/Brussels:20251126T140000
DTEND;TZID=Europe/Brussels:20251126T180000
DTSTAMP:20260424T155553
CREATED:20251020T130331Z
LAST-MODIFIED:20251020T130331Z
UID:85725-1764165600-1764180000@www.woluwe1150.be
SUMMARY:Sinterklaas parade
DESCRIPTION:Sinterklaas zal op woensdag 26 november van 14u tot 18u de straten van Sint-Pieters-Woluwe bezoeken\, tot groot genoegen van kinderen van alle leeftijden\, aan wie hij snoepjes en mandarijnen zal uitdelen. \nHij zal door alle wijken van de gemeente trekken en verschillende keren stoppen om de kinderen te ontmoeten. We zien jullie graag om 14u30 op het Sint-Aleidisvoorplein\, rond 15u45 voor Onze-Lieve-Vrouw der Genadekerk (Vogelzang) en om 17u op het Meiersplein\, waar ouders ook boodschappen kunnen doen op de markt.
URL:https://www.woluwe1150.be/nl/event/sinterklaas-parade/
CATEGORIES:Kinderen
ATTACH;FMTTYPE=image/png:https://www.woluwe1150.be/app/uploads/2025/10/saint-nicolas_2025_nl.png
END:VEVENT
BEGIN:VEVENT
DTSTART;TZID=Europe/Brussels:20251116T150000
DTEND;TZID=Europe/Brussels:20251116T173000
DTSTAMP:20260424T155553
CREATED:20251020T135650Z
LAST-MODIFIED:20251020T135650Z
UID:85749-1763305200-1763314200@www.woluwe1150.be
SUMMARY:Spellenfeest
DESCRIPTION:Kom op zondag samen met je kids naar Kontakt. Geniet van een gratis pannenkoek en heerlijke spelletjes. \nVan reuze-Jenga tot Parachutes\, van Monopoly tot elkaar schaakmat zetten. \nNeem gerust je favoriete spel mee\, wie weet kan iemand anders er mee van genieten! \nMeer info
URL:https://www.woluwe1150.be/nl/event/spellenfeest-3/
LOCATION:GC Kontakt\, 54 avenue Orbanlaan\, Sint-Pieters-Woluwe\, 1150
CATEGORIES:Kinderen
ATTACH;FMTTYPE=image/png:https://www.woluwe1150.be/app/uploads/2025/09/spellenfest.png
ORGANIZER;CN="GC Kontakt":MAILTO:kontakt@vgc.be
END:VEVENT
BEGIN:VEVENT
DTSTART;TZID=Europe/Brussels:20251116T100000
DTEND;TZID=Europe/Brussels:20251116T120000
DTSTAMP:20260424T155553
CREATED:20251020T135532Z
LAST-MODIFIED:20251020T135532Z
UID:85747-1763287200-1763294400@www.woluwe1150.be
SUMMARY:Kids can cook
DESCRIPTION:Kom samen kokkerellen met je (klein)kind. Ikram bedenkt leuke en originele receptjes die je gemakkelijk samen kan maken. \nMeer info
URL:https://www.woluwe1150.be/nl/event/kids-can-cook-6/
LOCATION:GC Kontakt\, 54 avenue Orbanlaan\, Sint-Pieters-Woluwe\, 1150
CATEGORIES:Kinderen
ATTACH;FMTTYPE=image/png:https://www.woluwe1150.be/app/uploads/2025/08/kids_cook.png
ORGANIZER;CN="GC Kontakt":MAILTO:kontakt@vgc.be
END:VEVENT
BEGIN:VEVENT
DTSTART;TZID=Europe/Brussels:20251105T150000
DTEND;TZID=Europe/Brussels:20251105T180000
DTSTAMP:20260424T155553
CREATED:20251020T140437Z
LAST-MODIFIED:20251020T140628Z
UID:85756-1762354800-1762365600@www.woluwe1150.be
SUMMARY:Fietsbieb
DESCRIPTION:Heeft je kind een fiets nodig\, maar zie je op tegen de hoge aankoopprijs? Of ben je van mening dat een fiets vlot van eigenaar moet kunnen wisselen? Word lid van de Fietsbieb en fiets zonder zorgen. \nBij de Fietsbieb kan je kinderfietsen goedkoop lenen\, met een aanbod voor kinderen tot 12 jaar. De Fietsbieb is een project van beweging.net en draait vooral op de inzet van vrijwilligers\, actief in de lokale uitleenpunten. Net zoals bij elk deelsysteem steunt de Fietsbieb op onderling respect\, vertrouwen en solidariteit. \nMeer info
URL:https://www.woluwe1150.be/nl/event/fietsbieb-2/
LOCATION:GC Kontakt\, 54 avenue Orbanlaan\, Sint-Pieters-Woluwe\, 1150
CATEGORIES:Kinderen,Animaties
ATTACH;FMTTYPE=image/png:https://www.woluwe1150.be/app/uploads/2025/03/fietsbib.png
ORGANIZER;CN="GC Kontakt":MAILTO:kontakt@vgc.be
END:VEVENT
BEGIN:VEVENT
DTSTART;TZID=Europe/Brussels:20251019T150000
DTEND;TZID=Europe/Brussels:20251019T173000
DTSTAMP:20260424T155553
CREATED:20250924T144844Z
LAST-MODIFIED:20250924T145025Z
UID:83269-1760886000-1760895000@www.woluwe1150.be
SUMMARY:Spellenfeest
DESCRIPTION:Kom op zondag samen met je kids naar Kontakt. Geniet van een gratis pannenkoek en heerlijke spelletjes. \nVan reuze-Jenga tot Parachutes\, van Monopoly tot elkaar schaakmat zetten. \nNeem gerust je favoriete spel mee\, wie weet kan iemand anders er mee van genieten! \nMeer info
URL:https://www.woluwe1150.be/nl/event/spellenfeest-2/
LOCATION:GC Kontakt\, 54 avenue Orbanlaan\, Sint-Pieters-Woluwe\, 1150
CATEGORIES:Kinderen
ATTACH;FMTTYPE=image/png:https://www.woluwe1150.be/app/uploads/2025/09/spellenfest.png
ORGANIZER;CN="GC Kontakt":MAILTO:kontakt@vgc.be
END:VEVENT
BEGIN:VEVENT
DTSTART;TZID=Europe/Brussels:20251019T100000
DTEND;TZID=Europe/Brussels:20251019T120000
DTSTAMP:20260424T155553
CREATED:20250924T145224Z
LAST-MODIFIED:20250924T145224Z
UID:83275-1760868000-1760875200@www.woluwe1150.be
SUMMARY:Kids can cook
DESCRIPTION:Kom samen kokkerellen met je (klein)kind. Ikram bedenkt leuke en originele receptjes die je gemakkelijk samen kan maken. \nMeer info
URL:https://www.woluwe1150.be/nl/event/kids-can-cook-5/
LOCATION:GC Kontakt\, 54 avenue Orbanlaan\, Sint-Pieters-Woluwe\, 1150
CATEGORIES:Kinderen
ATTACH;FMTTYPE=image/png:https://www.woluwe1150.be/app/uploads/2025/08/kids_cook.png
ORGANIZER;CN="GC Kontakt":MAILTO:kontakt@vgc.be
END:VEVENT
BEGIN:VEVENT
DTSTART;TZID=Europe/Brussels:20250921T150000
DTEND;TZID=Europe/Brussels:20250921T173000
DTSTAMP:20260424T155553
CREATED:20250807T134918Z
LAST-MODIFIED:20250807T134918Z
UID:81725-1758466800-1758475800@www.woluwe1150.be
SUMMARY:Spellenfeest
DESCRIPTION:Kom op zondag samen met je kids naar Kontakt. Geniet van een gratis pannenkoek en heerlijke spelletjes. \nVan reuze-Jenga tot Parachutes\, van Monopoly tot elkaar schaakmat zetten. \nNeem gerust je favoriete spel mee\, wie weet kan iemand anders er mee van genieten! \nMeer info
URL:https://www.woluwe1150.be/nl/event/spellenfeest/
LOCATION:GC Kontakt\, 54 avenue Orbanlaan\, Sint-Pieters-Woluwe\, 1150
CATEGORIES:Kinderen
ATTACH;FMTTYPE=image/png:https://www.woluwe1150.be/app/uploads/2025/08/spellen_feest.png
ORGANIZER;CN="GC Kontakt":MAILTO:kontakt@vgc.be
END:VEVENT
BEGIN:VEVENT
DTSTART;TZID=Europe/Brussels:20250914T110000
DTEND;TZID=Europe/Brussels:20250914T180000
DTSTAMP:20260424T155553
CREATED:20250728T124237Z
LAST-MODIFIED:20250728T124237Z
UID:81502-1757847600-1757872800@www.woluwe1150.be
SUMMARY:Festiwhalll 2025
DESCRIPTION:Op zondag 14 september nodigen de WHalll de gemeente en de verenigingen van Sint-Pieters-Woluwe je uit om het culturele seizoen knallend te openen! Voorstellingen\, muziek\, film\, animatie\, foodtrucks en bar: Een feest vol verrassingen binnen en buiten de muren van WHalll. \nGratis\, vrolijk en voor iedereen toegankelijk \nMeer info
URL:https://www.woluwe1150.be/nl/event/festiwhalll-2025/
LOCATION:Centre culturel/cultureel centrum Whalll\, 93 avenue Charles Thielemanslaan\, WSP/SPW\, 1150
CATEGORIES:Kinderen,Animaties
ATTACH;FMTTYPE=image/jpeg:https://www.woluwe1150.be/app/uploads/2025/07/festiwhalll-illu.jpg
ORGANIZER;CN="Whalll":MAILTO:billetterie@whalll.be
END:VEVENT
BEGIN:VEVENT
DTSTART;TZID=Europe/Brussels:20250914T100000
DTEND;TZID=Europe/Brussels:20250914T170000
DTSTAMP:20260424T155553
CREATED:20250805T092922Z
LAST-MODIFIED:20250805T092922Z
UID:81622-1757844000-1757869200@www.woluwe1150.be
SUMMARY:Opendeurdag van de Politiezone
DESCRIPTION:Op zondag 14 september nodigt de Politiezone Montgomery je uit van 10u tot 17u op het Tombergplein in Sint-Lambrechts-Woluwe voor een opendeurdag. \nOp het programma: \n\nSpectaculaire demonstraties (honden\, interventies\, speciale technieken…)\nInteractieve standen voor jong en oud\nOntmoetingen met onze teams (én onze trouwe viervoeters)\nVerrassende animaties\nEn natuurlijk… lekkers om van te smullen tussen twee ontdekkingen door
URL:https://www.woluwe1150.be/nl/event/opendeurdag-van-de-politiezone/
CATEGORIES:Kinderen,Animaties
ATTACH;FMTTYPE=image/jpeg:https://www.woluwe1150.be/app/uploads/2025/08/portes_ouvertes_police_2025_affiche.jpeg
END:VEVENT
BEGIN:VEVENT
DTSTART;TZID=Europe/Brussels:20250914T100000
DTEND;TZID=Europe/Brussels:20250914T120000
DTSTAMP:20260424T155553
CREATED:20250807T133426Z
LAST-MODIFIED:20250807T133426Z
UID:81702-1757844000-1757851200@www.woluwe1150.be
SUMMARY:Kids can cook
DESCRIPTION:Kom samen kokkerellen met je (klein)kind! Ikram bedenkt leuke en originele receptjes die je gemakkelijk samen kan maken. \nMeer info
URL:https://www.woluwe1150.be/nl/event/kids-can-cook-4/
LOCATION:GC Kontakt\, 54 avenue Orbanlaan\, Sint-Pieters-Woluwe\, 1150
CATEGORIES:Kinderen
ATTACH;FMTTYPE=image/png:https://www.woluwe1150.be/app/uploads/2025/08/kids_cook.png
ORGANIZER;CN="GC Kontakt":MAILTO:kontakt@vgc.be
END:VEVENT
BEGIN:VEVENT
DTSTART;TZID=Europe/Brussels:20250903T150000
DTEND;TZID=Europe/Brussels:20250903T180000
DTSTAMP:20260424T155553
CREATED:20250807T134620Z
LAST-MODIFIED:20250807T134711Z
UID:81722-1756911600-1756922400@www.woluwe1150.be
SUMMARY:Fietsbieb
DESCRIPTION:Heeft je kind een fiets nodig\, maar zie je op tegen de hoge aankoopprijs? Of ben je van mening dat een fiets vlot van eigenaar moet kunnen wisselen? \nWord lid van de Fietsbieb en fiets zonder zorgen. Bij de Fietsbieb kan je kinderfietsen goedkoop lenen\, met een aanbod voor kinderen tot 12 jaar. De Fietsbieb is een project van beweging.net en draait vooral op de inzet van vrijwilligers\, actief in de lokale uitleenpunten. \nNet zoals bij elk deelsysteem steunt de Fietsbieb op onderling respect\, vertrouwen en solidariteit. \nMeer info
URL:https://www.woluwe1150.be/nl/event/fietsbieb/
LOCATION:GC Kontakt\, 54 avenue Orbanlaan\, Sint-Pieters-Woluwe\, 1150
CATEGORIES:Kinderen,Animaties
ATTACH;FMTTYPE=image/png:https://www.woluwe1150.be/app/uploads/2025/03/fietsbib.png
ORGANIZER;CN="GC Kontakt":MAILTO:kontakt@vgc.be
END:VEVENT
BEGIN:VEVENT
DTSTART;TZID=Europe/Brussels:20250423T130000
DTEND;TZID=Europe/Brussels:20250423T170000
DTSTAMP:20260424T155553
CREATED:20250324T145921Z
LAST-MODIFIED:20250324T145921Z
UID:78581-1745413200-1745427600@www.woluwe1150.be
SUMMARY:Buitenspeeldag in Sint-Pieters-Woluwe: Kom jij ook spelen?
DESCRIPTION:Op woensdag 23 april 2025 is het weer zover: de Buitenspeeldag! Dit jaar organiseren de Brede School Woluwe1150 en GC Kontakt een namiddag vol plezier en avontuur in de tuin van GC Kontakt (Orbanlaan 54\, 1150 Sint-Pieters-Woluwe). \nTussen 13u00 en 17u00 toveren we de tuin om tot een speelparadijs waar kinderen zich helemaal kunnen uitleven. Zo kun je je grenzen verleggen op de spannende deathride\, of meedoen aan tal van andere leuke activiteiten. Of je nu houdt van klimmen\, klauteren of gewoon plezier maken met je vrienden\, er is voor elk wat wils! \nNatuurlijk zorgen we ook voor lekkers: kom genieten van heerlijke pannenkoeken terwijl je even op adem komt. \nDe toegang is helemaal gratis\, dus trek je speelkleren aan\, breng je vrienden mee en kom samen genieten van een onvergetelijke namiddag vol avontuur en plezier. \nWij kijken ernaar uit om jullie allemaal te verwelkomen! \nPraktisch: \n\nWoensdag 23 april 2025\, van 13u00 tot 17u00\nTuin van GC Kontakt\, Orbanlaan 54\, 1150 Sint-Pieters-Woluwe\nToegang: Gratis\n\nTot dan?
URL:https://www.woluwe1150.be/nl/event/buitenspeeldag-in-sint-pieters-woluwe-kom-jij-ook-spelen/
LOCATION:GC Kontakt\, 54 avenue Orbanlaan\, Sint-Pieters-Woluwe\, 1150
CATEGORIES:Kinderen
ATTACH;FMTTYPE=image/png:https://www.woluwe1150.be/app/uploads/2025/03/Buitenspeeldag.png
ORGANIZER;CN="GC Kontakt":MAILTO:kontakt@vgc.be
END:VEVENT
BEGIN:VEVENT
DTSTART;TZID=Europe/Brussels:20250417T140000
DTEND;TZID=Europe/Brussels:20250417T170000
DTSTAMP:20260424T155553
CREATED:20250327T083856Z
LAST-MODIFIED:20250327T083856Z
UID:78721-1744898400-1744909200@www.woluwe1150.be
SUMMARY:Maak je eigen paasstukje
DESCRIPTION:Wil je graag de paassfeer in huis halen? Doe mee aan onze workshop en maak een paasstukje naar je eigen smaak. \nMeer info
URL:https://www.woluwe1150.be/nl/event/maak-je-eigen-paasstukje/
LOCATION:GC Kontakt\, 54 avenue Orbanlaan\, Sint-Pieters-Woluwe\, 1150
CATEGORIES:Kinderen,Animaties
ATTACH;FMTTYPE=image/jpeg:https://www.woluwe1150.be/app/uploads/2022/03/paques_oeufs_illu.jpg
ORGANIZER;CN="GC Kontakt":MAILTO:kontakt@vgc.be
END:VEVENT
END:VCALENDAR