BEGIN:VCALENDAR
VERSION:2.0
PRODID:-//Woluwe Saint Pierre - ECPv6.13.2//NONSGML v1.0//EN
CALSCALE:GREGORIAN
METHOD:PUBLISH
X-WR-CALNAME:Woluwe Saint Pierre
X-ORIGINAL-URL:https://www.woluwe1150.be/nl/
X-WR-CALDESC:Evenementen voor Woluwe Saint Pierre
REFRESH-INTERVAL;VALUE=DURATION:PT1H
X-Robots-Tag:noindex
X-PUBLISHED-TTL:PT1H
BEGIN:VTIMEZONE
TZID:Europe/Brussels
BEGIN:DAYLIGHT
TZOFFSETFROM:+0100
TZOFFSETTO:+0200
TZNAME:CEST
DTSTART:20260329T010000
END:DAYLIGHT
BEGIN:STANDARD
TZOFFSETFROM:+0200
TZOFFSETTO:+0100
TZNAME:CET
DTSTART:20261025T010000
END:STANDARD
END:VTIMEZONE
BEGIN:VEVENT
DTSTART;TZID=Europe/Brussels:20260424T200000
DTEND;TZID=Europe/Brussels:20260424T220000
DTSTAMP:20260424T092306
CREATED:20260319T151636Z
LAST-MODIFIED:20260319T151636Z
UID:93405-1777060800-1777068000@www.woluwe1150.be
SUMMARY:English stand-up comedy night
DESCRIPTION:Drinks & laughs in our bar. Geniet van de gezellige sfeer\, perfect voor iedereen die zin heeft in een onvergetelijke avond. \nMeer info
URL:https://www.woluwe1150.be/nl/event/english-stand-up-comedy-night/
LOCATION:GC Kontakt\, 54 avenue Orbanlaan\, Sint-Pieters-Woluwe\, 1150
CATEGORIES:Humor/Comedy
ATTACH;FMTTYPE=image/png:https://www.woluwe1150.be/app/uploads/2025/08/belgian_comedy_network.png
ORGANIZER;CN="GC Kontakt":MAILTO:kontakt@vgc.be
END:VEVENT
BEGIN:VEVENT
DTSTART;TZID=Europe/Brussels:20260425T200000
DTEND;TZID=Europe/Brussels:20260425T220000
DTSTAMP:20260424T092306
CREATED:20260212T121341Z
LAST-MODIFIED:20260317T115144Z
UID:92250-1777147200-1777154400@www.woluwe1150.be
SUMMARY:Uitzonderlijk concert in samenwerking met Saint-Raphaël
DESCRIPTION:Op het kruispunt van Frankrijk\, Duitsland en België wacht u op 25 april 2026 in Sint-Pieters-Woluwe een uitzonderlijke muzikale reis! \nVan de barokke strengheid van Vivaldi tot het romantische vuur van Verdi\, via de tijdloze emoties van Morricone\, viert dit grote concert in samenwerking met Saint-Raphaël (jumelage met WSP) de verbindende kracht van muziek. \nOp het grote podium van de WHalll zullen de stemmen van de koorzangers van l’Esterelenco-koor uit Saint-Raphaël (Frankrijk) en het Sammartini-koor uit Sint-Pieters-Woluwe (België) samenkomen\, begeleid door een orkest uit Freiburg (Duitsland) en een speciaal voor deze gelegenheid samengesteld barokensemble. \nDe muzikale leiding is in handen van vier dirigenten: Klaudia Zajac en Patrick Valls voor België\, Pascal Pons en Bruno Picaudé voor Frankrijk. \nMis dit evenement niet! \nPraktische info: \nZaterdag 25/04/2026 om 20.00 uur in het Cultureel Centrum WHALLL – Auditorium \nTarieven: \n\nVoorverkoop Volledig tarief (tot 24.04.2026): 20 €\nVolledig tarief (op 25.04.2026): 25 €\nVerminderd tarief (leden van Cœur Joie / leden van de academie / senioren en jongeren -26 jaar): 18 €\nGratis voor kinderen tot 12 jaar\n\n  \nReservatie \n  \nDit concert wordt ondersteund door de schepenen van Cultuur\, Verbroederingen en Onderwijs. \n 
URL:https://www.woluwe1150.be/nl/event/uitzonderlijk-concert-in-samenwerking-met-saint-raphael/
LOCATION:Centre culturel/cultureel centrum Whalll\, 93 avenue Charles Thielemanslaan\, WSP/SPW\, 1150
ATTACH;FMTTYPE=image/jpeg:https://www.woluwe1150.be/app/uploads/2026/01/concert_choeur_170326_nl-scaled.jpg
END:VEVENT
BEGIN:VEVENT
DTSTART;TZID=Europe/Brussels:20260426T100000
DTEND;TZID=Europe/Brussels:20260426T120000
DTSTAMP:20260424T092306
CREATED:20260319T151107Z
LAST-MODIFIED:20260319T151107Z
UID:93398-1777197600-1777204800@www.woluwe1150.be
SUMMARY:Kids can cook - april
DESCRIPTION:Kom samen kokkerellen met je (klein)kind. Ikram bedenkt leuke en originele receptjes die je gemakkelijk samen kan maken. \nMeer info
URL:https://www.woluwe1150.be/nl/event/kids-can-cook-april/
LOCATION:GC Kontakt\, 54 avenue Orbanlaan\, Sint-Pieters-Woluwe\, 1150
CATEGORIES:Kinderen
ATTACH;FMTTYPE=image/png:https://www.woluwe1150.be/app/uploads/2025/08/kids_cook.png
ORGANIZER;CN="GC Kontakt":MAILTO:kontakt@vgc.be
END:VEVENT
BEGIN:VEVENT
DTSTART;TZID=Europe/Brussels:20260426T150000
DTEND;TZID=Europe/Brussels:20260426T173000
DTSTAMP:20260424T092306
CREATED:20260319T142335Z
LAST-MODIFIED:20260319T142335Z
UID:93391-1777215600-1777224600@www.woluwe1150.be
SUMMARY:Spellenfeest
DESCRIPTION:Kom op zondag samen met je kids naar Kontakt. Geniet van een gratis pannenkoek en heerlijke spelletjes. \nVan reuze-Jenga tot Parachutes\, van Monopoly tot elkaar schaakmat zetten. \nNeem gerust je favoriete spel mee\, wie weet kan iemand anders er mee van genieten! \nMeer info
URL:https://www.woluwe1150.be/nl/event/spellenfeest-8/
LOCATION:GC Kontakt\, 54 avenue Orbanlaan\, Sint-Pieters-Woluwe\, 1150
CATEGORIES:Kinderen
ATTACH;FMTTYPE=image/png:https://www.woluwe1150.be/app/uploads/2025/09/spellenfest.png
ORGANIZER;CN="GC Kontakt":MAILTO:kontakt@vgc.be
END:VEVENT
BEGIN:VEVENT
DTSTART;TZID=Europe/Brussels:20260427T201500
DTEND;TZID=Europe/Brussels:20260427T223000
DTSTAMP:20260424T092306
CREATED:20260319T141122Z
LAST-MODIFIED:20260319T141122Z
UID:93378-1777320900-1777329000@www.woluwe1150.be
SUMMARY:Family – Louis Janssens
DESCRIPTION:Voor de voorstelling Family nodigde theatermaker Louis Janssens vier spelers van verschillende generaties uit om samen met hem op scène te staan. Ze vertellen verhalen\, stellen vragen en zoeken troost\, steun en herkenning bij elkaar. Het gaat over hoe familiebanden ons verbinden en hoe die onze levens – onontkoombaar – bepalen. Over biologische familie en gekozen familie. Over ouders\, kinderen\, opgroeien en de angst om alleen achter te blijven. De spelers staan als zichzelf op scène\, maar lijken doorheen de voorstelling ook steeds meer elkaars familie te worden. \nFamily is een poëtische en herkenbare tekstvoorstelling over het universele gegeven van familie. Vertrekkend vanuit een queer-perspectief vertellen ze een groter menselijk verhaal over het hebben van en het zoeken naar een familie. Niet iedereen heeft kinderen\, maar uiteindelijk zijn we wel allemaal een kind. \nDuur: 60 min   \nInfo en reservatie
URL:https://www.woluwe1150.be/nl/event/family-louis-janssens/
LOCATION:Centre culturel/cultureel centrum Whalll\, 93 avenue Charles Thielemanslaan\, WSP/SPW\, 1150
CATEGORIES:Theater
ATTACH;FMTTYPE=image/jpeg:https://www.woluwe1150.be/app/uploads/2026/03/family.jpg
ORGANIZER;CN="Whalll":MAILTO:billetterie@whalll.be
END:VEVENT
BEGIN:VEVENT
DTSTART;TZID=Europe/Brussels:20260430T180000
DTEND;TZID=Europe/Brussels:20260430T210000
DTSTAMP:20260424T092306
CREATED:20260319T144046Z
LAST-MODIFIED:20260319T144046Z
UID:93393-1777572000-1777582800@www.woluwe1150.be
SUMMARY:Vernissage + concert - Astrid De Jong
DESCRIPTION:Kolorissimo is een expositie van Astrid de Jong met schilderwerken van olieverf op canvas\, waar landschappen\, vegetatie en speciale plekken tijdens wandelingen vaak de inspiratiebron zijn.\nZe schildert tussen figuratief en abstract. Kleuren zijn altijd belangrijk geweest voor haar. Zij heeft een voorkeur voor verschillende blauw-groentinten in combinatie met andere\, soms intense kleuren. Zij heeft dan ook een bewondering voor de schilders van ‘de blauwe ruiter’ en ‘le fauvisme’. \nAstrid woont al meer dan 30 jaar in Sint Pieters Woluwe. Ze houdt zich momenteel bezig met het organiseren van jazzconcerten en andere culturele evenementen en volgt schilderkunst aan de kunstacademie van Anderlecht. \nDe basis van de schilderkunst werd haar bijgebracht door de impressionistische schilder Jacob De Vries in Kontakt. Daarna volgde ze schilderlessen in Artscade bij de bekende Brusselse schilderes Marie Rosen (galerie Rossi). \nAstrid heeft deel genomen aan verschillende edities van het artiestenparcours in Sint Pieters Woluwe\, aan talrijke expo’s bij Artscade en was in 2018 artist in residence met 2 solo expo’s bij het kunstenhuis Zinnema. \nCopyright foto : Astrid De Jong \nMeer info
URL:https://www.woluwe1150.be/nl/event/vernissage-concert-astrid-de-jong/
LOCATION:GC Kontakt\, 54 avenue Orbanlaan\, Sint-Pieters-Woluwe\, 1150
CATEGORIES:Tentoonstelling
ATTACH;FMTTYPE=image/png:https://www.woluwe1150.be/app/uploads/2026/03/astrid_dejonghe.png
ORGANIZER;CN="GC Kontakt":MAILTO:kontakt@vgc.be
END:VEVENT
BEGIN:VEVENT
DTSTART;TZID=Europe/Brussels:20260506T150000
DTEND;TZID=Europe/Brussels:20260506T180000
DTSTAMP:20260424T092306
CREATED:20260421T125934Z
LAST-MODIFIED:20260421T125934Z
UID:94519-1778079600-1778090400@www.woluwe1150.be
SUMMARY:Fietsbieb
DESCRIPTION:Heeft je kind een fiets nodig\, maar zie je op tegen de hoge aankoopprijs? Of ben je van mening dat een fiets vlot van eigenaar moet kunnen wisselen? Word lid van de Fietsbieb en fiets zonder zorgen. \nBij de Fietsbieb kan je kinderfietsen goedkoop lenen\, met een aanbod voor kinderen tot 12 jaar. De Fietsbieb is een project van beweging.net en draait vooral op de inzet van vrijwilligers\, actief in de lokale uitleenpunten. Net zoals bij elk deelsysteem steunt de Fietsbieb op onderling respect\, vertrouwen en solidariteit. \nMeer info
URL:https://www.woluwe1150.be/nl/event/fietsbieb-7/
LOCATION:GC Kontakt\, 54 avenue Orbanlaan\, Sint-Pieters-Woluwe\, 1150
CATEGORIES:Kinderen,Animaties
ATTACH;FMTTYPE=image/png:https://www.woluwe1150.be/app/uploads/2025/03/fietsbib.png
ORGANIZER;CN="GC Kontakt":MAILTO:kontakt@vgc.be
END:VEVENT
BEGIN:VEVENT
DTSTART;TZID=Europe/Brussels:20260507T190000
DTEND;TZID=Europe/Brussels:20260507T203000
DTSTAMP:20260424T092306
CREATED:20260421T130219Z
LAST-MODIFIED:20260421T130219Z
UID:94521-1778180400-1778185800@www.woluwe1150.be
SUMMARY:Taco Night
DESCRIPTION:Tortillas from scratch: mais\, masa\, magie. We roosteren\, knijpen limoenen\, smashen avocado\, bouwen lagen smaak en zuur. Met vlees én killer veggie fillings. Let’s go to Mexico! \nInfo & reservatie
URL:https://www.woluwe1150.be/nl/event/taco-night/
LOCATION:GC Kontakt\, 54 avenue Orbanlaan\, Sint-Pieters-Woluwe\, 1150
CATEGORIES:Animaties
ATTACH;FMTTYPE=image/png:https://www.woluwe1150.be/app/uploads/2026/04/taco_night.png
ORGANIZER;CN="GC Kontakt":MAILTO:kontakt@vgc.be
END:VEVENT
BEGIN:VEVENT
DTSTART;TZID=Europe/Brussels:20260509T140000
DTEND;TZID=Europe/Brussels:20260509T153000
DTSTAMP:20260424T092306
CREATED:20260421T130402Z
LAST-MODIFIED:20260421T130402Z
UID:94526-1778335200-1778340600@www.woluwe1150.be
SUMMARY:Eropuit met de buren: Bezoek aan de Matongé wijk
DESCRIPTION:Wil je Matongé beter leren kennen? Kuumba vzw neemt ons mee doorheen de Matongéwijk. De gidsen vertellen je over het ontstaan en de geschiedenis van de wijk\, en laten je het unieke karakter van deze kleurrijke wijk ontdekken. \nInfo en reservatie
URL:https://www.woluwe1150.be/nl/event/eropuit-met-de-buren-bezoek-aan-de-matonge-wijk/
CATEGORIES:Rondleiding
ATTACH;FMTTYPE=image/png:https://www.woluwe1150.be/app/uploads/2026/04/eropuit_matonge.png
ORGANIZER;CN="GC Kontakt":MAILTO:kontakt@vgc.be
END:VEVENT
BEGIN:VEVENT
DTSTART;TZID=Europe/Brussels:20260510T143000
DTEND;TZID=Europe/Brussels:20260510T170000
DTSTAMP:20260424T092306
CREATED:20260421T130548Z
LAST-MODIFIED:20260421T130548Z
UID:94531-1778423400-1778432400@www.woluwe1150.be
SUMMARY:Op Vadrouille! Kindermuseum Elsene
DESCRIPTION:Culturele uitstappen voor families met kinderen. Kom mee met ons op vadrouille!\nDeze keer gaan we naar het kindermuseum in Elsene! In het Kindermuseum vind je geen computerschermen of videogames terug. Aan de hand van decors\, houten spelletjes en inleefmomenten leren de kinderen iets bij over zichzelf en de wereld waar ze deel van uitmaken. \nAlle zintuigen komen aan bod tijdens een bezoek aan het museum. De kinderen amuseren zich door dingen aan te raken\, door te kijken en te ruiken\, door te luisteren en bij te leren. Bezoek de website voor meer informatie: https://www.kindermuseum.be/ \nDe inschrijvingen voor deze uitstap sluiten op 01/05 om 12u.\nJe koopt voor elke deelnemer een ticket. Kom je als papa met je 2 kinderen\, dan koop je in totaal 3 tickets (1 normaal ticket en 2 kindertickets). \nInfo & reservatie
URL:https://www.woluwe1150.be/nl/event/op-vadrouille-kindermuseum-elsene/
CATEGORIES:Kinderen
ATTACH;FMTTYPE=image/png:https://www.woluwe1150.be/app/uploads/2026/04/op_vadrouille.png
ORGANIZER;CN="GC Kontakt":MAILTO:kontakt@vgc.be
END:VEVENT
BEGIN:VEVENT
DTSTART;TZID=Europe/Brussels:20260517T100000
DTEND;TZID=Europe/Brussels:20260517T120000
DTSTAMP:20260424T092306
CREATED:20260421T130722Z
LAST-MODIFIED:20260421T130722Z
UID:94536-1779012000-1779019200@www.woluwe1150.be
SUMMARY:Kids can cook - mei
DESCRIPTION:Kom samen kokkerellen met je (klein)kind. Ikram bedenkt leuke en originele receptjes die je gemakkelijk samen kan maken. \nMeer info
URL:https://www.woluwe1150.be/nl/event/kids-can-cook-mei/
LOCATION:GC Kontakt\, 54 avenue Orbanlaan\, Sint-Pieters-Woluwe\, 1150
CATEGORIES:Kinderen
ATTACH;FMTTYPE=image/png:https://www.woluwe1150.be/app/uploads/2025/08/kids_cook.png
ORGANIZER;CN="GC Kontakt":MAILTO:kontakt@vgc.be
END:VEVENT
BEGIN:VEVENT
DTSTART;TZID=Europe/Brussels:20260517T150000
DTEND;TZID=Europe/Brussels:20260517T173000
DTSTAMP:20260424T092306
CREATED:20260421T130933Z
LAST-MODIFIED:20260421T130933Z
UID:94538-1779030000-1779039000@www.woluwe1150.be
SUMMARY:Spellenfeest
DESCRIPTION:Kom op zondag samen met je kids naar Kontakt. Geniet van een gratis pannenkoek en heerlijke spelletjes. \nVan reuze-Jenga tot Parachutes\, van Monopoly tot elkaar schaakmat zetten. \nNeem gerust je favoriete spel mee\, wie weet kan iemand anders er mee van genieten! \nMeer info
URL:https://www.woluwe1150.be/nl/event/spellenfeest-9/
LOCATION:GC Kontakt\, 54 avenue Orbanlaan\, Sint-Pieters-Woluwe\, 1150
CATEGORIES:Kinderen
ATTACH;FMTTYPE=image/png:https://www.woluwe1150.be/app/uploads/2025/09/spellenfest.png
ORGANIZER;CN="GC Kontakt":MAILTO:kontakt@vgc.be
END:VEVENT
BEGIN:VEVENT
DTSTART;TZID=Europe/Brussels:20260521T190000
DTEND;TZID=Europe/Brussels:20260521T213000
DTSTAMP:20260424T092306
CREATED:20260416T135342Z
LAST-MODIFIED:20260416T135342Z
UID:94376-1779390000-1779399000@www.woluwe1150.be
SUMMARY:Steunavond voor de rechten van LGBTQIA+-personen : concert van het koor Tapalanote
DESCRIPTION:Elk jaar\, rond 17 mei – de Internationale Dag tegen homofobie\, transfobie en bifobie – organiseert de gemeente Sint-Pieters-Woluwe een avond in het teken van steun en sensibilisering. \nDit jaar bent u welkom op donderdag 21 mei in het Cultureel Centrum Whalll (Fabryzaal) voor een moment van ontmoeting\, cultuur en uitwisseling: \n\nVanaf 19u: ontmoetingen met verenigingen die zich inzetten voor de rechten van LGBTQIA+-personen.\n20u: concert van het koor Tapalanote. Opgericht in 2006 en vandaag onder leiding van Vic Cano\, brengt het met energie bekende pop- en rocknummers\, met bijzondere aandacht voor iconische LGBTQIA+-hymnes. Gedragen door waarden zoals openheid\, diversiteit en tolerantie\, combineert het koor muzikale kwaliteit met een warme\, toegankelijke sfeer.\n21u – 21u30: uitwisseling met de artiesten.\n\nGratis toegang – reservatie gewenst via: dh-mr@woluwe1150.be \nEen mooie gelegenheid om samen te komen\, diversiteit te vieren en geëngageerde stemmen te laten weerklinken.
URL:https://www.woluwe1150.be/nl/event/steunavond-voor-de-rechten-van-lgbtqia-personen-concert-van-het-koor-tapalanote/
LOCATION:Centre culturel/cultureel centrum Whalll\, 93 avenue Charles Thielemanslaan\, WSP/SPW\, 1150
CATEGORIES:muziek
ATTACH;FMTTYPE=image/jpeg:https://www.woluwe1150.be/app/uploads/2026/04/A6401399-scaled.jpg
ORGANIZER;CN="Service des Droits Humains":MAILTO:dh-mr@woluwe1150.be
END:VEVENT
BEGIN:VEVENT
DTSTART;TZID=Europe/Brussels:20260521T193000
DTEND;TZID=Europe/Brussels:20260521T223000
DTSTAMP:20260424T092306
CREATED:20260421T131231Z
LAST-MODIFIED:20260421T131319Z
UID:94540-1779391800-1779402600@www.woluwe1150.be
SUMMARY:Café Open: Jolan vertelt zijn reisverhaal
DESCRIPTION:Jolan Bollen fietst door zijn eigen reisverhaal. \nLaat je meevoeren op reis\, zonder je koffers te pakken. Tijdens deze vertelavond neemt Jolan je mee langs verre landschappen\, kleine ontmoetingen en onverwachte momenten. Een persoonlijk reisverhaal vol beelden\, geuren en indrukken\, verteld met woorden die blijven hangen. Kom luisteren\, droom mee en ontdek hoe reizen ook dichtbij kan voelen. Een avond om even weg te zijn. \nMeer info
URL:https://www.woluwe1150.be/nl/event/cafe-open-jolan-vertelt-zijn-reisverhaal/
LOCATION:GC Kontakt\, 54 avenue Orbanlaan\, Sint-Pieters-Woluwe\, 1150
CATEGORIES:muziek
ATTACH;FMTTYPE=image/png:https://www.woluwe1150.be/app/uploads/2026/04/cafe_open_jolan.png
ORGANIZER;CN="GC Kontakt":MAILTO:kontakt@vgc.be
END:VEVENT
END:VCALENDAR