BEGIN:VCALENDAR
VERSION:2.0
PRODID:-//Woluwe Saint Pierre - ECPv6.13.2//NONSGML v1.0//EN
CALSCALE:GREGORIAN
METHOD:PUBLISH
X-ORIGINAL-URL:https://www.woluwe1150.be
X-WR-CALDESC:Évènements pour Woluwe Saint Pierre
REFRESH-INTERVAL;VALUE=DURATION:PT1H
X-Robots-Tag:noindex
X-PUBLISHED-TTL:PT1H
BEGIN:VTIMEZONE
TZID:Europe/Brussels
BEGIN:DAYLIGHT
TZOFFSETFROM:+0100
TZOFFSETTO:+0200
TZNAME:CEST
DTSTART:20250330T010000
END:DAYLIGHT
BEGIN:STANDARD
TZOFFSETFROM:+0200
TZOFFSETTO:+0100
TZNAME:CET
DTSTART:20251026T010000
END:STANDARD
END:VTIMEZONE
BEGIN:VEVENT
DTSTART;TZID=Europe/Brussels:20251005T130000
DTEND;TZID=Europe/Brussels:20251005T180000
DTSTAMP:20260424T143155
CREATED:20250915T135621Z
LAST-MODIFIED:20250915T135621Z
UID:82907-1759669200-1759687200@www.woluwe1150.be
SUMMARY:Festival coréen : Fête des moissons
DESCRIPTION:L’association KOCEABE.asbl vous invite à découvrir la richesse de la culture coréenne lors de la 5e édition de l’événement « La Corée arrive »\, placé cette année sous le signe de la fête des moissons. \nAu programme\, un voyage inédit au cœur de la Corée : \n\nAteliers K-Art\nQuiz et jeux traditionnels coréens\nRécits de voyage en Corée\nAtelier gastronomique coréen (K-Food)\nSpectacle de danse K-Pop\nAtelier de langue coréenne (Hangeul)\n\nDimanche 5 octobre de 13h à 18h au WHalll (salle Fabry) \n  \nLes places étant limitées\, l’inscription préalable est indispensable. \nLes matériaux pour les ateliers et les jeux sont inclus. \nInscription à partir du 15 septembre via ce formulaire \n  \nPour plus d’informations par mail ou sur le site de l’association \nVenez célébrer la culture coréenne et partager un moment festif et convivial !
URL:https://www.woluwe1150.be/event/festival-coreen-fete-des-moissons/
LOCATION:Centre culturel/cultureel centrum Whalll\, 93 avenue Charles Thielemanslaan\, WSP/SPW\, 1150
CATEGORIES:Animation
ATTACH;FMTTYPE=image/png:https://www.woluwe1150.be/app/uploads/2025/09/festival_coreen_2025.png
ORGANIZER;CN="Koceabe.ASBL":MAILTO:yksong.koceabe@gmail.com
END:VEVENT
BEGIN:VEVENT
DTSTART;TZID=Europe/Brussels:20251011T093000
DTEND;TZID=Europe/Brussels:20251011T123000
DTSTAMP:20260424T143155
CREATED:20250805T121356Z
LAST-MODIFIED:20251009T133508Z
UID:81625-1760175000-1760185800@www.woluwe1150.be
SUMMARY:Fresque du climat à la Villa François Gay
DESCRIPTION:La Fresque du climat à la Villa François Gay ! \nGratuit sur inscription  \nDéjà 2 millions de participants\, pourquoi pas vous ? Trois heures pour comprendre le climat et les leviers d’actions à son échelle. En jouant\, découvrez les données et mécanismes de cause à effet du dérèglement climatique. \nJeu ludique et collaboratif.  \nLe samedi 11/10 de 09h30 à 12h30. \nSur inscription (places limitées) : villafrancoisgay@gmail.com \nAccessible à partir de 16 ans. \nUn petit en-cas sera offert aux participants.
URL:https://www.woluwe1150.be/event/fresque-du-climat-a-la-villa-francois-gay/
LOCATION:Villa François Gay\, 326 rue François Gay\, Woluwe-Saint-Pierre\, 1150
CATEGORIES:Animation,Développement Durable,Centres de quartier
ATTACH;FMTTYPE=image/png:https://www.woluwe1150.be/app/uploads/2025/06/Woluwe1150_Fresque-du-climat.png
ORGANIZER;CN="Villa Fran%C3%A7ois Gay":MAILTO:villafrancoisgay@gmail.com
END:VEVENT
BEGIN:VEVENT
DTSTART;TZID=Europe/Brussels:20251011T140000
DTEND;TZID=Europe/Brussels:20251011T170000
DTSTAMP:20260424T143155
CREATED:20250922T141006Z
LAST-MODIFIED:20250922T141045Z
UID:83144-1760191200-1760202000@www.woluwe1150.be
SUMMARY:Repair Café de la Médiathèque
DESCRIPTION:Venez réparer vos objets défectueux dans une ambiance conviviale et musicale.  \nLe Repair Café de la médiathèque a lieu le 2e samedi du mois\, de 14h à 17h.  \nPlus d’infos
URL:https://www.woluwe1150.be/event/repair-cafe-de-la-mediatheque-7/
LOCATION:Centre culturel/cultureel centrum Whalll\, 93 avenue Charles Thielemanslaan\, WSP/SPW\, 1150
CATEGORIES:Animation,Développement Durable
ATTACH;FMTTYPE=image/jpeg:https://www.woluwe1150.be/app/uploads/2025/01/repair_cafe_media.jpg
ORGANIZER;CN="M%C3%A9diath%C3%A8que de Woluwe-Saint-Pierre":MAILTO:wsp@lamediatheque.be
END:VEVENT
BEGIN:VEVENT
DTSTART;TZID=Europe/Brussels:20251012T100000
DTEND;TZID=Europe/Brussels:20251012T160000
DTSTAMP:20260424T143155
CREATED:20250924T132158Z
LAST-MODIFIED:20250924T132158Z
UID:83208-1760263200-1760284800@www.woluwe1150.be
SUMMARY:Disney Meeting Belgium
DESCRIPTION:Venez rencontrer vos personnages préférés mais aussi nos cosplayers\, princesses et Star Wars… Ou peut-être trouverez-vous vos petits trésors Disney chez l’un de nos exposants ! \nInfos sur www.disneymeetingbelgium.weebly.com   
URL:https://www.woluwe1150.be/event/disney-meeting-belgium/
LOCATION:centre communautaire de Joli-Bois\, 15 drève des Shetlands\, Woluwe-Saint-Pierre\, 1150
CATEGORIES:Animation,Enfants
ATTACH;FMTTYPE=image/jpeg:https://www.woluwe1150.be/app/uploads/2025/09/disney_meeting_1025.jpg
END:VEVENT
BEGIN:VEVENT
DTSTART;TZID=Europe/Brussels:20251012T150000
DTEND;TZID=Europe/Brussels:20251012T170000
DTSTAMP:20260424T143155
CREATED:20250926T081038Z
LAST-MODIFIED:20250926T081038Z
UID:83849-1760281200-1760288400@www.woluwe1150.be
SUMMARY:Atelier artistique pour personnes en situation de handicap
DESCRIPTION:Pour adultes et enfants à partir de 10 ans. \nPrix : 10€ par atelier (matériel compris). \nInscription : 0473/98.30.94. 
URL:https://www.woluwe1150.be/event/atelier-artistique-pour-personnes-en-situation-de-handicap/
LOCATION:Villa François Gay\, 326 rue François Gay\, Woluwe-Saint-Pierre\, 1150
CATEGORIES:Animation,Art
ATTACH;FMTTYPE=image/jpeg:https://www.woluwe1150.be/app/uploads/2025/09/ateliers-artistiques-handicap.jpg
END:VEVENT
BEGIN:VEVENT
DTSTART;TZID=Europe/Brussels:20251014T100000
DTEND;TZID=Europe/Brussels:20251014T110000
DTSTAMP:20260424T143155
CREATED:20250926T074215Z
LAST-MODIFIED:20250926T074215Z
UID:83810-1760436000-1760439600@www.woluwe1150.be
SUMMARY:Méditation guidée
DESCRIPTION:Envie ou besoin de vous poser ? Essayez la médiation guidée ! \nAnimées par Yvette\, ces séances vous feront passer un moment de détente et de calme. Vous en sortirez apaisés et davantage ancrés dans le moment présent ! \nInscription obligatoire : 02/773.06.71 ou bib.cho@woluwe1150.be
URL:https://www.woluwe1150.be/event/meditation-guidee-7/
LOCATION:Bibliothèque du Chant d’Oiseau\, 40 avenue du Chant d'Oiseau\, Woluwe-Saint-Pierre\, 1150
CATEGORIES:Animation,Littérature
ATTACH;FMTTYPE=image/png:https://www.woluwe1150.be/app/uploads/2025/02/meditation_guidee.png
END:VEVENT
BEGIN:VEVENT
DTSTART;TZID=Europe/Brussels:20251017T103000
DTEND;TZID=Europe/Brussels:20251017T120000
DTSTAMP:20260424T143155
CREATED:20250814T094802Z
LAST-MODIFIED:20250926T074906Z
UID:81770-1760697000-1760702400@www.woluwe1150.be
SUMMARY:Biblio-Thé-R-Happy !
DESCRIPTION:Une tasse de thé\, une thématique\, quelques livres et crayons… pour prendre soin de soi\, partager et profiter de la vie en toute simplicité. \nAtelier mensuel : \n\nsoit un mercredi de 19h à 20h30\nsoit un vendredi de 10h30 à 12h\n\nSur inscription : 02/773.06.71 ou bib.cho@woluwe1150.be
URL:https://www.woluwe1150.be/event/biblio-the-r-happy-20/
LOCATION:Bibliothèque du Chant d’Oiseau\, 40 avenue du Chant d'Oiseau\, Woluwe-Saint-Pierre\, 1150
CATEGORIES:Animation,Littérature
ATTACH;FMTTYPE=image/webp:https://www.woluwe1150.be/app/uploads/2024/08/bibliotherapy.webp
END:VEVENT
BEGIN:VEVENT
DTSTART;TZID=Europe/Brussels:20251017T190000
DTEND;TZID=Europe/Brussels:20251017T210000
DTSTAMP:20260424T143155
CREATED:20250924T135739Z
LAST-MODIFIED:20250924T135739Z
UID:83242-1760727600-1760734800@www.woluwe1150.be
SUMMARY:Soirée jeux
DESCRIPTION:Election du jeu « Label Ludo » et tables de jeux. \nSur inscription à asblcentrecrousse@skynet.be. \nGratuit\, à partir de 8 ans.
URL:https://www.woluwe1150.be/event/soiree-jeux/
LOCATION:Centre Crousse\, 11 rue au Bois\, Woluwe-Saint-Pierre\, 1150
CATEGORIES:Animation
ATTACH;FMTTYPE=image/jpeg:https://www.woluwe1150.be/app/uploads/2025/09/soiree_jeux_label_ludo.jpg
ORGANIZER;CN="Centre Crousse":MAILTO:asblcentrecrousse@skynet.be
END:VEVENT
BEGIN:VEVENT
DTSTART;TZID=Europe/Brussels:20251019T110000
DTEND;TZID=Europe/Brussels:20251019T123000
DTSTAMP:20260424T143155
CREATED:20251007T115334Z
LAST-MODIFIED:20251007T115334Z
UID:84773-1760871600-1760877000@www.woluwe1150.be
SUMMARY:Distribution gratuite de bulbes
DESCRIPTION:Rendez-vous le dimanche 19/10 de 11h à 12h30 pour une distribution gratuite de bulbes.  \nOrganisée par Prenons le temps et Natura Woluwe.  \nGratuit. \nOù ? Chalet du compost\,97\, av.J.de Meurers à W.S.P. (au fond du Parc De Meurers).  \n 
URL:https://www.woluwe1150.be/event/distribution-gratuite-de-bulbes/
LOCATION:Compost collectif de Joli-Bois\, 97 avenue Jacques de Meurers\, Woluwe-Saint-Pierre\, 1150
CATEGORIES:Animation,Brocante,Développement Durable
ATTACH;FMTTYPE=image/jpeg:https://www.woluwe1150.be/app/uploads/2025/10/Woluwe1150_bulbes.jpg
ORGANIZER;CN="Prenons le Temps Joli-Bois":MAILTO:info@prenonsletemps.be
END:VEVENT
BEGIN:VEVENT
DTSTART;TZID=Europe/Brussels:20251025T160000
DTEND;TZID=Europe/Brussels:20251025T210000
DTSTAMP:20260424T143155
CREATED:20250924T133639Z
LAST-MODIFIED:20250924T133639Z
UID:83238-1761408000-1761426000@www.woluwe1150.be
SUMMARY:Halloween à Joli-Bois
DESCRIPTION:Le Centre Joli Bois se transforme en maison hantée géante pour faire frissonner les plus petits comme les plus grands. \nDe 16h à 18h\, récolte de bonbons dans les rues avoisinantes du parvis Sainte-Alix ; \nDe 18h à 21h\, visite de la maison hantée de Joli-Bois. Animations & bar. \nInfo sur www.centrejolibois.be  
URL:https://www.woluwe1150.be/event/halloween-a-joli-bois-3/
LOCATION:centre communautaire de Joli-Bois\, 15 drève des Shetlands\, Woluwe-Saint-Pierre\, 1150
CATEGORIES:Animation,Enfants
ATTACH;FMTTYPE=image/jpeg:https://www.woluwe1150.be/app/uploads/2025/09/halloween_jb_2025.jpg
ORGANIZER;CN="Centre communautaire de Joli-Bois":MAILTO:event.jolibois@gmail.com
END:VEVENT
BEGIN:VEVENT
DTSTART;TZID=Europe/Brussels:20251031T170000
DTEND;TZID=Europe/Brussels:20251031T200000
DTSTAMP:20260424T143155
CREATED:20250922T142045Z
LAST-MODIFIED:20250922T142045Z
UID:83156-1761930000-1761940800@www.woluwe1150.be
SUMMARY:Marche aux Lampions au Chant d’Oiseau
DESCRIPTION:L’association Vivre au Chant d’Oiseau organise une marche aux lampions le 31 octobre\, à l’occasion d’Halloween. Enfilez votre plus beau déguisement et venez avec votre lampion au départ de la marche\, devant le 7 avenue du Loriot. Pour limiter les embouteillages\, trois départs seront donnés : 17h30\, 17h45 et 18h. Des bonbons seront distribués sur le parcours par des monstres. Les habitants du quartier sont invités à sortir de chez eux pour participer à cette distribution s’ils le désirent. \nLe bar sera ouvert dès 17h pour vous faire patienter et au retour de la marche pour vous réchauffer. Venez partager une soupe ou un vin chaud. \n 
URL:https://www.woluwe1150.be/event/marche-aux-lampions-au-chant-doiseau-2/
CATEGORIES:Animation,Enfants
ATTACH;FMTTYPE=image/jpeg:https://www.woluwe1150.be/app/uploads/2025/09/marche-aux-lampions-chant-doiseau-2025.jpg
ORGANIZER;CN="Vivre au Chant d'Oieau ASBL":MAILTO:hello@chantdoiseau.be
END:VEVENT
END:VCALENDAR