BEGIN:VCALENDAR
VERSION:2.0
PRODID:-//Woluwe Saint Pierre - ECPv6.13.2//NONSGML v1.0//EN
CALSCALE:GREGORIAN
METHOD:PUBLISH
X-WR-CALNAME:Woluwe Saint Pierre
X-ORIGINAL-URL:https://www.woluwe1150.be
X-WR-CALDESC:Évènements pour Woluwe Saint Pierre
REFRESH-INTERVAL;VALUE=DURATION:PT1H
X-Robots-Tag:noindex
X-PUBLISHED-TTL:PT1H
BEGIN:VTIMEZONE
TZID:Europe/Brussels
BEGIN:DAYLIGHT
TZOFFSETFROM:+0100
TZOFFSETTO:+0200
TZNAME:CEST
DTSTART:20260329T010000
END:DAYLIGHT
BEGIN:STANDARD
TZOFFSETFROM:+0200
TZOFFSETTO:+0100
TZNAME:CET
DTSTART:20261025T010000
END:STANDARD
END:VTIMEZONE
BEGIN:VEVENT
DTSTART;TZID=Europe/Brussels:20260110T140000
DTEND;TZID=Europe/Brussels:20260110T170000
DTSTAMP:20260424T094343
CREATED:20251208T120844Z
LAST-MODIFIED:20251208T120844Z
UID:88194-1768053600-1768064400@www.woluwe1150.be
SUMMARY:Repair Café de la Médiathèque
DESCRIPTION:Venez réparer vos objets défectueux dans une ambiance conviviale et musicale.  \nLe Repair Café de la médiathèque a lieu le 2e samedi du mois\, de 14h à 17h.  \nPlus d’infos
URL:https://www.woluwe1150.be/event/repair-cafe-de-la-mediatheque-10/
LOCATION:Centre culturel/cultureel centrum Whalll\, 93 avenue Charles Thielemanslaan\, WSP/SPW\, 1150
CATEGORIES:Animation,Développement Durable
ATTACH;FMTTYPE=image/jpeg:https://www.woluwe1150.be/app/uploads/2025/01/repair_cafe_media.jpg
ORGANIZER;CN="M%C3%A9diath%C3%A8que de Woluwe-Saint-Pierre":MAILTO:wsp@lamediatheque.be
END:VEVENT
BEGIN:VEVENT
DTSTART;TZID=Europe/Brussels:20260113T100000
DTEND;TZID=Europe/Brussels:20260113T110000
DTSTAMP:20260424T094343
CREATED:20260106T152450Z
LAST-MODIFIED:20260106T152450Z
UID:89758-1768298400-1768302000@www.woluwe1150.be
SUMMARY:Méditation guidée
DESCRIPTION:Envie ou besoin de vous poser ? Essayez la médiation guidée ! \nAnimées par Yvette\, ces séances vous feront passer un moment de détente et de calme. Vous en sortirez apaisés et davantage ancrés dans le moment présent ! \nInscription obligatoire : 02/773.06.71 ou bib.cho@woluwe1150.be
URL:https://www.woluwe1150.be/event/meditation-guidee-10/
LOCATION:Bibliothèque du Chant d’Oiseau\, 40 avenue du Chant d'Oiseau\, Woluwe-Saint-Pierre\, 1150
CATEGORIES:Animation,Littérature
ATTACH;FMTTYPE=image/png:https://www.woluwe1150.be/app/uploads/2025/02/meditation_guidee.png
END:VEVENT
BEGIN:VEVENT
DTSTART;TZID=Europe/Brussels:20260114T190000
DTEND;TZID=Europe/Brussels:20260114T203000
DTSTAMP:20260424T094343
CREATED:20260106T152558Z
LAST-MODIFIED:20260106T152558Z
UID:89760-1768417200-1768422600@www.woluwe1150.be
SUMMARY:Biblio-Thé-R-Happy !
DESCRIPTION:Une tasse de thé\, une thématique\, quelques livres et crayons… pour prendre soin de soi\, partager et profiter de la vie en toute simplicité. \nAtelier mensuel : \n\nsoit un mercredi de 19h à 20h30\nsoit un vendredi de 10h30 à 12h\n\nSur inscription : 02/773.06.71 ou bib.cho@woluwe1150.be
URL:https://www.woluwe1150.be/event/biblio-the-r-happy-23/
LOCATION:Bibliothèque du Chant d’Oiseau\, 40 avenue du Chant d'Oiseau\, Woluwe-Saint-Pierre\, 1150
CATEGORIES:Animation,Littérature
ATTACH;FMTTYPE=image/webp:https://www.woluwe1150.be/app/uploads/2024/08/bibliotherapy.webp
END:VEVENT
BEGIN:VEVENT
DTSTART;TZID=Europe/Brussels:20260116T103000
DTEND;TZID=Europe/Brussels:20260116T120000
DTSTAMP:20260424T094343
CREATED:20260106T152831Z
LAST-MODIFIED:20260106T152831Z
UID:89762-1768559400-1768564800@www.woluwe1150.be
SUMMARY:Biblio-Thé-R-Happy !
DESCRIPTION:Une tasse de thé\, une thématique\, quelques livres et crayons… pour prendre soin de soi\, partager et profiter de la vie en toute simplicité. \nAtelier mensuel : \n\nsoit un mercredi de 19h à 20h30\nsoit un vendredi de 10h30 à 12h\n\nSur inscription : 02/773.06.71 ou bib.cho@woluwe1150.be
URL:https://www.woluwe1150.be/event/biblio-the-r-happy-24/
LOCATION:Bibliothèque du Chant d’Oiseau\, 40 avenue du Chant d'Oiseau\, Woluwe-Saint-Pierre\, 1150
CATEGORIES:Animation,Littérature
ATTACH;FMTTYPE=image/webp:https://www.woluwe1150.be/app/uploads/2024/08/bibliotherapy.webp
END:VEVENT
END:VCALENDAR