BEGIN:VCALENDAR
VERSION:2.0
PRODID:-//Woluwe Saint Pierre - ECPv6.13.2//NONSGML v1.0//EN
CALSCALE:GREGORIAN
METHOD:PUBLISH
X-ORIGINAL-URL:https://www.woluwe1150.be
X-WR-CALDESC:Évènements pour Woluwe Saint Pierre
REFRESH-INTERVAL;VALUE=DURATION:PT1H
X-Robots-Tag:noindex
X-PUBLISHED-TTL:PT1H
BEGIN:VTIMEZONE
TZID:Europe/Brussels
BEGIN:DAYLIGHT
TZOFFSETFROM:+0100
TZOFFSETTO:+0200
TZNAME:CEST
DTSTART:20260329T010000
END:DAYLIGHT
BEGIN:STANDARD
TZOFFSETFROM:+0200
TZOFFSETTO:+0100
TZNAME:CET
DTSTART:20261025T010000
END:STANDARD
END:VTIMEZONE
BEGIN:VEVENT
DTSTART;TZID=Europe/Brussels:20260203T100000
DTEND;TZID=Europe/Brussels:20260203T110000
DTSTAMP:20260424T082956
CREATED:20260127T150008Z
LAST-MODIFIED:20260127T150008Z
UID:91549-1770112800-1770116400@www.woluwe1150.be
SUMMARY:Méditation guidée
DESCRIPTION:Envie ou besoin de vous poser ? Essayez la médiation guidée ! \nAnimées par Yvette\, ces séances vous feront passer un moment de détente et de calme. Vous en sortirez apaisés et davantage ancrés dans le moment présent ! \nInscription obligatoire : 02/773.06.71 ou bib.cho@woluwe1150.be
URL:https://www.woluwe1150.be/event/meditation-guidee-11/
LOCATION:Bibliothèque du Chant d’Oiseau\, 40 avenue du Chant d'Oiseau\, Woluwe-Saint-Pierre\, 1150
CATEGORIES:Animation,Littérature
ATTACH;FMTTYPE=image/png:https://www.woluwe1150.be/app/uploads/2025/02/meditation_guidee.png
END:VEVENT
BEGIN:VEVENT
DTSTART;TZID=Europe/Brussels:20260207T140000
DTEND;TZID=Europe/Brussels:20260207T160000
DTSTAMP:20260424T082956
CREATED:20260127T150757Z
LAST-MODIFIED:20260127T150757Z
UID:91605-1770472800-1770480000@www.woluwe1150.be
SUMMARY:Escape philo – Trouve ta liberté !
DESCRIPTION:Un jeu de plateau avec des questions\, des énigmes et des contes pour aborder le thème de la liberté. \nPour les 9-13 ans. \nInscription obligatoire : 02/435.59.22 ou bib.jb.jeunesse@woluwe1150.be
URL:https://www.woluwe1150.be/event/escape-philo-trouve-ta-liberte/
LOCATION:bibliothèque de Joli-Bois\, Drève des Shetlands 15\, Woluwe-Saint-Pierre\, 1150
CATEGORIES:Animation,Enfants,Littérature
ATTACH;FMTTYPE=image/png:https://www.woluwe1150.be/app/uploads/2026/01/escape_philo.png
ORGANIZER;CN="Biblioth%C3%A8que de Joli-Bois - Jeunesse":MAILTO:bib.jb.jeunesse@woluwe1150.be
END:VEVENT
BEGIN:VEVENT
DTSTART;TZID=Europe/Brussels:20260207T140000
DTEND;TZID=Europe/Brussels:20260207T170000
DTSTAMP:20260424T082956
CREATED:20251204T082309Z
LAST-MODIFIED:20251204T082309Z
UID:88057-1770472800-1770483600@www.woluwe1150.be
SUMMARY:Fresque du Climat au Cercle Royal Horticole et Avicole
DESCRIPTION:Samedi 7 février : atelier « La Fresque du Climat » (M. Van Nieuwenhoven)\, organisée par le Cercle royal horticole et Avicole de Woluwe-Stockel. \n\n\n\n \nDe 14h à 17h. Sur inscription.\n \nPrix : Gratuit pour les membres en ordre de cotisation 2025 (20€). Accès à la conférence à 8€.\nInscription préalable indispensable : info@cercle-horticole-woluwe.be – 0488 416 259.\n \nSite web : cercle-horticole-woluwe.be
URL:https://www.woluwe1150.be/event/fresque-du-climat-au-cercle-royal-horticole-et-avicole/
CATEGORIES:Animation,Conférence,Développement Durable
ATTACH;FMTTYPE=image/png:https://www.woluwe1150.be/app/uploads/2024/06/Woluwe1150_Cercle-Royal-Horticol-et-Avicol.png
END:VEVENT
BEGIN:VEVENT
DTSTART;TZID=Europe/Brussels:20260207T140000
DTEND;TZID=Europe/Brussels:20260207T180000
DTSTAMP:20260424T082956
CREATED:20260107T152351Z
LAST-MODIFIED:20260202T120417Z
UID:90069-1770472800-1770487200@www.woluwe1150.be
SUMMARY:Carnaval des enfants 2026 - COMPLET
DESCRIPTION:La commune et l’ASBL Wolu-Animations vous invitent au carnaval des enfants le samedi 7 février de 14h à 18h au Centre communautaire de Joli-Bois (15 drève des Shetlands). \nDe nombreuses animations y sont prévues pour les enfants de tout âge : sculpteurs de ballons\, jongleurs\, échassiers\, grimage\, contes\, baby corner et atelier de construction sont au programme. \nLe lâcher de confettis et de ballons sera également au rendez-vous. \nPetite restauration et bar sur place. \nEnfilez votre plus beau déguisement et venez faire la fête avec nous ! \n  \nINFOS PRATIQUES : \n\nL’événement est sold out\, les réservations ne sont plus possibles !\nInformations complémentaires : njacqmin@woluwe1150.be (service Animations)
URL:https://www.woluwe1150.be/event/carnaval-des-enfants-2026/
LOCATION:centre communautaire de Joli-Bois\, 15 drève des Shetlands\, Woluwe-Saint-Pierre\, 1150
CATEGORIES:Animation,Enfants
ATTACH;FMTTYPE=image/png:https://www.woluwe1150.be/app/uploads/2026/01/carnaval_2026_soldout.png
ORGANIZER;CN="Service Animations - No%C3%ABlie Jacqmin":MAILTO:njacqmin@woluwe1150.be
END:VEVENT
BEGIN:VEVENT
DTSTART;TZID=Europe/Brussels:20260211T190000
DTEND;TZID=Europe/Brussels:20260211T203000
DTSTAMP:20260424T082956
CREATED:20260127T151056Z
LAST-MODIFIED:20260127T151056Z
UID:91614-1770836400-1770841800@www.woluwe1150.be
SUMMARY:Biblio-Thé-R-Happy ! (soirée)
DESCRIPTION:Une tasse de thé\, une thématique\, quelques livres et crayons… pour prendre soin de soi\, partager et profiter de la vie en toute simplicité. \nAtelier mensuel : \n\nsoit un mercredi de 19h à 20h30\nsoit un vendredi de 10h30 à 12h\n\nSur inscription : 02/773.06.71 ou bib.cho@woluwe1150.be
URL:https://www.woluwe1150.be/event/biblio-the-r-happy-soiree/
LOCATION:Bibliothèque du Chant d’Oiseau\, 40 avenue du Chant d'Oiseau\, Woluwe-Saint-Pierre\, 1150
CATEGORIES:Animation,Littérature
ATTACH;FMTTYPE=image/webp:https://www.woluwe1150.be/app/uploads/2024/08/bibliotherapy.webp
END:VEVENT
BEGIN:VEVENT
DTSTART;TZID=Europe/Brussels:20260213T103000
DTEND;TZID=Europe/Brussels:20260213T120000
DTSTAMP:20260424T082956
CREATED:20260127T151146Z
LAST-MODIFIED:20260127T151146Z
UID:91616-1770978600-1770984000@www.woluwe1150.be
SUMMARY:Biblio-Thé-R-Happy ! (matinée)
DESCRIPTION:Une tasse de thé\, une thématique\, quelques livres et crayons… pour prendre soin de soi\, partager et profiter de la vie en toute simplicité. \nAtelier mensuel : \n\nsoit un mercredi de 19h à 20h30\nsoit un vendredi de 10h30 à 12h\n\nSur inscription : 02/773.06.71 ou bib.cho@woluwe1150.be
URL:https://www.woluwe1150.be/event/biblio-the-r-happy-matinee/
LOCATION:Bibliothèque du Chant d’Oiseau\, 40 avenue du Chant d'Oiseau\, Woluwe-Saint-Pierre\, 1150
CATEGORIES:Animation,Littérature
ATTACH;FMTTYPE=image/webp:https://www.woluwe1150.be/app/uploads/2024/08/bibliotherapy.webp
END:VEVENT
BEGIN:VEVENT
DTSTART;TZID=Europe/Brussels:20260214T140000
DTEND;TZID=Europe/Brussels:20260214T170000
DTSTAMP:20260424T082956
CREATED:20260119T112621Z
LAST-MODIFIED:20260119T112621Z
UID:90478-1771077600-1771088400@www.woluwe1150.be
SUMMARY:Repair Café de la Médiathèque
DESCRIPTION:Venez réparer vos objets défectueux dans une ambiance conviviale et musicale.  \nLe Repair Café de la médiathèque a lieu le 2e samedi du mois\, de 14h à 17h.  \nPlus d’infos
URL:https://www.woluwe1150.be/event/repair-cafe-de-la-mediatheque-11/
LOCATION:Centre culturel/cultureel centrum Whalll\, 93 avenue Charles Thielemanslaan\, WSP/SPW\, 1150
CATEGORIES:Animation,Développement Durable
ATTACH;FMTTYPE=image/jpeg:https://www.woluwe1150.be/app/uploads/2025/01/repair_cafe_media.jpg
ORGANIZER;CN="M%C3%A9diath%C3%A8que de Woluwe-Saint-Pierre":MAILTO:wsp@lamediatheque.be
END:VEVENT
BEGIN:VEVENT
DTSTART;TZID=Europe/Brussels:20260217T120000
DTEND;TZID=Europe/Brussels:20260217T140000
DTSTAMP:20260424T082956
CREATED:20260126T094255Z
LAST-MODIFIED:20260126T094255Z
UID:90639-1771329600-1771336800@www.woluwe1150.be
SUMMARY:Repas du CCCO
DESCRIPTION:Le prochain repas du CCCO\, préparé et servi par la formidable équipe de l’asbl Vivre & Grandir\, aura lieu le mardi 17 février de 12h à 14h. \nInscription obligatoire avant le 13 février par e-mail à ccco@woluwe1150.be ou par téléphone au 02 673 76 73 (nombre de places limité). \nPrix conscient : à partir de 15–20 €.\nPetite bouteille de vin : 4 €. \nPaiement en cash uniquement.
URL:https://www.woluwe1150.be/event/repas-du-ccco-2/
LOCATION:Centre communautaire du Chant d’Oiseau\, 40 avenue du Chant d'Oiseau\, 1150 Woluwe-Saint-Pierre\, 1150\, Belgique
CATEGORIES:Animation
ATTACH;FMTTYPE=image/jpeg:https://www.woluwe1150.be/app/uploads/2026/01/repas_ccco_170226.jpg
ORGANIZER;CN="Centre communautaire du Chant d'Oiseau":MAILTO:ccco@woluwe1150.be
END:VEVENT
END:VCALENDAR