BEGIN:VCALENDAR
VERSION:2.0
PRODID:-//Woluwe Saint Pierre - ECPv6.13.2//NONSGML v1.0//EN
CALSCALE:GREGORIAN
METHOD:PUBLISH
X-WR-CALNAME:Woluwe Saint Pierre
X-ORIGINAL-URL:https://www.woluwe1150.be
X-WR-CALDESC:Évènements pour Woluwe Saint Pierre
REFRESH-INTERVAL;VALUE=DURATION:PT1H
X-Robots-Tag:noindex
X-PUBLISHED-TTL:PT1H
BEGIN:VTIMEZONE
TZID:Europe/Brussels
BEGIN:DAYLIGHT
TZOFFSETFROM:+0100
TZOFFSETTO:+0200
TZNAME:CEST
DTSTART:20260329T010000
END:DAYLIGHT
BEGIN:STANDARD
TZOFFSETFROM:+0200
TZOFFSETTO:+0100
TZNAME:CET
DTSTART:20261025T010000
END:STANDARD
END:VTIMEZONE
BEGIN:VEVENT
DTSTART;TZID=Europe/Brussels:20260508T000000
DTEND;TZID=Europe/Brussels:20260517T000000
DTSTAMP:20260424T065244
CREATED:20260416T133542Z
LAST-MODIFIED:20260416T133542Z
UID:94347-1778198400-1778976000@www.woluwe1150.be
SUMMARY:Kermesse de Stockel - printemps 2026
DESCRIPTION:Sensations\, gourmandises\, traditions foraines et activités familiales vous attendent sur la Place Dumon. \nVoici les stands présents pour la kermesse de printemps : carrousel\, waterball\, tir à l’arbalète (ballons)\, tir ficelles\, manège\, pêche aux canards\, auto-scooter\, trampoline\, lunapark\, ainsi qu’une offre variée de gourmandises sucrées et salées (frites\, gaufres\, croustillons\, etc.) \nLes stands de nourriture ouvrent généralement dès midi\, les autres attractions un peu plus tard. Les heures de fermeture dépendent de l’affluence et de la météo (21h-22h en général). \n 
URL:https://www.woluwe1150.be/event/kermesse-stockel-printemps-2026/
LOCATION:Place Dumonplein\, Place Dumonplein\, 1150 Woluwe-Saint-Pierre\, Belgique
CATEGORIES:Animation,Enfants
ATTACH;FMTTYPE=image/jpeg:https://www.woluwe1150.be/app/uploads/2023/04/foire-stockel-2022.jpg
ORGANIZER;CN="Service Vie %C3%A9conomique locale/Dienst Lokaal Economisch leven":MAILTO:economie@woluwe1150.be
END:VEVENT
BEGIN:VEVENT
DTSTART;TZID=Europe/Brussels:20260509T140000
DTEND;TZID=Europe/Brussels:20260509T170000
DTSTAMP:20260424T065244
CREATED:20260416T141014Z
LAST-MODIFIED:20260416T141014Z
UID:94391-1778335200-1778346000@www.woluwe1150.be
SUMMARY:Repair Café de la Médiathèque
DESCRIPTION:Venez réparer vos objets défectueux dans une ambiance conviviale et musicale.  \nLe Repair Café de la médiathèque a lieu le 2e samedi du mois\, de 14h à 17h.  \nPlus d’infos
URL:https://www.woluwe1150.be/event/repair-cafe-de-la-mediatheque/
LOCATION:Centre culturel/cultureel centrum Whalll\, 93 avenue Charles Thielemanslaan\, WSP/SPW\, 1150
CATEGORIES:Animation,Développement Durable
ATTACH;FMTTYPE=image/jpeg:https://www.woluwe1150.be/app/uploads/2025/01/repair_cafe_media.jpg
ORGANIZER;CN="Service D%C3%A9veloppement Durable":MAILTO:durable@woluwe1150.be
END:VEVENT
BEGIN:VEVENT
DTSTART;TZID=Europe/Brussels:20260510T110000
DTEND;TZID=Europe/Brussels:20260510T190000
DTSTAMP:20260424T065244
CREATED:20260416T133732Z
LAST-MODIFIED:20260420T120131Z
UID:94349-1778410800-1778439600@www.woluwe1150.be
SUMMARY:Fête de l’avenue de Tervueren 2026
DESCRIPTION:Dimanche 10 mai 2026 de 11h à 19h. \nL’avenue sera entièrement fermée à la circulation sur près de 3 km\, de Mérode à Chien Vert\, laissant place aux animations\, aux rencontres et à la découverte. \nAu programme : \n\nSpectacles\nInitiations sportives\nAttractions foraines\nAnimations pour enfants : châteaux gonflables\, jeux\, grimage\, etc.\nVillages thématiques : créatif\, international\, sportif\, associatif et communal\, marchands ambulants\nAteliers pour adultes : coiffure\, make-up\, fabrication de fleurs en papier\, etc.\nBars\, foodtrucks\, stands gourmands.\n\n  \nAvec le soutien de Viva Bruxelles (www.vivacite.be) 
URL:https://www.woluwe1150.be/event/fete-de-lavenue-de-tervueren-2026/
LOCATION:Avenue de tervueren/Tervurenlaan\, Avenue de Tervueren\, 1150 Woluwe-Saint-Pierre
CATEGORIES:Animation
ATTACH;FMTTYPE=image/png:https://www.woluwe1150.be/app/uploads/2026/03/tervueren_2026_affiche.png
ORGANIZER;CN="service Animations - Emilie Vanhoorne":MAILTO:events@woluwe1150.be
END:VEVENT
BEGIN:VEVENT
DTSTART;TZID=Europe/Brussels:20260519T100000
DTEND;TZID=Europe/Brussels:20260519T110000
DTSTAMP:20260424T065244
CREATED:20260421T133720Z
LAST-MODIFIED:20260421T133720Z
UID:94551-1779184800-1779188400@www.woluwe1150.be
SUMMARY:Méditation guidée
DESCRIPTION:Envie ou besoin de vous poser ? Essayez la médiation guidée ! \nAnimées par Yvette\, ces séances vous feront passer un moment de détente et de calme. Vous en sortirez apaisés et davantage ancrés dans le moment présent ! \nInscription obligatoire : 02/773.06.71 ou bib.cho@woluwe1150.be
URL:https://www.woluwe1150.be/event/meditation-guidee/
LOCATION:Bibliothèque du Chant d’Oiseau\, 40 avenue du Chant d'Oiseau\, Woluwe-Saint-Pierre\, 1150
CATEGORIES:Animation,Littérature
ATTACH;FMTTYPE=image/png:https://www.woluwe1150.be/app/uploads/2025/02/meditation_guidee.png
END:VEVENT
BEGIN:VEVENT
DTSTART;TZID=Europe/Brussels:20260519T120000
DTEND;TZID=Europe/Brussels:20260519T140000
DTSTAMP:20260424T065244
CREATED:20260421T121113Z
LAST-MODIFIED:20260421T121113Z
UID:94500-1779192000-1779199200@www.woluwe1150.be
SUMMARY:Lunch du mardi au CCCO
DESCRIPTION:Venez partager un délicieux repas dans une ambiance conviviale ! Les repas sont préparés et servis par les jeunes de l’asbl Vivre et Grandir (Service d’accompagnement pour adolescents et adultes présentant une déficience intellectuelle légère et modérée).  \nPublic : tous \nHoraire : les 3e mardis du mois de septembre à juin (sauf octobre pour cause de travaux : 2e mardi) \nPrix : libre (prix conscient) \nRenseignements : vivre.grandir@gmail.com \nRéservations avant le dimanche qui précède le repas au 02 673 76 73 ou ccco@woluwe1150.be
URL:https://www.woluwe1150.be/event/lunch-du-mardi-au-ccco/
LOCATION:Centre communautaire du Chant d’Oiseau\, 40 avenue du Chant d'Oiseau\, 1150 Woluwe-Saint-Pierre\, 1150\, Belgique
CATEGORIES:Animation,Centres de quartier
ATTACH;FMTTYPE=image/jpeg:https://www.woluwe1150.be/app/uploads/2026/03/midi_ccco_2026.jpg
ORGANIZER;CN="Centre communautaire du Chant d'Oiseau":MAILTO:ccco@woluwe1150.be
END:VEVENT
BEGIN:VEVENT
DTSTART;TZID=Europe/Brussels:20260520T160000
DTEND;TZID=Europe/Brussels:20260520T180000
DTSTAMP:20260424T065244
CREATED:20260421T134333Z
LAST-MODIFIED:20260421T134333Z
UID:94560-1779292800-1779300000@www.woluwe1150.be
SUMMARY:Atelier récit de vie (1/3)
DESCRIPTION:Première séance d’un atelier pour partager des moments de vie dans un cadre bienveillant\, pour structurer ses souvenirs et transmettre son histoire. \nLes 2 autres séances du cycle : \n\njeudi 4/06\njeudi 18/06\n\nAvec Marcel Orianne.  Pour adultes. \n\nSur inscription : 02/773.06.71 ou bib.cho@woluwe1150.be
URL:https://www.woluwe1150.be/event/atelier-recit-de-vie-1-3/
LOCATION:Bibliothèque du Chant d’Oiseau\, 40 avenue du Chant d'Oiseau\, Woluwe-Saint-Pierre\, 1150
CATEGORIES:Animation,Littérature
ATTACH;FMTTYPE=image/jpeg:https://www.woluwe1150.be/app/uploads/2023/04/ecriture_courrier_illu.jpg
END:VEVENT
BEGIN:VEVENT
DTSTART;TZID=Europe/Brussels:20260520T190000
DTEND;TZID=Europe/Brussels:20260520T203000
DTSTAMP:20260424T065244
CREATED:20260421T134502Z
LAST-MODIFIED:20260421T134502Z
UID:94562-1779303600-1779309000@www.woluwe1150.be
SUMMARY:Biblio-Thé-R-Happy ! (soirée)
DESCRIPTION:Une tasse de thé\, une thématique\, quelques livres et crayons… pour prendre soin de soi\, partager et profiter de la vie en toute simplicité. \nAtelier mensuel : \n\nsoit un mercredi de 19h à 20h30\nsoit un vendredi de 10h30 à 12h\n\nSur inscription : 02/773.06.71 ou bib.cho@woluwe1150.be
URL:https://www.woluwe1150.be/event/biblio-the-r-happy-soiree-4/
LOCATION:Bibliothèque du Chant d’Oiseau\, 40 avenue du Chant d'Oiseau\, Woluwe-Saint-Pierre\, 1150
CATEGORIES:Animation,Littérature
ATTACH;FMTTYPE=image/webp:https://www.woluwe1150.be/app/uploads/2024/08/bibliotherapy.webp
END:VEVENT
BEGIN:VEVENT
DTSTART;TZID=Europe/Brussels:20260522T103000
DTEND;TZID=Europe/Brussels:20260522T120000
DTSTAMP:20260424T065244
CREATED:20260421T134545Z
LAST-MODIFIED:20260421T134545Z
UID:94564-1779445800-1779451200@www.woluwe1150.be
SUMMARY:Biblio-Thé-R-Happy ! (matinée)
DESCRIPTION:Une tasse de thé\, une thématique\, quelques livres et crayons… pour prendre soin de soi\, partager et profiter de la vie en toute simplicité. \nAtelier mensuel : \n\nsoit un mercredi de 19h à 20h30\nsoit un vendredi de 10h30 à 12h\n\nSur inscription : 02/773.06.71 ou bib.cho@woluwe1150.be
URL:https://www.woluwe1150.be/event/biblio-the-r-happy-matinee-4/
LOCATION:Bibliothèque du Chant d’Oiseau\, 40 avenue du Chant d'Oiseau\, Woluwe-Saint-Pierre\, 1150
CATEGORIES:Animation,Littérature
ATTACH;FMTTYPE=image/webp:https://www.woluwe1150.be/app/uploads/2024/08/bibliotherapy.webp
END:VEVENT
BEGIN:VEVENT
DTSTART;TZID=Europe/Brussels:20260523T140000
DTEND;TZID=Europe/Brussels:20260523T170000
DTSTAMP:20260424T065244
CREATED:20260421T135043Z
LAST-MODIFIED:20260421T135043Z
UID:94570-1779544800-1779555600@www.woluwe1150.be
SUMMARY:Printemps des bibliothèques – Carnets artistiques et de voyage
DESCRIPTION:C’est le printemps des bibliothèques… \nUn chouette après-midi avec des ateliers de reliure\, écriture\, aquarelle\, tampons\, …\nVenez préparer VOTRE CARNET pour vos futurs voyages ! \nATTENTION ! Tous les ateliers sont sur inscription : 02/773.06.71 ou bib.cho@woluwe1150.be \n\n\nPour adultes. \n\n\n 
URL:https://www.woluwe1150.be/event/printemps-des-bibliotheques-carnets-artistiques-et-de-voyage/
LOCATION:Bibliothèque du Chant d’Oiseau\, 40 avenue du Chant d'Oiseau\, Woluwe-Saint-Pierre\, 1150
CATEGORIES:Animation,Littérature
ATTACH;FMTTYPE=image/webp:https://www.woluwe1150.be/app/uploads/2026/04/printemps_bibliotheques_2026.webp
END:VEVENT
BEGIN:VEVENT
DTSTART;TZID=Europe/Brussels:20260523T160000
DTEND;TZID=Europe/Brussels:20260523T200000
DTSTAMP:20260424T065244
CREATED:20260421T115916Z
LAST-MODIFIED:20260421T115916Z
UID:94479-1779552000-1779566400@www.woluwe1150.be
SUMMARY:Roller Disco party
DESCRIPTION:Besoin de te défouler et de t’amuser en bougeant ? Viens patiner sur une piste de roller géante et te déhancher au rythme de la musique ! Ambiance disco\, mais pas seulement. Prends tes patins avec toi et ton groupe de potes\, ça va être fun ! \n \nBar\, petite restauration et animation DJ.\nFamily & kids friendly.\n \nTu n’as pas de rollers ? Pas de panique\, il y en a à disposition sur place ! (attention nombre limité). \n \nTarifs :\n\nEntrée adulte patineur : 10€\nEntrée enfant/ado patineur : 8€\nEntrée visiteur (parent accompagnant ou enfant non patineur) : 2€ \n\n  \nRéservation
URL:https://www.woluwe1150.be/event/roller-disco-party/
LOCATION:centre communautaire de Joli-Bois\, 15 drève des Shetlands\, Woluwe-Saint-Pierre\, 1150
CATEGORIES:Animation,Enfants
ATTACH;FMTTYPE=image/png:https://www.woluwe1150.be/app/uploads/2026/04/roller_disco_party.png
ORGANIZER;CN="Centre communautaire de Joli-Bois":MAILTO:event.jolibois@gmail.com
END:VEVENT
END:VCALENDAR