BEGIN:VCALENDAR
VERSION:2.0
PRODID:-//Woluwe Saint Pierre - ECPv6.13.2//NONSGML v1.0//EN
CALSCALE:GREGORIAN
METHOD:PUBLISH
X-ORIGINAL-URL:https://www.woluwe1150.be
X-WR-CALDESC:Évènements pour Woluwe Saint Pierre
REFRESH-INTERVAL;VALUE=DURATION:PT1H
X-Robots-Tag:noindex
X-PUBLISHED-TTL:PT1H
BEGIN:VTIMEZONE
TZID:Europe/Brussels
BEGIN:DAYLIGHT
TZOFFSETFROM:+0100
TZOFFSETTO:+0200
TZNAME:CEST
DTSTART:20250330T010000
END:DAYLIGHT
BEGIN:STANDARD
TZOFFSETFROM:+0200
TZOFFSETTO:+0100
TZNAME:CET
DTSTART:20251026T010000
END:STANDARD
END:VTIMEZONE
BEGIN:VEVENT
DTSTART;TZID=Europe/Brussels:20250614T110000
DTEND;TZID=Europe/Brussels:20250614T180000
DTSTAMP:20260426T053317
CREATED:20250429T071526Z
LAST-MODIFIED:20250429T071526Z
UID:79399-1749898800-1749924000@www.woluwe1150.be
SUMMARY:Cité en Fête
DESCRIPTION:Fête annuelle de la Cité de l’Amitié. \nAu programme : châteaux gonflables\, verre de l’Amitié\, dj set\, etc.
URL:https://www.woluwe1150.be/event/cite-en-fete/
LOCATION:Cité de l’Amitié/Vriendschapswijk\, 48 rue de la Limite/Grensstraat\, WSP/SPW\, 1150
CATEGORIES:Animation,Centres de quartier
ATTACH;FMTTYPE=image/jpeg:https://www.woluwe1150.be/app/uploads/2025/04/cite_en_fete_2025.jpg
ORGANIZER;CN="ARA ASBL":MAILTO:ara.asbl@gmail.com
END:VEVENT
BEGIN:VEVENT
DTSTART;TZID=Europe/Brussels:20250614T120000
DTEND;TZID=Europe/Brussels:20250614T180000
DTSTAMP:20260426T053317
CREATED:20250528T114757Z
LAST-MODIFIED:20250528T114757Z
UID:80309-1749902400-1749924000@www.woluwe1150.be
SUMMARY:Estivales au Centre ARA
DESCRIPTION:Le Centre A.R.A vous propose 3 après-midis festives autour d’un barbecue\, accompagnées de surprises musicales. Une occasion parfaite de se retrouver et de partager des moments de convivialité dans une ambiance chaleureuse. \nEntrée libre\, bar et restauration à petits prix.
URL:https://www.woluwe1150.be/event/estivales-au-centre-ara/
LOCATION:Cité de l’Amitié/Vriendschapswijk\, 48 rue de la Limite/Grensstraat\, WSP/SPW\, 1150
CATEGORIES:Animation
ATTACH;FMTTYPE=image/png:https://www.woluwe1150.be/app/uploads/2025/05/ara-bbq.png
ORGANIZER;CN="ARA ASBL":MAILTO:ara.asbl@gmail.com
END:VEVENT
BEGIN:VEVENT
DTSTART;TZID=Europe/Brussels:20250614T140000
DTEND;TZID=Europe/Brussels:20250614T170000
DTSTAMP:20260426T053317
CREATED:20250526T102012Z
LAST-MODIFIED:20250526T102012Z
UID:80170-1749909600-1749920400@www.woluwe1150.be
SUMMARY:Repair Café de la médiathèque
DESCRIPTION:Au cœur de la Médiathèque de Woluwe-Saint-Pierre se tient\, chaque 2e samedi du mois\, le Repair Café. Venez réparer vos objets défectueux entre 14h et 17h. \nAmbiance chaleureuse et musicale.
URL:https://www.woluwe1150.be/event/repair-cafe-de-la-mediatheque-5/
LOCATION:Médiathèque de Woluwe-Saint-Pierre\, 93 avenue Charles Thielemans\, Woluwe-Saint-Pierre\, 1150
CATEGORIES:Animation,Développement Durable
ATTACH;FMTTYPE=image/jpeg:https://www.woluwe1150.be/app/uploads/2025/01/repair_cafe_media.jpg
ORGANIZER;CN="M%C3%A9diath%C3%A8que de Woluwe-Saint-Pierre":MAILTO:wsp@lamediatheque.be
END:VEVENT
END:VCALENDAR