BEGIN:VCALENDAR
VERSION:2.0
PRODID:-//Woluwe Saint Pierre - ECPv6.13.2//NONSGML v1.0//EN
CALSCALE:GREGORIAN
METHOD:PUBLISH
X-WR-CALNAME:Woluwe Saint Pierre
X-ORIGINAL-URL:https://www.woluwe1150.be
X-WR-CALDESC:Évènements pour Woluwe Saint Pierre
REFRESH-INTERVAL;VALUE=DURATION:PT1H
X-Robots-Tag:noindex
X-PUBLISHED-TTL:PT1H
BEGIN:VTIMEZONE
TZID:Europe/Brussels
BEGIN:DAYLIGHT
TZOFFSETFROM:+0100
TZOFFSETTO:+0200
TZNAME:CEST
DTSTART:20250330T010000
END:DAYLIGHT
BEGIN:STANDARD
TZOFFSETFROM:+0200
TZOFFSETTO:+0100
TZNAME:CET
DTSTART:20251026T010000
END:STANDARD
END:VTIMEZONE
BEGIN:VEVENT
DTSTART;TZID=Europe/Brussels:20250808T000000
DTEND;TZID=Europe/Brussels:20250817T000000
DTSTAMP:20260424T195656
CREATED:20250708T142149Z
LAST-MODIFIED:20250806T111920Z
UID:81367-1754611200-1755388800@www.woluwe1150.be
SUMMARY:Kermesse de Stockel
DESCRIPTION:La foire reviendra sur la place Dumon du 8 au 17 août 2025. \nVenez profiter de ses attractions et gourmandises en famille ou entre amis : waterball\, luna park\, chenille\, tir\, jeux-boite\, carrousel\, pêche aux canards\, trampoline élastique\, friterie\, confiserie/barbe à papa\, escargots\, etc. \nLes attractions ouvrent vers 14h (les stands de nourriture vers 12h) et jusqu’à 21h-22h en fonction de la météo.
URL:https://www.woluwe1150.be/event/kermesse-de-stockel/
LOCATION:Place Dumonplein\, Place Dumonplein\, 1150 Woluwe-Saint-Pierre\, Belgique
CATEGORIES:Animation
ATTACH;FMTTYPE=image/jpeg:https://www.woluwe1150.be/app/uploads/2018/04/Kermesse_stockel.jpg
ORGANIZER;CN="Service Vie %C3%A9conomique locale/Dienst Lokaal Economisch leven":MAILTO:economie@woluwe1150.be
END:VEVENT
END:VCALENDAR