BEGIN:VCALENDAR
VERSION:2.0
PRODID:-//Woluwe Saint Pierre - ECPv6.13.2//NONSGML v1.0//EN
CALSCALE:GREGORIAN
METHOD:PUBLISH
X-ORIGINAL-URL:https://www.woluwe1150.be
X-WR-CALDESC:Évènements pour Woluwe Saint Pierre
REFRESH-INTERVAL;VALUE=DURATION:PT1H
X-Robots-Tag:noindex
X-PUBLISHED-TTL:PT1H
BEGIN:VTIMEZONE
TZID:Europe/Brussels
BEGIN:DAYLIGHT
TZOFFSETFROM:+0100
TZOFFSETTO:+0200
TZNAME:CEST
DTSTART:20250330T010000
END:DAYLIGHT
BEGIN:STANDARD
TZOFFSETFROM:+0200
TZOFFSETTO:+0100
TZNAME:CET
DTSTART:20251026T010000
END:STANDARD
END:VTIMEZONE
BEGIN:VEVENT
DTSTART;TZID=Europe/Brussels:20251005T130000
DTEND;TZID=Europe/Brussels:20251005T180000
DTSTAMP:20260424T181213
CREATED:20250915T135621Z
LAST-MODIFIED:20250915T135621Z
UID:82907-1759669200-1759687200@www.woluwe1150.be
SUMMARY:Festival coréen : Fête des moissons
DESCRIPTION:L’association KOCEABE.asbl vous invite à découvrir la richesse de la culture coréenne lors de la 5e édition de l’événement « La Corée arrive »\, placé cette année sous le signe de la fête des moissons. \nAu programme\, un voyage inédit au cœur de la Corée : \n\nAteliers K-Art\nQuiz et jeux traditionnels coréens\nRécits de voyage en Corée\nAtelier gastronomique coréen (K-Food)\nSpectacle de danse K-Pop\nAtelier de langue coréenne (Hangeul)\n\nDimanche 5 octobre de 13h à 18h au WHalll (salle Fabry) \n  \nLes places étant limitées\, l’inscription préalable est indispensable. \nLes matériaux pour les ateliers et les jeux sont inclus. \nInscription à partir du 15 septembre via ce formulaire \n  \nPour plus d’informations par mail ou sur le site de l’association \nVenez célébrer la culture coréenne et partager un moment festif et convivial !
URL:https://www.woluwe1150.be/event/festival-coreen-fete-des-moissons/
LOCATION:Centre culturel/cultureel centrum Whalll\, 93 avenue Charles Thielemanslaan\, WSP/SPW\, 1150
CATEGORIES:Animation
ATTACH;FMTTYPE=image/png:https://www.woluwe1150.be/app/uploads/2025/09/festival_coreen_2025.png
ORGANIZER;CN="Koceabe.ASBL":MAILTO:yksong.koceabe@gmail.com
END:VEVENT
END:VCALENDAR