BEGIN:VCALENDAR
VERSION:2.0
PRODID:-//Woluwe Saint Pierre - ECPv6.13.2//NONSGML v1.0//EN
CALSCALE:GREGORIAN
METHOD:PUBLISH
X-WR-CALNAME:Woluwe Saint Pierre
X-ORIGINAL-URL:https://www.woluwe1150.be
X-WR-CALDESC:Évènements pour Woluwe Saint Pierre
REFRESH-INTERVAL;VALUE=DURATION:PT1H
X-Robots-Tag:noindex
X-PUBLISHED-TTL:PT1H
BEGIN:VTIMEZONE
TZID:Europe/Brussels
BEGIN:DAYLIGHT
TZOFFSETFROM:+0100
TZOFFSETTO:+0200
TZNAME:CEST
DTSTART:20250330T010000
END:DAYLIGHT
BEGIN:STANDARD
TZOFFSETFROM:+0200
TZOFFSETTO:+0100
TZNAME:CET
DTSTART:20251026T010000
END:STANDARD
END:VTIMEZONE
BEGIN:VEVENT
DTSTART;TZID=Europe/Brussels:20251031T170000
DTEND;TZID=Europe/Brussels:20251031T200000
DTSTAMP:20260424T162639
CREATED:20250922T142045Z
LAST-MODIFIED:20250922T142045Z
UID:83156-1761930000-1761940800@www.woluwe1150.be
SUMMARY:Marche aux Lampions au Chant d’Oiseau
DESCRIPTION:L’association Vivre au Chant d’Oiseau organise une marche aux lampions le 31 octobre\, à l’occasion d’Halloween. Enfilez votre plus beau déguisement et venez avec votre lampion au départ de la marche\, devant le 7 avenue du Loriot. Pour limiter les embouteillages\, trois départs seront donnés : 17h30\, 17h45 et 18h. Des bonbons seront distribués sur le parcours par des monstres. Les habitants du quartier sont invités à sortir de chez eux pour participer à cette distribution s’ils le désirent. \nLe bar sera ouvert dès 17h pour vous faire patienter et au retour de la marche pour vous réchauffer. Venez partager une soupe ou un vin chaud. \n 
URL:https://www.woluwe1150.be/event/marche-aux-lampions-au-chant-doiseau-2/
CATEGORIES:Animation,Enfants
ATTACH;FMTTYPE=image/jpeg:https://www.woluwe1150.be/app/uploads/2025/09/marche-aux-lampions-chant-doiseau-2025.jpg
ORGANIZER;CN="Vivre au Chant d'Oieau ASBL":MAILTO:hello@chantdoiseau.be
END:VEVENT
END:VCALENDAR