BEGIN:VCALENDAR
VERSION:2.0
PRODID:-//Woluwe Saint Pierre - ECPv6.13.2//NONSGML v1.0//EN
CALSCALE:GREGORIAN
METHOD:PUBLISH
X-ORIGINAL-URL:https://www.woluwe1150.be
X-WR-CALDESC:Évènements pour Woluwe Saint Pierre
REFRESH-INTERVAL;VALUE=DURATION:PT1H
X-Robots-Tag:noindex
X-PUBLISHED-TTL:PT1H
BEGIN:VTIMEZONE
TZID:Europe/Brussels
BEGIN:DAYLIGHT
TZOFFSETFROM:+0100
TZOFFSETTO:+0200
TZNAME:CEST
DTSTART:20250330T010000
END:DAYLIGHT
BEGIN:STANDARD
TZOFFSETFROM:+0200
TZOFFSETTO:+0100
TZNAME:CET
DTSTART:20251026T010000
END:STANDARD
END:VTIMEZONE
BEGIN:VEVENT
DTSTART;TZID=Europe/Brussels:20251118T100000
DTEND;TZID=Europe/Brussels:20251118T110000
DTSTAMP:20260424T142909
CREATED:20251028T100222Z
LAST-MODIFIED:20251028T100222Z
UID:86595-1763460000-1763463600@www.woluwe1150.be
SUMMARY:Méditation guidée
DESCRIPTION:Envie ou besoin de vous poser ? Essayez la médiation guidée ! \nAnimées par Yvette\, ces séances vous feront passer un moment de détente et de calme. Vous en sortirez apaisés et davantage ancrés dans le moment présent ! \nInscription obligatoire : 02/773.06.71 ou bib.cho@woluwe1150.be
URL:https://www.woluwe1150.be/event/meditation-guidee-8/
LOCATION:Bibliothèque du Chant d’Oiseau\, 40 avenue du Chant d'Oiseau\, Woluwe-Saint-Pierre\, 1150
CATEGORIES:Animation,Littérature
ATTACH;FMTTYPE=image/png:https://www.woluwe1150.be/app/uploads/2025/02/meditation_guidee.png
END:VEVENT
BEGIN:VEVENT
DTSTART;TZID=Europe/Brussels:20251118T120000
DTEND;TZID=Europe/Brussels:20251118T140000
DTSTAMP:20260424T142909
CREATED:20251023T092747Z
LAST-MODIFIED:20251023T092747Z
UID:85824-1763467200-1763474400@www.woluwe1150.be
SUMMARY:Repas du CCCO
DESCRIPTION:Le prochain Repas du CCCO\, préparé et servi par la super équipe de l’asbl Vivre & Grandir\, c’est le mardi 18 novembre\, de 12h à 14h. \nInscription obligatoire avant le 16/11 à l’adresse ccco@woluwe1150.be ou au 02 673 76 73 (Le nombre de place est limité). \nPrix conscient (à partir de 15-20€) – Petite bouteille de vin à 4€. \nPaiement en cash. 
URL:https://www.woluwe1150.be/event/repas-du-ccco-10/
LOCATION:Centre communautaire du Chant d’Oiseau\, 40 avenue du Chant d'Oiseau\, 1150 Woluwe-Saint-Pierre\, 1150\, Belgique
CATEGORIES:Animation
ATTACH;FMTTYPE=image/jpeg:https://www.woluwe1150.be/app/uploads/2025/10/repas_ccco_1125.jpg
ORGANIZER;CN="Centre communautaire du Chant d'Oiseau":MAILTO:ccco@woluwe1150.be
END:VEVENT
END:VCALENDAR