BEGIN:VCALENDAR
VERSION:2.0
PRODID:-//Woluwe Saint Pierre - ECPv6.13.2//NONSGML v1.0//EN
CALSCALE:GREGORIAN
METHOD:PUBLISH
X-WR-CALNAME:Woluwe Saint Pierre
X-ORIGINAL-URL:https://www.woluwe1150.be
X-WR-CALDESC:Évènements pour Woluwe Saint Pierre
REFRESH-INTERVAL;VALUE=DURATION:PT1H
X-Robots-Tag:noindex
X-PUBLISHED-TTL:PT1H
BEGIN:VTIMEZONE
TZID:Europe/Brussels
BEGIN:DAYLIGHT
TZOFFSETFROM:+0100
TZOFFSETTO:+0200
TZNAME:CEST
DTSTART:20250330T010000
END:DAYLIGHT
BEGIN:STANDARD
TZOFFSETFROM:+0200
TZOFFSETTO:+0100
TZNAME:CET
DTSTART:20251026T010000
END:STANDARD
END:VTIMEZONE
BEGIN:VEVENT
DTSTART;TZID=Europe/Brussels:20251122T140000
DTEND;TZID=Europe/Brussels:20251122T160000
DTSTAMP:20260424T142717
CREATED:20251028T101316Z
LAST-MODIFIED:20251028T101316Z
UID:86606-1763820000-1763827200@www.woluwe1150.be
SUMMARY:Atelier Calendrier de l’Avent
DESCRIPTION:Profitez de la motivation collective pour confectionner votre calendrier de l’Avent personnel\, sur base de récup’ ! \nPublic familial. \nInscription obligatoire : 02/773.06.71 ou bib.cho.jeunesse@woluwe1150.be
URL:https://www.woluwe1150.be/event/atelier-calendrier-de-lavent/
LOCATION:Bibliothèque du Chant d’Oiseau\, 40 avenue du Chant d'Oiseau\, Woluwe-Saint-Pierre\, 1150
CATEGORIES:Enfants,Animation
ATTACH;FMTTYPE=image/png:https://www.woluwe1150.be/app/uploads/2025/10/calendrier_avent.png
ORGANIZER;CN="Biblioth%C3%A8que du Chant d'Oiseau - Jeunesse":MAILTO:bib.cho.jeunesse@woluwe1150.be
END:VEVENT
END:VCALENDAR