BEGIN:VCALENDAR
VERSION:2.0
PRODID:-//Woluwe Saint Pierre - ECPv6.13.2//NONSGML v1.0//EN
CALSCALE:GREGORIAN
METHOD:PUBLISH
X-WR-CALNAME:Woluwe Saint Pierre
X-ORIGINAL-URL:https://www.woluwe1150.be
X-WR-CALDESC:Évènements pour Woluwe Saint Pierre
REFRESH-INTERVAL;VALUE=DURATION:PT1H
X-Robots-Tag:noindex
X-PUBLISHED-TTL:PT1H
BEGIN:VTIMEZONE
TZID:Europe/Brussels
BEGIN:DAYLIGHT
TZOFFSETFROM:+0100
TZOFFSETTO:+0200
TZNAME:CEST
DTSTART:20260329T010000
END:DAYLIGHT
BEGIN:STANDARD
TZOFFSETFROM:+0200
TZOFFSETTO:+0100
TZNAME:CET
DTSTART:20261025T010000
END:STANDARD
END:VTIMEZONE
BEGIN:VEVENT
DTSTART;TZID=Europe/Brussels:20260412T080000
DTEND;TZID=Europe/Brussels:20260412T180000
DTSTAMP:20260424T081830
CREATED:20260317T110153Z
LAST-MODIFIED:20260317T110153Z
UID:93252-1775980800-1776016800@www.woluwe1150.be
SUMMARY:Marche Adeps à Stockel
DESCRIPTION:Les marches Adeps sont des randonnées fléchées spécialement pour l’occasion\, que chaque participant peut suivre de manière autonome\, avec départ libre tout au long de la journée (8h-18h). L’événement est gratuit et accessible à tous\, petits et grands.  \nLe 12 avril\, Le Sacré-Cœur de Stockel propose une marche au départ de l’école : \n\nDes parcours balisés qui passent par la Forêt de Soignes.\nTrois distances (5 km\, 10 km ou 20 km) afin de s’adapter à tous les niveaux.\nStand buvette et barbecue à l’arrivée.\nAdresse de départ et d’arrivée : rue François Vander Elst 15.\n\nUne belle opportunité de bouger\, découvrir la nature près de chez nous et partager un moment convivial.
URL:https://www.woluwe1150.be/event/marche-adeps-a-stockel/
LOCATION:Ecole du Sacré Coeur de Stockel\, 15 rue François Vander Elst\, Woluwe-Saint-Pierre\, 1150
CATEGORIES:Animation,Enfants,Sport
ATTACH;FMTTYPE=image/jpeg:https://www.woluwe1150.be/app/uploads/2026/03/marche_adeps_stockel_0426.jpg
END:VEVENT
BEGIN:VEVENT
DTSTART;TZID=Europe/Brussels:20260412T140000
DTEND;TZID=Europe/Brussels:20260412T160000
DTSTAMP:20260424T081830
CREATED:20260303T085250Z
LAST-MODIFIED:20260303T085250Z
UID:92819-1776002400-1776009600@www.woluwe1150.be
SUMMARY:Promenade gratuite "Les oiseaux d'eau du Rouge-Cloître"
DESCRIPTION:Organisation : Natura Woluwe. \nRendez-vous à 14 h. devant le centre d’exposition (cour d’honneur ) du Rouge-Cloître\, rue du Rouge-Cloître\, 4 à Auderghem \nThème : observation des oiseaux d’eau des étangs au printemps. \nDurée de la promenade guidée gratuite : environ 2 heures\, jumelles vivement recommandées. Commentaires en français. \nInformations et inscription (obligatoire) auprès  du guide-nature Bernard DETHY dethyber@gmail.com  ou par message GSM 0475655508 .
URL:https://www.woluwe1150.be/event/promenade-gratuite-les-oiseaux-deau-du-rouge-cloitre/
CATEGORIES:Animation,Développement Durable,Balade
ATTACH;FMTTYPE=image/jpeg:https://www.woluwe1150.be/app/uploads/2026/03/Woluwe1150_Oiseaux-du-rouge-cloitre.jpg
ORGANIZER;CN="Natura Woluwe":MAILTO:raymonddelahaye08@gmail.com
END:VEVENT
END:VCALENDAR