BEGIN:VCALENDAR
VERSION:2.0
PRODID:-//Woluwe Saint Pierre - ECPv6.13.2//NONSGML v1.0//EN
CALSCALE:GREGORIAN
METHOD:PUBLISH
X-ORIGINAL-URL:https://www.woluwe1150.be
X-WR-CALDESC:Évènements pour Woluwe Saint Pierre
REFRESH-INTERVAL;VALUE=DURATION:PT1H
X-Robots-Tag:noindex
X-PUBLISHED-TTL:PT1H
BEGIN:VTIMEZONE
TZID:Europe/Brussels
BEGIN:DAYLIGHT
TZOFFSETFROM:+0100
TZOFFSETTO:+0200
TZNAME:CEST
DTSTART:20260329T010000
END:DAYLIGHT
BEGIN:STANDARD
TZOFFSETFROM:+0200
TZOFFSETTO:+0100
TZNAME:CET
DTSTART:20261025T010000
END:STANDARD
END:VTIMEZONE
BEGIN:VEVENT
DTSTART;TZID=Europe/Brussels:20260419T100000
DTEND;TZID=Europe/Brussels:20260419T123000
DTSTAMP:20260424T181121
CREATED:20260317T121218Z
LAST-MODIFIED:20260317T121218Z
UID:93302-1776592800-1776601800@www.woluwe1150.be
SUMMARY:Animations printanières
DESCRIPTION:Le Centre Crousse organise une matinée d’animations printanières le samedi 19 avril 2026 de 10h à 12h30 : \n\nBricolages\nJeux d’animations\nFriandises\,\nEtc.\n\nPAF : 5 €/enfant. Inscription obligatoire (au plus tard le 5 avril) : asblcentrecrousse@skynet.be
URL:https://www.woluwe1150.be/event/animations-printanieres/
LOCATION:Centre Crousse\, 11 rue au Bois\, Woluwe-Saint-Pierre\, 1150
CATEGORIES:Animation,Enfants
ATTACH;FMTTYPE=image/jpeg:https://www.woluwe1150.be/app/uploads/2026/03/paques_crousse_2026.jpg
ORGANIZER;CN="Centre Crousse":MAILTO:asblcentrecrousse@skynet.be
END:VEVENT
BEGIN:VEVENT
DTSTART;TZID=Europe/Brussels:20260419T100000
DTEND;TZID=Europe/Brussels:20260419T170000
DTSTAMP:20260424T181121
CREATED:20260317T112529Z
LAST-MODIFIED:20260317T112529Z
UID:93278-1776592800-1776618000@www.woluwe1150.be
SUMMARY:Philippine Food Festival
DESCRIPTION:Découvrez la richesse de la cuisine des Philippines en goûtant aux saveurs exotiques des différentes régions du pays.  \nInfos : page Facebook Philippine Food Festival in Brussels. \nEntrée gratuite. \n 
URL:https://www.woluwe1150.be/event/philippine-food-festival/
LOCATION:centre communautaire de Joli-Bois\, 15 drève des Shetlands\, Woluwe-Saint-Pierre\, 1150
CATEGORIES:Animation
ATTACH;FMTTYPE=image/jpeg:https://www.woluwe1150.be/app/uploads/2026/03/philippine_food_festival.jpg
END:VEVENT
END:VCALENDAR