BEGIN:VCALENDAR
VERSION:2.0
PRODID:-//Woluwe Saint Pierre - ECPv6.13.2//NONSGML v1.0//EN
CALSCALE:GREGORIAN
METHOD:PUBLISH
X-ORIGINAL-URL:https://www.woluwe1150.be
X-WR-CALDESC:Évènements pour Woluwe Saint Pierre
REFRESH-INTERVAL;VALUE=DURATION:PT1H
X-Robots-Tag:noindex
X-PUBLISHED-TTL:PT1H
BEGIN:VTIMEZONE
TZID:Europe/Brussels
BEGIN:DAYLIGHT
TZOFFSETFROM:+0100
TZOFFSETTO:+0200
TZNAME:CEST
DTSTART:20260329T010000
END:DAYLIGHT
BEGIN:STANDARD
TZOFFSETFROM:+0200
TZOFFSETTO:+0100
TZNAME:CET
DTSTART:20261025T010000
END:STANDARD
END:VTIMEZONE
BEGIN:VEVENT
DTSTART;TZID=Europe/Brussels:20260425T140000
DTEND;TZID=Europe/Brussels:20260425T180000
DTSTAMP:20260424T161246
CREATED:20260402T140649Z
LAST-MODIFIED:20260402T140853Z
UID:94037-1777125600-1777140000@www.woluwe1150.be
SUMMARY:Fête du Printemps à la Ferme de la Trèflerie
DESCRIPTION:L’équipe de la ferme de la Trèflerie est ravie de vous inviter à sa toute première fête du printemps ! \nDans le cadre des 48h de l’agriculture urbaine\, on y célèbrera la paysannerie\, les fleurs\, pousses et bourgeons\, et surtout le lancement de la saison dans cette belle ferme qui prend forme. \nAu programme : visites\, jeux\, animations\, pépinière\, des illustrations et un bar avec de quoi grignoter. \nAu plaisir de vous y voir !
URL:https://www.woluwe1150.be/event/fete-du-printemps-a-la-ferme-de-la-treflerie/
LOCATION:Champ des Dames Blanches\, Tir aux Pigeons\, Woluwe-Saint-Pierre\, 1150
CATEGORIES:Animation,Développement Durable
ATTACH;FMTTYPE=image/jpeg:https://www.woluwe1150.be/app/uploads/2026/04/fete_printemps_dames_blanches.jpg
ORGANIZER;CN="Ferme de la Tr%C3%A8flerie":MAILTO:infolechamplibre@gmail.com
END:VEVENT
END:VCALENDAR