BEGIN:VCALENDAR
VERSION:2.0
PRODID:-//Woluwe Saint Pierre - ECPv6.13.2//NONSGML v1.0//EN
CALSCALE:GREGORIAN
METHOD:PUBLISH
X-ORIGINAL-URL:https://www.woluwe1150.be
X-WR-CALDESC:Évènements pour Woluwe Saint Pierre
REFRESH-INTERVAL;VALUE=DURATION:PT1H
X-Robots-Tag:noindex
X-PUBLISHED-TTL:PT1H
BEGIN:VTIMEZONE
TZID:Europe/Brussels
BEGIN:DAYLIGHT
TZOFFSETFROM:+0100
TZOFFSETTO:+0200
TZNAME:CEST
DTSTART:20260329T010000
END:DAYLIGHT
BEGIN:STANDARD
TZOFFSETFROM:+0200
TZOFFSETTO:+0100
TZNAME:CET
DTSTART:20261025T010000
END:STANDARD
END:VTIMEZONE
BEGIN:VEVENT
DTSTART;TZID=Europe/Brussels:20260508T000000
DTEND;TZID=Europe/Brussels:20260517T000000
DTSTAMP:20260425T004408
CREATED:20260416T133542Z
LAST-MODIFIED:20260416T133542Z
UID:94347-1778198400-1778976000@www.woluwe1150.be
SUMMARY:Kermesse de Stockel - printemps 2026
DESCRIPTION:Sensations\, gourmandises\, traditions foraines et activités familiales vous attendent sur la Place Dumon. \nVoici les stands présents pour la kermesse de printemps : carrousel\, waterball\, tir à l’arbalète (ballons)\, tir ficelles\, manège\, pêche aux canards\, auto-scooter\, trampoline\, lunapark\, ainsi qu’une offre variée de gourmandises sucrées et salées (frites\, gaufres\, croustillons\, etc.) \nLes stands de nourriture ouvrent généralement dès midi\, les autres attractions un peu plus tard. Les heures de fermeture dépendent de l’affluence et de la météo (21h-22h en général). \n 
URL:https://www.woluwe1150.be/event/kermesse-stockel-printemps-2026/
LOCATION:Place Dumonplein\, Place Dumonplein\, 1150 Woluwe-Saint-Pierre\, Belgique
CATEGORIES:Animation,Enfants
ATTACH;FMTTYPE=image/jpeg:https://www.woluwe1150.be/app/uploads/2023/04/foire-stockel-2022.jpg
ORGANIZER;CN="Service Vie %C3%A9conomique locale/Dienst Lokaal Economisch leven":MAILTO:economie@woluwe1150.be
END:VEVENT
BEGIN:VEVENT
DTSTART;TZID=Europe/Brussels:20260509T140000
DTEND;TZID=Europe/Brussels:20260509T170000
DTSTAMP:20260425T004408
CREATED:20260416T141014Z
LAST-MODIFIED:20260416T141014Z
UID:94391-1778335200-1778346000@www.woluwe1150.be
SUMMARY:Repair Café de la Médiathèque
DESCRIPTION:Venez réparer vos objets défectueux dans une ambiance conviviale et musicale.  \nLe Repair Café de la médiathèque a lieu le 2e samedi du mois\, de 14h à 17h.  \nPlus d’infos
URL:https://www.woluwe1150.be/event/repair-cafe-de-la-mediatheque/
LOCATION:Centre culturel/cultureel centrum Whalll\, 93 avenue Charles Thielemanslaan\, WSP/SPW\, 1150
CATEGORIES:Animation,Développement Durable
ATTACH;FMTTYPE=image/jpeg:https://www.woluwe1150.be/app/uploads/2025/01/repair_cafe_media.jpg
ORGANIZER;CN="Service D%C3%A9veloppement Durable":MAILTO:durable@woluwe1150.be
END:VEVENT
END:VCALENDAR