BEGIN:VCALENDAR
VERSION:2.0
PRODID:-//Woluwe Saint Pierre - ECPv6.13.2//NONSGML v1.0//EN
CALSCALE:GREGORIAN
METHOD:PUBLISH
X-WR-CALNAME:Woluwe Saint Pierre
X-ORIGINAL-URL:https://www.woluwe1150.be
X-WR-CALDESC:Évènements pour Woluwe Saint Pierre
REFRESH-INTERVAL;VALUE=DURATION:PT1H
X-Robots-Tag:noindex
X-PUBLISHED-TTL:PT1H
BEGIN:VTIMEZONE
TZID:Europe/Brussels
BEGIN:DAYLIGHT
TZOFFSETFROM:+0100
TZOFFSETTO:+0200
TZNAME:CEST
DTSTART:20250330T010000
END:DAYLIGHT
BEGIN:STANDARD
TZOFFSETFROM:+0200
TZOFFSETTO:+0100
TZNAME:CET
DTSTART:20251026T010000
END:STANDARD
END:VTIMEZONE
BEGIN:VEVENT
DTSTART;TZID=Europe/Brussels:20251206T150000
DTEND;TZID=Europe/Brussels:20251206T180000
DTSTAMP:20260426T010200
CREATED:20251120T092916Z
LAST-MODIFIED:20251120T092916Z
UID:86977-1765033200-1765044000@www.woluwe1150.be
SUMMARY:Saint-Nicolas à Joli-Bois
DESCRIPTION:Rencontre avec Saint-Nicolas\, petit bar\, stand crêpes\, jeux et dessins. \nSans oublier les étoiles dans les yeux. \nEntrée gratuite\, sans inscription.
URL:https://www.woluwe1150.be/event/saint-nicolas-a-joli-bois/
LOCATION:centre communautaire de Joli-Bois\, 15 drève des Shetlands\, Woluwe-Saint-Pierre\, 1150
CATEGORIES:Enfants,Centres de quartier
ATTACH;FMTTYPE=image/png:https://www.woluwe1150.be/app/uploads/2025/11/Saint-Nicolas-06.12_CCJB.png
ORGANIZER;CN="Centre communautaire de Joli-Bois":MAILTO:event.jolibois@gmail.com
END:VEVENT
BEGIN:VEVENT
DTSTART;TZID=Europe/Brussels:20251214T143000
DTEND;TZID=Europe/Brussels:20251214T163000
DTSTAMP:20260426T010200
CREATED:20251124T120059Z
LAST-MODIFIED:20251124T120059Z
UID:87104-1765722600-1765729800@www.woluwe1150.be
SUMMARY:Repair Café du Chant d'Oiseau
DESCRIPTION:Venez réparer ensemble vos petits électroménagers\, vélos\, vêtements\, ordinateurs\, etc.
URL:https://www.woluwe1150.be/event/repair-cafe-du-chant-doiseau-2/
LOCATION:Centre communautaire du Chant d’Oiseau\, 40 avenue du Chant d'Oiseau\, 1150 Woluwe-Saint-Pierre\, 1150\, Belgique
CATEGORIES:Développement Durable,Centres de quartier
ATTACH;FMTTYPE=image/jpeg:https://www.woluwe1150.be/app/uploads/2023/04/Woluwe1150_RepairCafeCCCO.jpg
ORGANIZER;CN="Chant d'Oiseau Quartier Durable":MAILTO:chantdoiseauqd@gmail.com
END:VEVENT
BEGIN:VEVENT
DTSTART;TZID=Europe/Brussels:20251216T120000
DTEND;TZID=Europe/Brussels:20251216T140000
DTSTAMP:20260426T010200
CREATED:20251124T122725Z
LAST-MODIFIED:20251124T122725Z
UID:87106-1765886400-1765893600@www.woluwe1150.be
SUMMARY:Repas de Noël du CCCO
DESCRIPTION:Préparé et servi par l’asbl « Vivre et Grandir ». \nPrix conscient (à partir de 20 euro). \nRéservation: ccco@woluwe1150.be
URL:https://www.woluwe1150.be/event/repas-de-noel-du-ccco/
LOCATION:Centre communautaire du Chant d’Oiseau\, 40 avenue du Chant d'Oiseau\, 1150 Woluwe-Saint-Pierre\, 1150\, Belgique
CATEGORIES:Animation,Centres de quartier
ATTACH;FMTTYPE=image/jpeg:https://www.woluwe1150.be/app/uploads/2023/11/repas_noel_ccco_vignette.jpg
ORGANIZER;CN="Centre communautaire du Chant d'Oiseau":MAILTO:ccco@woluwe1150.be
END:VEVENT
END:VCALENDAR