BEGIN:VCALENDAR
VERSION:2.0
PRODID:-//Woluwe Saint Pierre - ECPv6.13.2//NONSGML v1.0//EN
CALSCALE:GREGORIAN
METHOD:PUBLISH
X-WR-CALNAME:Woluwe Saint Pierre
X-ORIGINAL-URL:https://www.woluwe1150.be
X-WR-CALDESC:Évènements pour Woluwe Saint Pierre
REFRESH-INTERVAL;VALUE=DURATION:PT1H
X-Robots-Tag:noindex
X-PUBLISHED-TTL:PT1H
BEGIN:VTIMEZONE
TZID:Europe/Brussels
BEGIN:DAYLIGHT
TZOFFSETFROM:+0100
TZOFFSETTO:+0200
TZNAME:CEST
DTSTART:20260329T010000
END:DAYLIGHT
BEGIN:STANDARD
TZOFFSETFROM:+0200
TZOFFSETTO:+0100
TZNAME:CET
DTSTART:20261025T010000
END:STANDARD
END:VTIMEZONE
BEGIN:VEVENT
DTSTART;TZID=Europe/Brussels:20260307T200000
DTEND;TZID=Europe/Brussels:20260307T220000
DTSTAMP:20260425T204813
CREATED:20260209T111505Z
LAST-MODIFIED:20260209T111505Z
UID:91939-1772913600-1772920800@www.woluwe1150.be
SUMMARY:Stand up Comedy
DESCRIPTION:Venez découvrir 6 humoristes talentueux et passez une bonne soirée à rigoler ensemble avec le STARS Comedy Club. \nEntrée libre\, sortie au chapeau pour soutenir les artistes.  \nOuverture des portes à 19h30\, spectacle de 20h à 22h.
URL:https://www.woluwe1150.be/event/stand-up-comedy-5/
LOCATION:Centre communautaire du Chant d’Oiseau\, 40 avenue du Chant d'Oiseau\, 1150 Woluwe-Saint-Pierre\, 1150\, Belgique
CATEGORIES:Humour,Centres de quartier
ATTACH;FMTTYPE=image/png:https://www.woluwe1150.be/app/uploads/2026/02/stars_comedy_0326.png
ORGANIZER;CN="St%C3%A9phanie Gerniers":MAILTO:stephanie.gerniers@gmail.com
END:VEVENT
BEGIN:VEVENT
DTSTART;TZID=Europe/Brussels:20260322T143000
DTEND;TZID=Europe/Brussels:20260322T163000
DTSTAMP:20260425T204813
CREATED:20260223T130857Z
LAST-MODIFIED:20260223T130857Z
UID:92546-1774189800-1774197000@www.woluwe1150.be
SUMMARY:Repair Café du Chant d'Oiseau
DESCRIPTION:Jeter ? Pas question ! Réparons ensemble ! Venez réparer ensemble vos petits électroménagers\, vélos\, vêtements\, ordinateurs\,… \nTous les 4e dimanches du mois sauf en décembre\, en juillet et en août \nDe 14h30 à 16h30 \nContact : repaircafé1150@gmail.com
URL:https://www.woluwe1150.be/event/repair-cafe-du-chant-doiseau-4/
LOCATION:Centre communautaire du Chant d’Oiseau\, 40 avenue du Chant d'Oiseau\, 1150 Woluwe-Saint-Pierre\, 1150\, Belgique
CATEGORIES:Développement Durable,Centres de quartier
ATTACH;FMTTYPE=image/jpeg:https://www.woluwe1150.be/app/uploads/2023/04/Woluwe1150_RepairCafeCCCO.jpg
ORGANIZER;CN="Chant d'Oiseau Quartier Durable":MAILTO:chantdoiseauqd@gmail.com
END:VEVENT
BEGIN:VEVENT
DTSTART;TZID=Europe/Brussels:20260323T190000
DTEND;TZID=Europe/Brussels:20260327T170000
DTSTAMP:20260425T204813
CREATED:20260127T150423Z
LAST-MODIFIED:20260127T150539Z
UID:91559-1774292400-1774630800@www.woluwe1150.be
SUMMARY:THE WEEK: think\, participate & share
DESCRIPTION:NL: De milieucrisis voelt vaak abstract en overweldigend aan.\n‘The Week’ is een manier om dit onderwerp echt aan te kaarten met\nvrienden\, familie\, collega’s en buren samen.\nHet vertelt ons niet wat we moeten doen\, maar stelt ons in staat om zelf\neen besluit te nemen.\nZodat we later kunnen zeggen: “Ik wist wat ik moest weten\, ik heb gedaan\nwat ik moest doen en ik heb geen spijt”?\n \nFR: Trop souvent\, la crise environnementale semble abstraite et insurmontable.\n‘The Week’ est un moyen d’aborder cette question de manière concrète\,\navec des amis\, la famille\, les collègues et voisins ensemble.\nElle ne nous dit pas quoi faire\, mais nous donne les moyens de prendre nos propres décisions.\nPour que nous puissions dire plus tard :\n“Je savais ce que je devais savoir\, j’ai fait ce que je devais faire et je n’ai aucun regret”.\n\nToo often\, the environmental crisis feels abstract and overwhelming. »\nEN: The Week’ is a way to engage this issue\, for real\, with friends\, family\, colleagues and neighbours together.\nIt doesn’t tell us what to do\, but empowers us to make up our own minds.\nSo that we can say down the line:\n“I knew what I needed to know\, I did what I needed to do\, and I have no regrets”.\n \n\nQuand ? 23+25+27/03 – 19:00>21:00\, gratis\n \nInfo en inschrijven/inscription: kontakt@vgc.be- 02 765 37 74\nWebsite: gckontakt.be/
URL:https://www.woluwe1150.be/event/the-week-think-participate-share/
LOCATION:GC Kontakt\, 54 avenue Orbanlaan\, Sint-Pieters-Woluwe\, 1150
CATEGORIES:Animation,Développement Durable,Centres de quartier
ATTACH;FMTTYPE=image/png:https://www.woluwe1150.be/app/uploads/2026/01/Woluwe1150_The-Week.png
ORGANIZER;CN="GC Kontakt":MAILTO:kontakt@vgc.be
END:VEVENT
END:VCALENDAR