BEGIN:VCALENDAR
VERSION:2.0
PRODID:-//Woluwe Saint Pierre - ECPv6.13.2//NONSGML v1.0//EN
CALSCALE:GREGORIAN
METHOD:PUBLISH
X-ORIGINAL-URL:https://www.woluwe1150.be
X-WR-CALDESC:Évènements pour Woluwe Saint Pierre
REFRESH-INTERVAL;VALUE=DURATION:PT1H
X-Robots-Tag:noindex
X-PUBLISHED-TTL:PT1H
BEGIN:VTIMEZONE
TZID:Europe/Brussels
BEGIN:DAYLIGHT
TZOFFSETFROM:+0100
TZOFFSETTO:+0200
TZNAME:CEST
DTSTART:20260329T010000
END:DAYLIGHT
BEGIN:STANDARD
TZOFFSETFROM:+0200
TZOFFSETTO:+0100
TZNAME:CET
DTSTART:20261025T010000
END:STANDARD
END:VTIMEZONE
BEGIN:VEVENT
DTSTART;TZID=Europe/Brussels:20260530T200000
DTEND;TZID=Europe/Brussels:20260530T220000
DTSTAMP:20260425T221954
CREATED:20260421T121355Z
LAST-MODIFIED:20260421T121355Z
UID:94502-1780171200-1780178400@www.woluwe1150.be
SUMMARY:Stand up Comedy
DESCRIPTION:Venez découvrir 6 humoristes talentueux et passez une bonne soirée à rigoler ensemble avec le STARS Comedy Club. \nEntrée libre\, sortie au chapeau pour soutenir les artistes.  \nOuverture des portes à 19h30\, spectacle de 20h à 22h.
URL:https://www.woluwe1150.be/event/stand-up-comedy/
LOCATION:Centre communautaire du Chant d’Oiseau\, 40 avenue du Chant d'Oiseau\, 1150 Woluwe-Saint-Pierre\, 1150\, Belgique
CATEGORIES:Humour,Centres de quartier
ORGANIZER;CN="St%C3%A9phanie Gerniers":MAILTO:stephanie.gerniers@gmail.com
END:VEVENT
END:VCALENDAR