BEGIN:VCALENDAR
VERSION:2.0
PRODID:-//Woluwe Saint Pierre - ECPv6.13.2//NONSGML v1.0//EN
CALSCALE:GREGORIAN
METHOD:PUBLISH
X-WR-CALNAME:Woluwe Saint Pierre
X-ORIGINAL-URL:https://www.woluwe1150.be
X-WR-CALDESC:Évènements pour Woluwe Saint Pierre
REFRESH-INTERVAL;VALUE=DURATION:PT1H
X-Robots-Tag:noindex
X-PUBLISHED-TTL:PT1H
BEGIN:VTIMEZONE
TZID:Europe/Brussels
BEGIN:DAYLIGHT
TZOFFSETFROM:+0100
TZOFFSETTO:+0200
TZNAME:CEST
DTSTART:20250330T010000
END:DAYLIGHT
BEGIN:STANDARD
TZOFFSETFROM:+0200
TZOFFSETTO:+0100
TZNAME:CET
DTSTART:20251026T010000
END:STANDARD
END:VTIMEZONE
BEGIN:VEVENT
DTSTART;TZID=Europe/Brussels:20250514T140000
DTEND;TZID=Europe/Brussels:20250514T170000
DTSTAMP:20260424T143049
CREATED:20250428T072648Z
LAST-MODIFIED:20250428T072648Z
UID:79313-1747231200-1747242000@www.woluwe1150.be
SUMMARY:Ciné-goûter : Pil
DESCRIPTION:Réalisateur : Julien Fourmet – France – 2021 – 89′ \nPil\, une petite orpheline\, vit dans les rues de la cité de Roc-en-Brume. Avec ses trois fouines apprivoisées\, elle survit en allant chiper de la nourriture dans le château du sinistre régent Tristain\, qui usurpe le trône. Un beau jour\, pour échapper aux gardes qui la poursuivent\, Pil se déguise en enfilant une robe de princesse. La voilà alors embarquée malgré elle dans une quête folle et délirante pour sauver Roland\, l’héritier du trône victime d’un enchantement et transformé en… chapoul (moitié chat\, moitié poule). Une aventure qui va bouleverser tout le royaume et apprendre à Pil que la noblesse peut se trouver en chacun de nous.  \nInfos et réservations
URL:https://www.woluwe1150.be/event/cine-gouter-pil/
LOCATION:Centre culturel/cultureel centrum Whalll\, 93 avenue Charles Thielemanslaan\, WSP/SPW\, 1150
CATEGORIES:Enfants,Cinéma
ATTACH;FMTTYPE=image/jpeg:https://www.woluwe1150.be/app/uploads/2025/04/pil.jpeg
ORGANIZER;CN="Whalll":MAILTO:billetterie@whalll.be
END:VEVENT
BEGIN:VEVENT
DTSTART;TZID=Europe/Brussels:20250528T200000
DTEND;TZID=Europe/Brussels:20250528T223000
DTSTAMP:20260424T143049
CREATED:20250224T130608Z
LAST-MODIFIED:20250224T130608Z
UID:77764-1748462400-1748471400@www.woluwe1150.be
SUMMARY:Soirée pop-corn : En fanfare
DESCRIPTION:Film d’Emmanuel Courcol. \n\nSynopsis :\n\nThibaut est un chef d’orchestre de renommée internationale qui parcourt le monde. Lorsqu’il apprend qu’il a été adopté\, il découvre l’existence d’un frère\, Jimmy\, employé de cantine scolaire et qui joue du trombone dans une fanfare du nord de la France. En apparence tout les sépare\, sauf l’amour de la musique. Détectant les capacités musicales exceptionnelles de son frère\, Thibaut se donne pour mission de réparer l’injustice du destin. Jimmy se prend alors à rêver d’une autre vie… \nAccueil à 19h45\, projection à 20h. Partage d’impressions après le film.  \nParticipation aux droits d’auteur : 4€. \nInscriptions par mail (places limitées) : hglongue@hotmail.com  
URL:https://www.woluwe1150.be/event/soiree-pop-corn-en-fanfare/
LOCATION:Habitat Groupé Longue Vue\, rue Longue\, 170\, Bruxelles\, Woluwe-Saint-Pierre\, 1150\, Belgique
CATEGORIES:Cinéma
ATTACH;FMTTYPE=image/jpeg:https://www.woluwe1150.be/app/uploads/2025/02/soirees_pop_corn_0325.jpg
ORGANIZER;CN="Habitat Group%C3%A9 Longue Vue":MAILTO:hglongue@hotmail.com
END:VEVENT
END:VCALENDAR