BEGIN:VCALENDAR
VERSION:2.0
PRODID:-//Woluwe Saint Pierre - ECPv6.13.2//NONSGML v1.0//EN
CALSCALE:GREGORIAN
METHOD:PUBLISH
X-ORIGINAL-URL:https://www.woluwe1150.be
X-WR-CALDESC:Évènements pour Woluwe Saint Pierre
REFRESH-INTERVAL;VALUE=DURATION:PT1H
X-Robots-Tag:noindex
X-PUBLISHED-TTL:PT1H
BEGIN:VTIMEZONE
TZID:Europe/Brussels
BEGIN:DAYLIGHT
TZOFFSETFROM:+0100
TZOFFSETTO:+0200
TZNAME:CEST
DTSTART:20250330T010000
END:DAYLIGHT
BEGIN:STANDARD
TZOFFSETFROM:+0200
TZOFFSETTO:+0100
TZNAME:CET
DTSTART:20251026T010000
END:STANDARD
END:VTIMEZONE
BEGIN:VEVENT
DTSTART;TZID=Europe/Brussels:20250611T140000
DTEND;TZID=Europe/Brussels:20250611T170000
DTSTAMP:20260424T142715
CREATED:20250526T101136Z
LAST-MODIFIED:20250526T101136Z
UID:80166-1749650400-1749661200@www.woluwe1150.be
SUMMARY:Ciné-goûter : Sirocco et le royaume des courants d'air
DESCRIPTION:Réalisateur : Benoit Chieux – France – 2023 – 80′ \nJuliette et Carmen\, deux sœurs intrépides de 4 et 8 ans\, découvrent un passage secret vers Le Royaume des Courants d’Air\, leur livre favori. Transformées en chats et séparées l’une de l’autre\, elles devront faire preuve de témérité et d’audace pour se retrouver. Avec l’aide de la cantatrice Selma\, elles tenteront de rejoindre le monde réel en affrontant Sirocco\, le maître des vents et des tempêtes… Mais ce dernier est-il aussi terrifiant qu’elles l’imaginent? \nInfos et réservations
URL:https://www.woluwe1150.be/event/cine-gouter-sirocco-et-le-royaume-des-courants-dair/
LOCATION:Centre culturel/cultureel centrum Whalll\, 93 avenue Charles Thielemanslaan\, WSP/SPW\, 1150
CATEGORIES:Enfants,Cinéma
ATTACH;FMTTYPE=image/jpeg:https://www.woluwe1150.be/app/uploads/2025/05/sirocco.jpg
ORGANIZER;CN="Whalll":MAILTO:billetterie@whalll.be
END:VEVENT
END:VCALENDAR