BEGIN:VCALENDAR
VERSION:2.0
PRODID:-//Woluwe Saint Pierre - ECPv6.13.2//NONSGML v1.0//EN
CALSCALE:GREGORIAN
METHOD:PUBLISH
X-WR-CALNAME:Woluwe Saint Pierre
X-ORIGINAL-URL:https://www.woluwe1150.be
X-WR-CALDESC:Évènements pour Woluwe Saint Pierre
REFRESH-INTERVAL;VALUE=DURATION:PT1H
X-Robots-Tag:noindex
X-PUBLISHED-TTL:PT1H
BEGIN:VTIMEZONE
TZID:Europe/Brussels
BEGIN:DAYLIGHT
TZOFFSETFROM:+0100
TZOFFSETTO:+0200
TZNAME:CEST
DTSTART:20250330T010000
END:DAYLIGHT
BEGIN:STANDARD
TZOFFSETFROM:+0200
TZOFFSETTO:+0100
TZNAME:CET
DTSTART:20251026T010000
END:STANDARD
END:VTIMEZONE
BEGIN:VEVENT
DTSTART;TZID=Europe/Brussels:20250710T203000
DTEND;TZID=Europe/Brussels:20250710T233000
DTSTAMP:20260424T111308
CREATED:20250625T082921Z
LAST-MODIFIED:20250625T082921Z
UID:80862-1752179400-1752190200@www.woluwe1150.be
SUMMARY:Bruxelles fait son cinéma : L'attachement
DESCRIPTION:Le festival de cinéma en plein air gratuit revient cet été à Woluwe-Saint-Pierre. Nous vous proposons cette année « L’attachement »\, un film qui touche au cœur et qui fait du bien ! \nEn voici le résumé : \n« Sandra\, une quinquagénaire farouchement indépendante\, partage soudainement et malgré elle l’intimité de son voisin de palier et de ses deux enfants. Contre toute attente\, elle s’attache peu à peu à cette famille d’adoption. Mais qui est-elle pour eux ? Qui sont-ils pour elle ? » \nUn film d’une rare délicatesse\, ode à la solidarité et aux liens qu’on se crée\, porté par des acteurs et actrices à leur meilleur. \nDe Carine Tardieu – France\, 2025\, 1h46. VO FR st NL. \nAvec Valeria Bruni-Tedeschi\, Pio Marmai\, Raphaël Quenard\, Vimala Pons\, etc. \nJeudi 10 juillet sur l’esplanade de l’hôtel communal. Accueil avec bar dès 20h30. Début de la projection à la tombée de la nuit (vers 22h10). Accès gratuit\, sans réservation.
URL:https://www.woluwe1150.be/event/bruxelles-fait-son-cinema-lattachement/
LOCATION:Esplanade de la maison communale\, 93 avenue Charles Thielemans\, Woluwe-Saint-Pierre\, 1150
CATEGORIES:Cinéma
ATTACH;FMTTYPE=image/jpeg:https://www.woluwe1150.be/app/uploads/2025/06/bxl_cinema_attachement.jpg
ORGANIZER;CN="Service Animations - No%C3%ABlie Jacqmin":MAILTO:njacqmin@woluwe1150.be
END:VEVENT
END:VCALENDAR