BEGIN:VCALENDAR
VERSION:2.0
PRODID:-//Woluwe Saint Pierre - ECPv6.13.2//NONSGML v1.0//EN
CALSCALE:GREGORIAN
METHOD:PUBLISH
X-WR-CALNAME:Woluwe Saint Pierre
X-ORIGINAL-URL:https://www.woluwe1150.be
X-WR-CALDESC:Évènements pour Woluwe Saint Pierre
REFRESH-INTERVAL;VALUE=DURATION:PT1H
X-Robots-Tag:noindex
X-PUBLISHED-TTL:PT1H
BEGIN:VTIMEZONE
TZID:Europe/Brussels
BEGIN:DAYLIGHT
TZOFFSETFROM:+0100
TZOFFSETTO:+0200
TZNAME:CEST
DTSTART:20260329T010000
END:DAYLIGHT
BEGIN:STANDARD
TZOFFSETFROM:+0200
TZOFFSETTO:+0100
TZNAME:CET
DTSTART:20261025T010000
END:STANDARD
END:VTIMEZONE
BEGIN:VEVENT
DTSTART;TZID=Europe/Brussels:20260303T200000
DTEND;TZID=Europe/Brussels:20260303T220000
DTSTAMP:20260423T201635
CREATED:20260213T103855Z
LAST-MODIFIED:20260213T103855Z
UID:92346-1772568000-1772575200@www.woluwe1150.be
SUMMARY:Explo du Monde : Namibie
DESCRIPTION:par Olivier Bourguet\n\n\n\n\n\n\n\nAccident géologique exceptionnel\, la Namibie est un envoûtement aux paysages sublimes et infinis\, peuplés d’une faune et d’une flore adaptées aux rudes conditions de vie du désert. Unique\, secrète\, variée\, authentique\, gigantesque\, la Namibie éblouit quiconque y pose le pied ! \nInfos et réservations
URL:https://www.woluwe1150.be/event/explo-du-monde-namibie/
LOCATION:Centre culturel/cultureel centrum Whalll\, 93 avenue Charles Thielemanslaan\, WSP/SPW\, 1150
CATEGORIES:Conférence,Cinéma
ATTACH;FMTTYPE=image/jpeg:https://www.woluwe1150.be/app/uploads/2026/02/explo_namibie.jpg
ORGANIZER;CN="Whalll":MAILTO:billetterie@whalll.be
END:VEVENT
BEGIN:VEVENT
DTSTART;TZID=Europe/Brussels:20260304T200000
DTEND;TZID=Europe/Brussels:20260304T220000
DTSTAMP:20260423T201635
CREATED:20260217T150411Z
LAST-MODIFIED:20260217T150411Z
UID:92462-1772654400-1772661600@www.woluwe1150.be
SUMMARY:Soirée Pop-corn : La plus précieuse des marchandises
DESCRIPTION:L’Habitat groupé Longue Vue organise un nouveau cycle de soirées cinéma à partir de mars 2026\, dont le fil rouge sera « Résister ». Voici le programme : \n\nMercredi 4 mars 2026 : La plus Précieuse des Marchandises\nMercredi 15 avril 2026 : La vague\nMercredi 29 avril 2026 (à 16h30) : Zootopie\nMercredi 27 mai 2026 : Tout simplement noir\n\nCes soirées sont ouvertes à toutes et tous. \nInscription par mail : hglongue@hotmail.com \nParticipation aux droits d’auteur : 5€\nAccueil à 19h45\, projection à 20h\, suivie d’un partage d’impressions.\nAdresse : 170 rue Longue.
URL:https://www.woluwe1150.be/event/soiree-pop-corn-la-plus-precieuse-des-marchandises/
LOCATION:Habitat Groupé Longue Vue\, rue Longue\, 170\, Bruxelles\, Woluwe-Saint-Pierre\, 1150\, Belgique
CATEGORIES:Cinéma,Développement Durable
ATTACH;FMTTYPE=image/jpeg:https://www.woluwe1150.be/app/uploads/2026/02/soirees_pop_corn_2026-rotated.jpg
ORGANIZER;CN="Habitat Group%C3%A9 Longue Vue":MAILTO:hglongue@hotmail.com
END:VEVENT
BEGIN:VEVENT
DTSTART;TZID=Europe/Brussels:20260311T143000
DTEND;TZID=Europe/Brussels:20260311T170000
DTSTAMP:20260423T201635
CREATED:20260213T104159Z
LAST-MODIFIED:20260213T104159Z
UID:92349-1773239400-1773248400@www.woluwe1150.be
SUMMARY:Ciné-goûter : Les 101 dalmatiens
DESCRIPTION:Réalisateurs : Wolfgang Reitherman\, Clyde Geronimi\, Hamilton Luske – USA – 1961 – 79′ \nPongo et Perdita\, deux superbes dalmatiens\, attendent un heureux événement : la naissance de quinze chiots. Mais cette grande nouvelle va être bouleversée par l’infamie d’une femme dénommée Cruella d’Enfer. Accompagnée de ses deux compères\, Jasper et Horace\, Cruella va s’emparer de cette portée\, dans le but de réaliser un manteau de fourrure. Pongo et Perdita se lancent alors dans un plan de sauvetage pour organiser l’évasion de leurs quinze chiots et d’une multitude d’autres bébés chiens\, à leur grande surprise… \n\n\n\nInfos et réservations
URL:https://www.woluwe1150.be/event/cine-gouter-les-101-dalmatiens/
LOCATION:Centre culturel/cultureel centrum Whalll\, 93 avenue Charles Thielemanslaan\, WSP/SPW\, 1150
CATEGORIES:Enfants,Cinéma
ATTACH;FMTTYPE=image/jpeg:https://www.woluwe1150.be/app/uploads/2026/02/cine_gouter_dalmatiens.jpg
ORGANIZER;CN="Whalll":MAILTO:billetterie@whalll.be
END:VEVENT
BEGIN:VEVENT
DTSTART;TZID=Europe/Brussels:20260319T200000
DTEND;TZID=Europe/Brussels:20260319T220000
DTSTAMP:20260423T201635
CREATED:20260213T105247Z
LAST-MODIFIED:20260213T105247Z
UID:92362-1773950400-1773957600@www.woluwe1150.be
SUMMARY:Cinéma : Fatima\, Redwane et moi
DESCRIPTION:Réalisatrice – Bernadette Saint-Rémy – Documentaire – Belgique – 2021  \nFatima est arrivée en Belgique en 2006\, pour poursuivre des études complémentaires à ses diplômes universitaires obtenus en Algérie\, où elle travaillait déjà depuis des années comme professeure d’anglais. Elle se marie quelques mois après son arrivée à un homme qui obtiendra le statut de réfugié. \nLa naissance déclarée de son enfant confirme\, pense-t-elle\, la légalité de son séjour. Quand elle est contrainte de fuir cet homme devenu violent et dangereux\, elle perd tous ses droits\, son statut de séjour étant lié à celui de son mari. Elle est devenue une « sans papiers ». Fatima peut compter sur son amie Bernadette qui a su l’aider à garder espoir\, mais toutes les femmes n’ont pas cette chance. \nCe film est le témoin de leur amitié. \nInfos et réservations
URL:https://www.woluwe1150.be/event/cinema-fatima-redwane-et-moi/
LOCATION:Centre culturel/cultureel centrum Whalll\, 93 avenue Charles Thielemanslaan\, WSP/SPW\, 1150
CATEGORIES:Cinéma
ATTACH;FMTTYPE=image/jpeg:https://www.woluwe1150.be/app/uploads/2026/02/FATWANE.jpg
ORGANIZER;CN="Whalll":MAILTO:billetterie@whalll.be
END:VEVENT
BEGIN:VEVENT
DTSTART;TZID=Europe/Brussels:20260320T190000
DTEND;TZID=Europe/Brussels:20260320T213000
DTSTAMP:20260423T201635
CREATED:20260213T105430Z
LAST-MODIFIED:20260213T105430Z
UID:92364-1774033200-1774042200@www.woluwe1150.be
SUMMARY:« Ready player One » de Steven Spielberg
DESCRIPTION:Dans le cadre de la Langue Française en Fête.\n\n\n\nLe ciné-club de la Villa François Gay participe à la langue française en fête en programmant le film de science-fiction « Ready Player One » de Steven Spielberg : dans un monde futuriste dominé par la réalité virtuelle\, un jeune homme tente de retrouver un trésor caché dans un univers numérique. Une ode à la culture pop et une critique de l’évasion technologique. \nPour tous dès 14 ans. \nPlus d’infos 
URL:https://www.woluwe1150.be/event/ready-player-one-de-steven-spielberg/
LOCATION:Villa François Gay\, 326 rue François Gay\, Woluwe-Saint-Pierre\, 1150
CATEGORIES:Cinéma
ATTACH;FMTTYPE=image/jpeg:https://www.woluwe1150.be/app/uploads/2026/02/ready_player_one.jpg
ORGANIZER;CN="Villa Fran%C3%A7ois Gay":MAILTO:villafrancoisgay@gmail.com
END:VEVENT
BEGIN:VEVENT
DTSTART;TZID=Europe/Brussels:20260331T000000
DTEND;TZID=Europe/Brussels:20260331T000000
DTSTAMP:20260423T201635
CREATED:20260213T110414Z
LAST-MODIFIED:20260213T110414Z
UID:92375-1774915200-1774915200@www.woluwe1150.be
SUMMARY:Cosy Ciné : En fanfare
DESCRIPTION:Réalisateur : Emmanuel Courcol – Avec Sarah Sucot\, Anne Loiret\, Benjamin Lavernhe\, Pierre Lottin – Comédie Dramatique – France – 2024 – FR \nThibaut est un chef d’orchestre réputé. Atteint de leucémie\, se met en quête d’un donneur compatible pour une greffe de moelle osseuse. Apprenant à cette occasion qu’il est un enfant adopté\, il découvre l’existence d’un frère aîné dans le Nord. Celui-ci\, modeste employé\, est aussi tromboniste dans une fanfare municipale en voie de dissolution. Sur fond de fermeture de l’unique usine de la commune leur rencontre marque le début d’une aventure fraternelle\, sociale et musicale… \nInfos et réservations – Séance de 14h30\nInfos et réservations – Séance de 20h
URL:https://www.woluwe1150.be/event/cosy-cine-en-fanfare/
LOCATION:Centre culturel/cultureel centrum Whalll\, 93 avenue Charles Thielemanslaan\, WSP/SPW\, 1150
CATEGORIES:Cinéma
ATTACH;FMTTYPE=image/jpeg:https://www.woluwe1150.be/app/uploads/2026/02/en_fanfare.jpg
ORGANIZER;CN="Whalll":MAILTO:billetterie@whalll.be
END:VEVENT
END:VCALENDAR