BEGIN:VCALENDAR
VERSION:2.0
PRODID:-//Woluwe Saint Pierre - ECPv6.13.2//NONSGML v1.0//EN
CALSCALE:GREGORIAN
METHOD:PUBLISH
X-ORIGINAL-URL:https://www.woluwe1150.be
X-WR-CALDESC:Évènements pour Woluwe Saint Pierre
REFRESH-INTERVAL;VALUE=DURATION:PT1H
X-Robots-Tag:noindex
X-PUBLISHED-TTL:PT1H
BEGIN:VTIMEZONE
TZID:Europe/Brussels
BEGIN:DAYLIGHT
TZOFFSETFROM:+0100
TZOFFSETTO:+0200
TZNAME:CEST
DTSTART:20260329T010000
END:DAYLIGHT
BEGIN:STANDARD
TZOFFSETFROM:+0200
TZOFFSETTO:+0100
TZNAME:CET
DTSTART:20261025T010000
END:STANDARD
END:VTIMEZONE
BEGIN:VEVENT
DTSTART;TZID=Europe/Brussels:20260513T143000
DTEND;TZID=Europe/Brussels:20260513T170000
DTSTAMP:20260423T201935
CREATED:20260415T125957Z
LAST-MODIFIED:20260415T130047Z
UID:94311-1778682600-1778691600@www.woluwe1150.be
SUMMARY:Ciné-goûter : Nina et le secret du hérisson
DESCRIPTION:Réalisateurs : Alain Gagnol & Jean-Loup Felicioli – France – 2023 \nNina aime écouter les histoires que lui raconte son père pour s’endormir\, celles d’un hérisson qui découvre le monde. Un soir\, son père\, préoccupé par son travail\, ne vient pas lui conter une nouvelle aventure. Heureusement\, son meilleur ami Mehdi est là pour l’aider à trouver une solution : et si le trésor caché dans la vieille usine pouvait résoudre tous leurs problèmes ? Commence alors une grande aventure où il faut échapper à la vieille voisine et à son chat Touffu\, déjouer les pièges du gardien et embobiner son gros chien… Sans compter le petit hérisson qui mène l’enquête à leurs côtés ! \nRéservation\n\n\n\n 
URL:https://www.woluwe1150.be/event/nina-et-le-secret-du-herisson/
LOCATION:Centre culturel/cultureel centrum Whalll\, 93 avenue Charles Thielemanslaan\, WSP/SPW\, 1150
CATEGORIES:Enfants,Cinéma
ATTACH;FMTTYPE=image/jpeg:https://www.woluwe1150.be/app/uploads/2026/04/nina_herisson.jpg
ORGANIZER;CN="Whalll":MAILTO:billetterie@whalll.be
END:VEVENT
BEGIN:VEVENT
DTSTART;TZID=Europe/Brussels:20260527T200000
DTEND;TZID=Europe/Brussels:20260527T220000
DTSTAMP:20260423T201935
CREATED:20260416T140544Z
LAST-MODIFIED:20260416T140544Z
UID:94386-1779912000-1779919200@www.woluwe1150.be
SUMMARY:Soirée Pop-corn : Tout simplement noir
DESCRIPTION:L’Habitat groupé Longue Vue organise un nouveau cycle de soirées cinéma à partir de mars 2026\, dont le fil rouge sera « Résister ». Voici le programme : \n\nMercredi 4 mars 2026 : La plus Précieuse des Marchandises\nMercredi 15 avril 2026 : La vague\nMercredi 29 avril 2026 (à 16h30) : Zootopie\nMercredi 27 mai 2026 : Tout simplement noir\n\nCes soirées sont ouvertes à toutes et tous. \nInscription par mail : hglongue@hotmail.com \nParticipation aux droits d’auteur : 5€\nAccueil à 19h45\, projection à 20h\, suivie d’un partage d’impressions.\nAdresse : 170 rue Longue.
URL:https://www.woluwe1150.be/event/soiree-pop-corn-tout-simplement-noir/
LOCATION:Habitat Groupé Longue Vue\, rue Longue\, 170\, Bruxelles\, Woluwe-Saint-Pierre\, 1150\, Belgique
CATEGORIES:Cinéma,Développement Durable
ATTACH;FMTTYPE=image/jpeg:https://www.woluwe1150.be/app/uploads/2026/02/soirees_pop_corn_2026-rotated.jpg
ORGANIZER;CN="Service D%C3%A9veloppement Durable":MAILTO:durable@woluwe1150.be
END:VEVENT
END:VCALENDAR