BEGIN:VCALENDAR
VERSION:2.0
PRODID:-//Woluwe Saint Pierre - ECPv6.13.2//NONSGML v1.0//EN
CALSCALE:GREGORIAN
METHOD:PUBLISH
X-WR-CALNAME:Woluwe Saint Pierre
X-ORIGINAL-URL:https://www.woluwe1150.be
X-WR-CALDESC:Évènements pour Woluwe Saint Pierre
REFRESH-INTERVAL;VALUE=DURATION:PT1H
X-Robots-Tag:noindex
X-PUBLISHED-TTL:PT1H
BEGIN:VTIMEZONE
TZID:Europe/Brussels
BEGIN:DAYLIGHT
TZOFFSETFROM:+0100
TZOFFSETTO:+0200
TZNAME:CEST
DTSTART:20250330T010000
END:DAYLIGHT
BEGIN:STANDARD
TZOFFSETFROM:+0200
TZOFFSETTO:+0100
TZNAME:CET
DTSTART:20251026T010000
END:STANDARD
END:VTIMEZONE
BEGIN:VEVENT
DTSTART;TZID=Europe/Brussels:20250422T200000
DTEND;TZID=Europe/Brussels:20250422T220000
DTSTAMP:20260424T180941
CREATED:20250311T145419Z
LAST-MODIFIED:20250311T145447Z
UID:78129-1745352000-1745359200@www.woluwe1150.be
SUMMARY:Explo du Monde : Le tour du monde des animaux
DESCRIPTION:Avec Tanguy Dumortier et « Le Jardin Extraordinaire » de la RTBF\nDepuis 15 ans\, Tanguy Dumortier traverse nos régions et la planète avec sa caméra.  \nAu cours d’une séance interactive\, il vous raconte les coulisses de ses tournages proches ou lointains et propose au public de choisir ses voyages : baleines d’Antarctique ou ours polaire du grand Nord ? Grues du Japon ou colibris du Costa Rica ? Désert du Namib ou safari au Kenya ? Renards islandais ou kangourous australiens ? Vous allez plonger\, voler\, vibrer … avec son Jardin Extraordinaire. \nInfos et réservations\n 
URL:https://www.woluwe1150.be/event/le-tour-du-monde-des-animaux/
LOCATION:Centre culturel/cultureel centrum Whalll\, 93 avenue Charles Thielemanslaan\, WSP/SPW\, 1150
CATEGORIES:Conférence,Cinéma
ATTACH;FMTTYPE=image/jpeg:https://www.woluwe1150.be/app/uploads/2025/03/jardin-extraordinaire.jpeg
ORGANIZER;CN="Whalll":MAILTO:billetterie@whalll.be
END:VEVENT
END:VCALENDAR