BEGIN:VCALENDAR
VERSION:2.0
PRODID:-//Woluwe Saint Pierre - ECPv6.13.2//NONSGML v1.0//EN
CALSCALE:GREGORIAN
METHOD:PUBLISH
X-ORIGINAL-URL:https://www.woluwe1150.be
X-WR-CALDESC:Évènements pour Woluwe Saint Pierre
REFRESH-INTERVAL;VALUE=DURATION:PT1H
X-Robots-Tag:noindex
X-PUBLISHED-TTL:PT1H
BEGIN:VTIMEZONE
TZID:Europe/Brussels
BEGIN:DAYLIGHT
TZOFFSETFROM:+0100
TZOFFSETTO:+0200
TZNAME:CEST
DTSTART:20250330T010000
END:DAYLIGHT
BEGIN:STANDARD
TZOFFSETFROM:+0200
TZOFFSETTO:+0100
TZNAME:CET
DTSTART:20251026T010000
END:STANDARD
END:VTIMEZONE
BEGIN:VEVENT
DTSTART;TZID=Europe/Brussels:20250820T000000
DTEND;TZID=Europe/Brussels:20250902T000000
DTSTAMP:20260424T125408
CREATED:20250818T132211Z
LAST-MODIFIED:20250818T132211Z
UID:81808-1755648000-1756771200@www.woluwe1150.be
SUMMARY:Fête du Cinéma Le Stockel
DESCRIPTION:Le cinéma Le Stockel organise une nouvelle édition de sa Fête du cinéma.  \nDu 20 août au 2 septembre 2025\, venez voir les meilleurs films de l’été au prix exceptionnel de 4€ la séance.
URL:https://www.woluwe1150.be/event/fete-du-cinema-le-stockel/
LOCATION:Cinéma Le Stockel\, 17 avenue de Hinnisdael\, Woluwe-Saint-Pierre\, 1150
CATEGORIES:Cinéma
ATTACH;FMTTYPE=image/jpeg:https://www.woluwe1150.be/app/uploads/2025/08/fete_cinema_stockel_2025.jpg
END:VEVENT
END:VCALENDAR