BEGIN:VCALENDAR
VERSION:2.0
PRODID:-//Woluwe Saint Pierre - ECPv6.13.2//NONSGML v1.0//EN
CALSCALE:GREGORIAN
METHOD:PUBLISH
X-WR-CALNAME:Woluwe Saint Pierre
X-ORIGINAL-URL:https://www.woluwe1150.be
X-WR-CALDESC:Évènements pour Woluwe Saint Pierre
REFRESH-INTERVAL;VALUE=DURATION:PT1H
X-Robots-Tag:noindex
X-PUBLISHED-TTL:PT1H
BEGIN:VTIMEZONE
TZID:Europe/Brussels
BEGIN:DAYLIGHT
TZOFFSETFROM:+0100
TZOFFSETTO:+0200
TZNAME:CEST
DTSTART:20250330T010000
END:DAYLIGHT
BEGIN:STANDARD
TZOFFSETFROM:+0200
TZOFFSETTO:+0100
TZNAME:CET
DTSTART:20251026T010000
END:STANDARD
END:VTIMEZONE
BEGIN:VEVENT
DTSTART;TZID=Europe/Brussels:20250925T200000
DTEND;TZID=Europe/Brussels:20250925T220000
DTSTAMP:20260424T094828
CREATED:20250729T133603Z
LAST-MODIFIED:20250729T133603Z
UID:81563-1758830400-1758837600@www.woluwe1150.be
SUMMARY:TKT (cinéma)
DESCRIPTION:Réalisatrice : Solange Cicurel – Avec : Emilie Dequenne\, Stéphane De Groodt\, Lanna De Palmaert\, Solange Cicurel – Belgique – 2024 – VF/ST NL \nAlors qu’Emma\, 16 ans\, est admise dans l’unité de soins intensifs de l’hôpital\, ses parents attendent anxieusement des nouvelles du médecin. Étrangement\, Emma est pleinement consciente du monde qui l’entoure mais incapable de communiquer avec lui. Pour comprendre ce qui se passe\, Emma doit enquêter sur son passé et démêler le mystère entourant sa soudaine hospitalisation. Petit à petit\, elle va être confrontée à la dure réalité de ce qui lui est arrivé. \nAccès gratuit. \nInfos et réservations
URL:https://www.woluwe1150.be/event/tkt-cinema/
LOCATION:Centre culturel/cultureel centrum Whalll\, 93 avenue Charles Thielemanslaan\, WSP/SPW\, 1150
CATEGORIES:Cinéma
ATTACH;FMTTYPE=image/jpeg:https://www.woluwe1150.be/app/uploads/2025/07/tkt.jpg
ORGANIZER;CN="Whalll":MAILTO:billetterie@whalll.be
END:VEVENT
END:VCALENDAR