BEGIN:VCALENDAR
VERSION:2.0
PRODID:-//Woluwe Saint Pierre - ECPv6.13.2//NONSGML v1.0//EN
CALSCALE:GREGORIAN
METHOD:PUBLISH
X-WR-CALNAME:Woluwe Saint Pierre
X-ORIGINAL-URL:https://www.woluwe1150.be
X-WR-CALDESC:Évènements pour Woluwe Saint Pierre
REFRESH-INTERVAL;VALUE=DURATION:PT1H
X-Robots-Tag:noindex
X-PUBLISHED-TTL:PT1H
BEGIN:VTIMEZONE
TZID:Europe/Brussels
BEGIN:DAYLIGHT
TZOFFSETFROM:+0100
TZOFFSETTO:+0200
TZNAME:CEST
DTSTART:20250330T010000
END:DAYLIGHT
BEGIN:STANDARD
TZOFFSETFROM:+0200
TZOFFSETTO:+0100
TZNAME:CET
DTSTART:20251026T010000
END:STANDARD
END:VTIMEZONE
BEGIN:VEVENT
DTSTART;TZID=Europe/Brussels:20251002T200000
DTEND;TZID=Europe/Brussels:20251002T220000
DTSTAMP:20260424T083236
CREATED:20250729T134358Z
LAST-MODIFIED:20250729T134358Z
UID:81569-1759435200-1759442400@www.woluwe1150.be
SUMMARY:Explo du Monde : Pérou
DESCRIPTION:par André Maurice\n\n\n\n\n\n\n\n\nLaissez-vous mener à travers le Pérou\, pour y découvrir l’incontournable Machu Picchu des Incas\, les communautés indigènes\, les artistes de Lima\, les récoltants de café\, de thé\, de cacao et les producteurs de pisco\, tout cela illustré … par la Danse des Ciseaux ou les paroles de David sur son île du Lac Titicaca… \nInfos et réservations
URL:https://www.woluwe1150.be/event/explo-du-monde-perou/
LOCATION:Centre culturel/cultureel centrum Whalll\, 93 avenue Charles Thielemanslaan\, WSP/SPW\, 1150
CATEGORIES:Conférence,Cinéma
ATTACH;FMTTYPE=image/jpeg:https://www.woluwe1150.be/app/uploads/2025/07/perou.jpeg
ORGANIZER;CN="Whalll":MAILTO:billetterie@whalll.be
END:VEVENT
END:VCALENDAR