BEGIN:VCALENDAR
VERSION:2.0
PRODID:-//Woluwe Saint Pierre - ECPv6.13.2//NONSGML v1.0//EN
CALSCALE:GREGORIAN
METHOD:PUBLISH
X-ORIGINAL-URL:https://www.woluwe1150.be
X-WR-CALDESC:Évènements pour Woluwe Saint Pierre
REFRESH-INTERVAL;VALUE=DURATION:PT1H
X-Robots-Tag:noindex
X-PUBLISHED-TTL:PT1H
BEGIN:VTIMEZONE
TZID:Europe/Brussels
BEGIN:DAYLIGHT
TZOFFSETFROM:+0100
TZOFFSETTO:+0200
TZNAME:CEST
DTSTART:20250330T010000
END:DAYLIGHT
BEGIN:STANDARD
TZOFFSETFROM:+0200
TZOFFSETTO:+0100
TZNAME:CET
DTSTART:20251026T010000
END:STANDARD
END:VTIMEZONE
BEGIN:VEVENT
DTSTART;TZID=Europe/Brussels:20251116T160000
DTEND;TZID=Europe/Brussels:20251116T180000
DTSTAMP:20260424T071257
CREATED:20251020T101910Z
LAST-MODIFIED:20251020T101910Z
UID:85661-1763308800-1763316000@www.woluwe1150.be
SUMMARY:10 ans du ciné goûter
DESCRIPTION:Cette année le ciné gouter fête ses 10 ans. \nPour cette occasion\, nous vous proposons une après-midi festive ou s’entremêlera le cinéma et la musique. \nVenez célébrer avec nous les 10 ans du ciné goûter en musique et en image. \nProjection de 7 courts métrages d’animation\, muets et datant des années 30 aux années 70. \nEn direct\, la bande son est donc interprétée par La petite fanfare de la Grande vie\, un ensemble de 25 musiciens positionnée sous l’écran. \nLes musiques sont entièrement composées et arrangées par le chef d’orchestre\, Philippe Quewet. \nSynchronisation\, inventivité\, création\, bruitage et surtout bonne humeur\, pour un moment explosif. \nEntièrement dédié aux familles\, enfants\, parents et grands-parents se réunissent autour de ce moment magique\, hors du temps et musical. \nRéservation indispensable
URL:https://www.woluwe1150.be/event/10-ans-du-cine-gouter/
LOCATION:Centre culturel/cultureel centrum Whalll\, 93 avenue Charles Thielemanslaan\, WSP/SPW\, 1150
CATEGORIES:Enfants,Cinéma
ATTACH;FMTTYPE=image/jpeg:https://www.woluwe1150.be/app/uploads/2025/10/cine_gouter_anniversaire.jpg
ORGANIZER;CN="Whalll":MAILTO:billetterie@whalll.be
END:VEVENT
END:VCALENDAR