BEGIN:VCALENDAR
VERSION:2.0
PRODID:-//Woluwe Saint Pierre - ECPv6.13.2//NONSGML v1.0//EN
CALSCALE:GREGORIAN
METHOD:PUBLISH
X-WR-CALNAME:Woluwe Saint Pierre
X-ORIGINAL-URL:https://www.woluwe1150.be
X-WR-CALDESC:Évènements pour Woluwe Saint Pierre
REFRESH-INTERVAL;VALUE=DURATION:PT1H
X-Robots-Tag:noindex
X-PUBLISHED-TTL:PT1H
BEGIN:VTIMEZONE
TZID:Europe/Brussels
BEGIN:DAYLIGHT
TZOFFSETFROM:+0100
TZOFFSETTO:+0200
TZNAME:CEST
DTSTART:20250330T010000
END:DAYLIGHT
BEGIN:STANDARD
TZOFFSETFROM:+0200
TZOFFSETTO:+0100
TZNAME:CET
DTSTART:20251026T010000
END:STANDARD
END:VTIMEZONE
BEGIN:VEVENT
DTSTART;TZID=Europe/Brussels:20251217T143000
DTEND;TZID=Europe/Brussels:20251217T170000
DTSTAMP:20260424T071022
CREATED:20251119T111419Z
LAST-MODIFIED:20251119T111419Z
UID:86860-1765981800-1765990800@www.woluwe1150.be
SUMMARY:Ciné-goûter : Titina
DESCRIPTION:Réalisatrice : Kajsa Næss – Norvège / Belgique – 2023 \nDans l’Italie fasciste des années 1920\, Umberto Nobile\, ingénieur aéronautique\, reçoit l’appel du célèbre explorateur Roald Amundsen\, pour lui commander la conception d’un dirigeable capable de survoler pour la première fois le pôle qui Nord. Umberto décide de partir à l’aventure aux côtés de l’explorateur en compagnie de son jeune chien.  \nInfos et réservations
URL:https://www.woluwe1150.be/event/cine-gouter-titina/
LOCATION:Centre culturel/cultureel centrum Whalll\, 93 avenue Charles Thielemanslaan\, WSP/SPW\, 1150
CATEGORIES:Enfants,Cinéma
ATTACH;FMTTYPE=image/jpeg:https://www.woluwe1150.be/app/uploads/2025/11/maxresdefault.jpg
ORGANIZER;CN="Whalll":MAILTO:billetterie@whalll.be
END:VEVENT
END:VCALENDAR