BEGIN:VCALENDAR
VERSION:2.0
PRODID:-//Woluwe Saint Pierre - ECPv6.13.2//NONSGML v1.0//EN
CALSCALE:GREGORIAN
METHOD:PUBLISH
X-ORIGINAL-URL:https://www.woluwe1150.be
X-WR-CALDESC:Évènements pour Woluwe Saint Pierre
REFRESH-INTERVAL;VALUE=DURATION:PT1H
X-Robots-Tag:noindex
X-PUBLISHED-TTL:PT1H
BEGIN:VTIMEZONE
TZID:Europe/Brussels
BEGIN:DAYLIGHT
TZOFFSETFROM:+0100
TZOFFSETTO:+0200
TZNAME:CEST
DTSTART:20260329T010000
END:DAYLIGHT
BEGIN:STANDARD
TZOFFSETFROM:+0200
TZOFFSETTO:+0100
TZNAME:CET
DTSTART:20261025T010000
END:STANDARD
END:VTIMEZONE
BEGIN:VEVENT
DTSTART;TZID=Europe/Brussels:20260113T200000
DTEND;TZID=Europe/Brussels:20260113T220000
DTSTAMP:20260424T003241
CREATED:20251208T115114Z
LAST-MODIFIED:20251208T115114Z
UID:88179-1768334400-1768341600@www.woluwe1150.be
SUMMARY:Explo du Monde : Thaïlande\, l’île des hommes libres
DESCRIPTION:par Nicolas Pellissier\n\n\n\n\n\n\n\n\nImaginez un pays\, attaché à ses traditions et à sa culture millénaire\, faire un bond dans la modernité et la mondialisation. Nombreux sont ceux qui connaissent la Thaïlande à travers ses plages\, ses îles\, ses temples\, ses éléphants\, sa nourriture et son Bangkok futuriste qui s’étend à perte de vue. Mais peu savent qu’il y subsiste une population fragile qui lutte pour sa survie et pour sa culture. \n\n\n\n\n\n\nInfos et réservations
URL:https://www.woluwe1150.be/event/explo-du-monde-thailande-lile-des-hommes-libres/
LOCATION:Centre culturel/cultureel centrum Whalll\, 93 avenue Charles Thielemanslaan\, WSP/SPW\, 1150
CATEGORIES:Cinéma,Conférence
ATTACH;FMTTYPE=image/jpeg:https://www.woluwe1150.be/app/uploads/2025/12/explo_thailande.jpg
ORGANIZER;CN="Whalll":MAILTO:billetterie@whalll.be
END:VEVENT
END:VCALENDAR