BEGIN:VCALENDAR
VERSION:2.0
PRODID:-//Woluwe Saint Pierre - ECPv6.13.2//NONSGML v1.0//EN
CALSCALE:GREGORIAN
METHOD:PUBLISH
X-ORIGINAL-URL:https://www.woluwe1150.be
X-WR-CALDESC:Évènements pour Woluwe Saint Pierre
REFRESH-INTERVAL;VALUE=DURATION:PT1H
X-Robots-Tag:noindex
X-PUBLISHED-TTL:PT1H
BEGIN:VTIMEZONE
TZID:Europe/Brussels
BEGIN:DAYLIGHT
TZOFFSETFROM:+0100
TZOFFSETTO:+0200
TZNAME:CEST
DTSTART:20260329T010000
END:DAYLIGHT
BEGIN:STANDARD
TZOFFSETFROM:+0200
TZOFFSETTO:+0100
TZNAME:CET
DTSTART:20261025T010000
END:STANDARD
END:VTIMEZONE
BEGIN:VEVENT
DTSTART;TZID=Europe/Brussels:20260114T143000
DTEND;TZID=Europe/Brussels:20260114T170000
DTSTAMP:20260424T003241
CREATED:20251208T115327Z
LAST-MODIFIED:20251208T115327Z
UID:88181-1768401000-1768410000@www.woluwe1150.be
SUMMARY:Ciné-goûter : Léo\, la fabuleuse histoire de Léonard de Vinci
DESCRIPTION:Réalisateurs : Jim Capobianco & Pierre-Luc  Granjon – Irlande \nBienvenue dans la Renaissance ! Une époque où artistes\, savants\, rois et reines inventent un monde nouveau. Parmi eux\, un curieux personnage passe ses journées à dessiner d’étranges machines et à explorer les idées les plus folles. Observer la lune\, voler comme un oiseau\, découvrir les secrets de la médecine… il rêve de changer le monde. Embarquez pour un voyage avec le plus grand des génies\, Léonard de Vinci. \nInfos et réservations
URL:https://www.woluwe1150.be/event/cine-gouter-leo-la-fabuleuse-histoire-de-leonard-de-vinci/
LOCATION:Centre culturel/cultureel centrum Whalll\, 93 avenue Charles Thielemanslaan\, WSP/SPW\, 1150
CATEGORIES:Enfants,Cinéma
ATTACH;FMTTYPE=image/jpeg:https://www.woluwe1150.be/app/uploads/2025/12/cine_gouter_Leo_de_vinci.jpg
ORGANIZER;CN="Whalll":MAILTO:billetterie@whalll.be
END:VEVENT
END:VCALENDAR