BEGIN:VCALENDAR
VERSION:2.0
PRODID:-//Woluwe Saint Pierre - ECPv6.13.2//NONSGML v1.0//EN
CALSCALE:GREGORIAN
METHOD:PUBLISH
X-WR-CALNAME:Woluwe Saint Pierre
X-ORIGINAL-URL:https://www.woluwe1150.be
X-WR-CALDESC:Évènements pour Woluwe Saint Pierre
REFRESH-INTERVAL;VALUE=DURATION:PT1H
X-Robots-Tag:noindex
X-PUBLISHED-TTL:PT1H
BEGIN:VTIMEZONE
TZID:Europe/Brussels
BEGIN:DAYLIGHT
TZOFFSETFROM:+0100
TZOFFSETTO:+0200
TZNAME:CEST
DTSTART:20250330T010000
END:DAYLIGHT
BEGIN:STANDARD
TZOFFSETFROM:+0200
TZOFFSETTO:+0100
TZNAME:CET
DTSTART:20251026T010000
END:STANDARD
END:VTIMEZONE
BEGIN:VEVENT
DTSTART;TZID=Europe/Brussels:20251002T000000
DTEND;TZID=Europe/Brussels:20251004T000000
DTSTAMP:20260424T155355
CREATED:20250826T121836Z
LAST-MODIFIED:20250826T122024Z
UID:82076-1759363200-1759536000@www.woluwe1150.be
SUMMARY:Braderie de Stockel
DESCRIPTION:Les commerçants de Stockel vous attendent du jeudi 2 au samedi 4 octobre 2025 à l’occasion de la braderie d’automne\, qui coïncidera avec le week-end du client. Une double occasion de réaliser de bonnes affaires dans vos magasins préférés de la Place Dumon\, du Stockel Square et des rues aux alentours ! \nLa braderie d’automne est une initiative des associations de commerçants Stockel Village et Stockel Square\, avec le soutien de la commune et l’ASBL Wolu-Animations.
URL:https://www.woluwe1150.be/event/braderie-de-stockel-2/
LOCATION:Bruxelles
CATEGORIES:Commerce/braderie
ATTACH;FMTTYPE=image/jpeg:https://www.woluwe1150.be/app/uploads/2025/08/Stockel-Square.jpg
END:VEVENT
END:VCALENDAR