BEGIN:VCALENDAR
VERSION:2.0
PRODID:-//Woluwe Saint Pierre - ECPv6.13.2//NONSGML v1.0//EN
CALSCALE:GREGORIAN
METHOD:PUBLISH
X-WR-CALNAME:Woluwe Saint Pierre
X-ORIGINAL-URL:https://www.woluwe1150.be
X-WR-CALDESC:Évènements pour Woluwe Saint Pierre
REFRESH-INTERVAL;VALUE=DURATION:PT1H
X-Robots-Tag:noindex
X-PUBLISHED-TTL:PT1H
BEGIN:VTIMEZONE
TZID:Europe/Brussels
BEGIN:DAYLIGHT
TZOFFSETFROM:+0100
TZOFFSETTO:+0200
TZNAME:CEST
DTSTART:20250330T010000
END:DAYLIGHT
BEGIN:STANDARD
TZOFFSETFROM:+0200
TZOFFSETTO:+0100
TZNAME:CET
DTSTART:20251026T010000
END:STANDARD
END:VTIMEZONE
BEGIN:VEVENT
DTSTART;TZID=Europe/Brussels:20250403T190000
DTEND;TZID=Europe/Brussels:20250403T220000
DTSTAMP:20260424T195405
CREATED:20240521T093023Z
LAST-MODIFIED:20250114T110036Z
UID:70759-1743706800-1743717600@www.woluwe1150.be
SUMMARY:Fast + Fringue Party
DESCRIPTION:Réflexion ludique et sans jugement sur une des industries les plus polluantes de la planète. Ensemble sur scène et en dialogue avec les spectateurs\, Fast  cherche à comprendre comment notre modèle économique influence nos désirs et fabrique de nouveaux besoins. \nEntre voyage intime\, travail documentaire et témoignages poignants\, Fast interroge notre manière de consommer et tente de faire co-exister notre « paraitre » au monde et le fait de prendre soin de celui-ci et de celle et ceux qui l’habitent. \n  \n\nSoirée précédée d’une Fringue Party. Apportez ce que vous ne portez plus\, repartez avec ce qui vous plait !  \n\nDans le cadre du Cycle Passerelle Transition \n\n\nInfos et réservation: whalll.be ou 02 435 59 99 (ouverture de la billetterie le 20.06)\n\n\n  \n  \n  \n  \n  \n 
URL:https://www.woluwe1150.be/event/fast-fringue-party/
LOCATION:Centre culturel/cultureel centrum Whalll\, 93 avenue Charles Thielemanslaan\, WSP/SPW\, 1150
CATEGORIES:Théâtre,Spectacle,Développement Durable
ATTACH;FMTTYPE=image/png:https://www.woluwe1150.be/app/uploads/2024/05/Woluwe1150_Fast.png
ORGANIZER;CN="Whalll":MAILTO:billetterie@whalll.be
END:VEVENT
BEGIN:VEVENT
DTSTART;TZID=Europe/Brussels:20250406T100000
DTEND;TZID=Europe/Brussels:20250406T123000
DTSTAMP:20260424T195405
CREATED:20241206T110213Z
LAST-MODIFIED:20250306T153324Z
UID:76224-1743933600-1743942600@www.woluwe1150.be
SUMMARY:Atelier "création de pralines en chocolat"
DESCRIPTION:Atelier Parents-Enfants « Créations de pralines en chocolat » \nLes festivités printanières comblent de bonheur les papilles des petits et des grands… \nVenez créer vos propres pralines en chocolat et bricoler les contenants pour les emporter chez vous. \nC’est un moment de partage sympa et délicieux entre parents et enfants. \n  \nLe groupe 0 déchet de Stockel durable vous invite à une matinée de créations de pralines en chocolat. \n  \nAu programme : \n\ncréation de délices en chocolat avec petite explication sur le chocolat ;\natelier bricolage pour créer et personnaliser ses contenants.\n\n  \nRendez-vous le dimanche 6 avril de 10H à 12H30 à l’habitat groupé\, 170 rue longue\, 1150 Bruxelles \n  \nInformations pratiques \n\nInscription nécessaire chez fannymdh@gmail.com\nParticipation financière de 10€ par personne\nPrévoyez un tablier pour chaque enfant J\n\n 
URL:https://www.woluwe1150.be/event/atelier-creation-de-pralines-en-chocolat/
LOCATION:Habitat Groupé Longue Vue\, rue Longue\, 170\, Bruxelles\, Woluwe-Saint-Pierre\, 1150\, Belgique
CATEGORIES:Développement Durable
ATTACH;FMTTYPE=image/jpeg:https://www.woluwe1150.be/app/uploads/2024/12/Woluwe1150_Pralines.jpg
END:VEVENT
BEGIN:VEVENT
DTSTART;TZID=Europe/Brussels:20250412T140000
DTEND;TZID=Europe/Brussels:20250412T170000
DTSTAMP:20260424T195405
CREATED:20250320T111114Z
LAST-MODIFIED:20250320T111114Z
UID:78270-1744466400-1744477200@www.woluwe1150.be
SUMMARY:Repair Café de la médiathèque
DESCRIPTION:Au cœur de la Médiathèque de Woluwe-Saint-Pierre se tient\, chaque 2e samedi du mois\, le Repair Café. Venez réparer vos objets défectueux entre 14h et 17h. \nAmbiance chaleureuse et musicale.
URL:https://www.woluwe1150.be/event/repair-cafe-de-la-mediatheque-3/
LOCATION:Médiathèque de Woluwe-Saint-Pierre\, 93 avenue Charles Thielemans\, Woluwe-Saint-Pierre\, 1150
CATEGORIES:Animation,Développement Durable
ATTACH;FMTTYPE=image/jpeg:https://www.woluwe1150.be/app/uploads/2025/01/repair_cafe_media.jpg
ORGANIZER;CN="M%C3%A9diath%C3%A8que de Woluwe-Saint-Pierre":MAILTO:wsp@lamediatheque.be
END:VEVENT
BEGIN:VEVENT
DTSTART;TZID=Europe/Brussels:20250413T100000
DTEND;TZID=Europe/Brussels:20250413T120000
DTSTAMP:20260424T195405
CREATED:20250324T125649Z
LAST-MODIFIED:20250324T130419Z
UID:78549-1744538400-1744545600@www.woluwe1150.be
SUMMARY:Conférence "Intégrer les fleurs indigènes au jardin"
DESCRIPTION:Dimanche 13 avril : conférence « Intégrer les fleurs indigènes au jardin » (Mme d’Ans/ Apiflora)\, organisée par le Cercle royal horticole et Avicole de Woluwe-Stockel. \n\nDe 10h à 12h. Sur inscription.\n \nPrix : Gratuit pour les membres en ordre de cotisation 2025 (20€). Accès à la conférence à 8€.\nInscription préalable indispensable : info@cercle-horticole-woluwe.be – 0488 416 259.\n \nSite web : cercle-horticole-woluwe.be
URL:https://www.woluwe1150.be/event/78549/
LOCATION:Ecole communale de Stockel\, Rue Vandermaelen 61\, Woluwe-Saint-Pierre\, 1150\, Belgium
CATEGORIES:Développement Durable
ATTACH;FMTTYPE=image/png:https://www.woluwe1150.be/app/uploads/2024/06/Woluwe1150_Cercle-Royal-Horticol-et-Avicol.png
END:VEVENT
BEGIN:VEVENT
DTSTART;TZID=Europe/Brussels:20250413T110000
DTEND;TZID=Europe/Brussels:20250413T123000
DTSTAMP:20260424T195405
CREATED:20250311T153011Z
LAST-MODIFIED:20250311T153011Z
UID:78136-1744542000-1744547400@www.woluwe1150.be
SUMMARY:Distribution gratuite de graines
DESCRIPTION:Dimanche 13 avril 2025 entre 11 h. et 12 h. 30  \nDistribution gratuite de graines (tournesols nains\, cosmos et mélange de fleurs mellifères) par Natura Woluwe avec la collaboration de Prenons le temps qui met à disposition l’espace compost de Joli-Bois ( accès par le sentier piétonnier face  au n° 100  de l’avenue Jacques de Meurers à W.S.P.). \n En cas de fermeture des parcs pour raison de tempête\, report au dimanche suivant.
URL:https://www.woluwe1150.be/event/distribution-gratuite-de-graines/
LOCATION:Compost collectif de Joli-Bois\, 97 avenue Jacques de Meurers\, Woluwe-Saint-Pierre\, 1150
CATEGORIES:Développement Durable
ATTACH;FMTTYPE=image/png:https://www.woluwe1150.be/app/uploads/2025/03/Woluwe1150_Distribution-de-graines.png
ORGANIZER;CN="Natura Woluwe":MAILTO:raymonddelahaye08@gmail.com
END:VEVENT
BEGIN:VEVENT
DTSTART;TZID=Europe/Brussels:20250413T140000
DTEND;TZID=Europe/Brussels:20250413T160000
DTSTAMP:20260424T195405
CREATED:20250116T083337Z
LAST-MODIFIED:20250116T083337Z
UID:76968-1744552800-1744560000@www.woluwe1150.be
SUMMARY:Promenade gratuite "Les oiseaux du Rouge-Cloître"
DESCRIPTION:Dimanche 13 avril 2025- Les oiseaux d’eau du Rouge-Cloître \nOrganisation : Prenons le temps et Natura Woluwe. \nRendez-vous à 14 h. devant le centre d’exposition (cour d’honneur ) du Rouge-Cloître\, rue du Rouge-Cloître\, 4. \nThème : observation des oiseaux d’eau des étangs au printemps. \nDurée de la promenade guidée gratuite : environ 2 heures\, jumelles vivement recommandées. Commentaires en français. \nInformations et inscription (obligatoire) auprès  du guide-nature Bernard DETHY dethyber@gmail.com  ou par message GSM 0475655508 .
URL:https://www.woluwe1150.be/event/promenade-gratuite-les-oiseaux-du-rouge-cloitre/
CATEGORIES:Développement Durable,Balade
ATTACH;FMTTYPE=image/jpeg:https://www.woluwe1150.be/app/uploads/2025/01/Woluwe1150_les-oiseaux-du-rouge-cloitre.jpg
ORGANIZER;CN="Prenons le Temps Joli-Bois":MAILTO:info@prenonsletemps.be
END:VEVENT
BEGIN:VEVENT
DTSTART;TZID=Europe/Brussels:20250417T193000
DTEND;TZID=Europe/Brussels:20250417T223000
DTSTAMP:20260424T195405
CREATED:20250218T111735Z
LAST-MODIFIED:20250218T111735Z
UID:77653-1744918200-1744929000@www.woluwe1150.be
SUMMARY:Soirée couture – Stockel Durable
DESCRIPTION:SOIRÉES COUTURE – Les jeudis de la couture chaque mois de 19h30 à 22h30. \nCoudre\, réparer\, upcycler\, tricoter\, broder\, crocheter\, échanger\, papoter\, prendre le temps. \nCe n’est pas un cours mais un moment de partage. Apportez votre matériel (tissu\, machine\, …). Nous mettons à disposition l’espace\, une planche à repasser et un fer\, et un petit peu de matériel. \nDates prévues pour les jeudis de la couture: \n\n21 novembre\n19 décembre\n16 janvier\n20 février\n20 mars\n17 avril\n15 mai\n19 juin\n\nDe 19h30 à 22h30 à l’Habitat Groupé Longue Vue – 170 rue Longue\, 1150 \nGratuit \nInscription et questions: sophie.schuermans@gmail.com
URL:https://www.woluwe1150.be/event/soiree-couture-stockel-durable-13/
LOCATION:Habitat Groupé Longue Vue\, rue Longue\, 170\, Bruxelles\, Woluwe-Saint-Pierre\, 1150\, Belgique
CATEGORIES:Animation,Développement Durable
ATTACH;FMTTYPE=image/png:https://www.woluwe1150.be/app/uploads/2023/09/Woluwe1150_Soiree-couture_Stockel-Durable.png
END:VEVENT
END:VCALENDAR