BEGIN:VCALENDAR
VERSION:2.0
PRODID:-//Woluwe Saint Pierre - ECPv6.13.2//NONSGML v1.0//EN
CALSCALE:GREGORIAN
METHOD:PUBLISH
X-WR-CALNAME:Woluwe Saint Pierre
X-ORIGINAL-URL:https://www.woluwe1150.be
X-WR-CALDESC:Évènements pour Woluwe Saint Pierre
REFRESH-INTERVAL;VALUE=DURATION:PT1H
X-Robots-Tag:noindex
X-PUBLISHED-TTL:PT1H
BEGIN:VTIMEZONE
TZID:Europe/Brussels
BEGIN:DAYLIGHT
TZOFFSETFROM:+0100
TZOFFSETTO:+0200
TZNAME:CEST
DTSTART:20250330T010000
END:DAYLIGHT
BEGIN:STANDARD
TZOFFSETFROM:+0200
TZOFFSETTO:+0100
TZNAME:CET
DTSTART:20251026T010000
END:STANDARD
END:VTIMEZONE
BEGIN:VEVENT
DTSTART;TZID=Europe/Brussels:20250504T110000
DTEND;TZID=Europe/Brussels:20250504T190000
DTSTAMP:20260424T180629
CREATED:20250416T075208Z
LAST-MODIFIED:20250416T075208Z
UID:79049-1746356400-1746385200@www.woluwe1150.be
SUMMARY:
DESCRIPTION:Rendez-vous le 4 mai prochain au « Village du Développement Durable » pour la fête de l’avenue de Tervueren. \n\nA la rencontre des acteurs locaux\, des initiatives citoyennes et services communaux\, (re)découvrez avec nous les diverses thématiques du développement durable (logement\, mobilité\, alimentation durable\, compostage\, etc.).\n\nStands présents dans le Village du Développement Durable:  \n\nInfos « Développement durable »: Présentation de la démarche du Plan Climat Communal + Cartographie des projets durables près de chez vous Service Envi-DD\nFresque du climat : sur inscription. En 3h et de manière ludique\, appropriez-vous les données et mécanismes du dérèglement climatique. De 14h à 17h sur inscription obligatoire: durable@woluwe1150.be \nANIMATION COMPOST: « J’irai composter chez vous » – Environnement Eco-circulaire ASBL\nTRI DES DECHETS: animation sur le tri des déchets et le zéro-déchets  – Zero Wast Belgium \nL’OASIS DU CENTRE: création d’un lieu de rencontre et de sensibilisation à la nature dans le parc La Roseraie des mariés – Oasis du Centre\nCONSEILS LOGEMENT: Améliorer la qualité de son logement (énergies renouvelables\, primes\, rénovation…) – Homegrade\nLA BIODIVERSITÉ EN VILLE : Apprenez-en plus sur les Martinets\, ces oiseaux avec qui nous cohabitons en ville – Conseils aux particuliers\, nichoirs\, sensibilisation et informations au programme ! – Gt Martinets\nSE CONNECTER A LA NATURE EN VILLE – Une ferme pédagogique à Woluwe-Saint-Pierre qui reconnecte à la nature les petits et grands – La Ferme d’Anjou\nLOUER AU LIEU D’ACHETER: Découvrez une large gamme d’objets à louer pour tous vos besoins – Tournevie\nUNE TERRE A VIVRE POUR NOS PETITS-ENFANTS: Quizz sur le climat et stand d’information pour découvrir la vision\, les missions et objectifs des Grands-parents pour le climat\nAVOIR LA MAIN VERTE – conseils\, astuces\, actualités et conférences professionnelles avec le Cercle royal Horticole et Avicole de Woluwe-Stockel\n\nOù ? Square Léopold II – Avenue de Tervueren.
URL:https://www.woluwe1150.be/event/79049/
LOCATION:Avenue de tervueren/Tervurenlaan\, Avenue de Tervueren\, 1150 Woluwe-Saint-Pierre
CATEGORIES:Animation,Développement Durable
ATTACH;FMTTYPE=image/jpeg:https://www.woluwe1150.be/app/uploads/2025/04/Woluwe1150_Village-DD_Tervueren.jpg
ORGANIZER;CN="Service D%C3%A9veloppement Durable":MAILTO:durable@woluwe1150.be
END:VEVENT
BEGIN:VEVENT
DTSTART;TZID=Europe/Brussels:20250504T140000
DTEND;TZID=Europe/Brussels:20250504T170000
DTSTAMP:20260424T180629
CREATED:20250416T075448Z
LAST-MODIFIED:20250416T075448Z
UID:79055-1746367200-1746378000@www.woluwe1150.be
SUMMARY:Fresque du climat - Fête de l'avenue de Tervueren
DESCRIPTION:Lors de la fête\, participez à une Fresque du climat : c’est gratuit et instructif.  \nLe service Développement Durable organise à destination des citoyens une Fresque du Climat. En 3h\, et de manière ludique appropriez-vous en un temps record les données et mécanismes du dérèglement climatique. Inscription obligatoire pour l’atelier : durable@woluwe1150.be (à partir de 18 ans) \n  \nDimanche 04/05 de 14h à 17h.  \nSur inscription: durable@woluwe1150.be
URL:https://www.woluwe1150.be/event/fresque-du-climat-fete-de-lavenue-de-tervueren/
LOCATION:Avenue de tervueren/Tervurenlaan\, Avenue de Tervueren\, 1150 Woluwe-Saint-Pierre
CATEGORIES:Animation,Développement Durable
ATTACH;FMTTYPE=image/jpeg:https://www.woluwe1150.be/app/uploads/2025/04/Woluwe1150_Fresque-du-climat.jpg
ORGANIZER;CN="Service D%C3%A9veloppement Durable":MAILTO:durable@woluwe1150.be
END:VEVENT
BEGIN:VEVENT
DTSTART;TZID=Europe/Brussels:20250510T140000
DTEND;TZID=Europe/Brussels:20250510T170000
DTSTAMP:20260424T180629
CREATED:20250428T075901Z
LAST-MODIFIED:20250428T075901Z
UID:79331-1746885600-1746896400@www.woluwe1150.be
SUMMARY:Repair Café de la médiathèque
DESCRIPTION:Au cœur de la Médiathèque de Woluwe-Saint-Pierre se tient\, chaque 2e samedi du mois\, le Repair Café. Venez réparer vos objets défectueux entre 14h et 17h. \nAmbiance chaleureuse et musicale.
URL:https://www.woluwe1150.be/event/repair-cafe-de-la-mediatheque-4/
LOCATION:Médiathèque de Woluwe-Saint-Pierre\, 93 avenue Charles Thielemans\, Woluwe-Saint-Pierre\, 1150
CATEGORIES:Animation,Développement Durable
ATTACH;FMTTYPE=image/jpeg:https://www.woluwe1150.be/app/uploads/2025/01/repair_cafe_media.jpg
ORGANIZER;CN="Service D%C3%A9veloppement Durable":MAILTO:durable@woluwe1150.be
END:VEVENT
BEGIN:VEVENT
DTSTART;TZID=Europe/Brussels:20250510T140000
DTEND;TZID=Europe/Brussels:20250510T170000
DTSTAMP:20260424T180629
CREATED:20250429T072150Z
LAST-MODIFIED:20250429T072150Z
UID:79405-1746885600-1746896400@www.woluwe1150.be
SUMMARY:Donnerie du Chant d’Oiseau quartier durable
DESCRIPTION:Dépôts de 14h à 16h. On chine de 15h à 17h. \nInfos et contact uniquement par mail à l’adresse chantdoiseauqd@gmail.com
URL:https://www.woluwe1150.be/event/donnerie-du-chant-doiseau-quartier-durable/
LOCATION:Centre communautaire du Chant d’Oiseau\, 40 avenue du Chant d'Oiseau\, 1150 Woluwe-Saint-Pierre\, 1150\, Belgique
CATEGORIES:Développement Durable,Centres de quartier
ATTACH;FMTTYPE=image/jpeg:https://www.woluwe1150.be/app/uploads/2024/09/Woluwe1150_donnerie-Joli-Bois.jpg
ORGANIZER;CN="Chant d'Oiseau Quartier Durable":MAILTO:chantdoiseauqd@gmail.com
END:VEVENT
BEGIN:VEVENT
DTSTART;TZID=Europe/Brussels:20250511T100000
DTEND;TZID=Europe/Brussels:20250511T130000
DTSTAMP:20260424T180629
CREATED:20250324T130032Z
LAST-MODIFIED:20250324T130813Z
UID:78557-1746957600-1746968400@www.woluwe1150.be
SUMMARY:Conférence "Repiquage de semis - théorie\, pièges à éviter et pratique"
DESCRIPTION:Dimanche 11 mai : atelier « Repiquage de semis -Théorie\, pièges à éviter et pratique » (Mme Denet et MM. Parissis\, Veys et Wanson). Sur inscription. Salle PAX\, entrée à côté de l’église.\, organisée par le Cercle royal horticole et Avicole de Woluwe-Stockel. \n\nDe 10h à 13h. Sur inscription.\n \nPrix : Gratuit pour les membres en ordre de cotisation 2025 (20€). Accès à la conférence à 8€.\nInscription préalable indispensable : info@cercle-horticole-woluwe.be – 0488 416 259.\n \nSite web : cercle-horticole-woluwe.be
URL:https://www.woluwe1150.be/event/conference/
CATEGORIES:Développement Durable
ATTACH;FMTTYPE=image/png:https://www.woluwe1150.be/app/uploads/2024/06/Woluwe1150_Cercle-Royal-Horticol-et-Avicol.png
END:VEVENT
BEGIN:VEVENT
DTSTART;TZID=Europe/Brussels:20250515T193000
DTEND;TZID=Europe/Brussels:20250515T223000
DTSTAMP:20260424T180629
CREATED:20250218T111856Z
LAST-MODIFIED:20250218T111856Z
UID:77655-1747337400-1747348200@www.woluwe1150.be
SUMMARY:Soirée couture – Stockel Durable
DESCRIPTION:SOIRÉES COUTURE – Les jeudis de la couture chaque mois de 19h30 à 22h30. \nCoudre\, réparer\, upcycler\, tricoter\, broder\, crocheter\, échanger\, papoter\, prendre le temps. \nCe n’est pas un cours mais un moment de partage. Apportez votre matériel (tissu\, machine\, …). Nous mettons à disposition l’espace\, une planche à repasser et un fer\, et un petit peu de matériel. \nDates prévues pour les jeudis de la couture: \n\n21 novembre\n19 décembre\n16 janvier\n20 février\n20 mars\n17 avril\n15 mai\n19 juin\n\nDe 19h30 à 22h30 à l’Habitat Groupé Longue Vue – 170 rue Longue\, 1150 \nGratuit \nInscription et questions: sophie.schuermans@gmail.com
URL:https://www.woluwe1150.be/event/soiree-couture-stockel-durable-14/
LOCATION:Habitat Groupé Longue Vue\, rue Longue\, 170\, Bruxelles\, Woluwe-Saint-Pierre\, 1150\, Belgique
CATEGORIES:Animation,Développement Durable
ATTACH;FMTTYPE=image/png:https://www.woluwe1150.be/app/uploads/2023/09/Woluwe1150_Soiree-couture_Stockel-Durable.png
END:VEVENT
BEGIN:VEVENT
DTSTART;VALUE=DATE:20250517
DTEND;VALUE=DATE:20250519
DTSTAMP:20260424T180629
CREATED:20250327T112417Z
LAST-MODIFIED:20250327T112710Z
UID:78740-1747440000-1747612799@www.woluwe1150.be
SUMMARY:Compost Days
DESCRIPTION:La sixième édition des Compost Days se tiendra les 17 et 18 mai prochains en Région bruxelloise et cette année\, l’accent est mis sur les nombreux bienfaits du compostage pour vos jardins et vos fleurs ! \nLors des Compost Days\, des citoyens et des professionnels sont disponibles pour vous donner toutes les clés nécessaires pour adopter la solution de gestion de vos déchets organiques adaptée à votre situation mais aussi pour vous apprendre comment les recycler pour créer un compost de qualité\, riche en nutriments\, et offrir à vos plantes\, fleurs ou potagers une terre saine et fertile. \nVous trouverez le programme complet ici : www.compostdays.brussels \nC’est gratuit\, convivial et local ! \nCet évènement est une initiative de Bruxelles Environnement.  \n  \n 
URL:https://www.woluwe1150.be/event/compost-days/
CATEGORIES:Développement Durable
ATTACH;FMTTYPE=image/jpeg:https://www.woluwe1150.be/app/uploads/2025/03/Woluwe1150_Compost-Days-2025.jpg
END:VEVENT
BEGIN:VEVENT
DTSTART;TZID=Europe/Brussels:20250517T170000
DTEND;TZID=Europe/Brussels:20250517T213000
DTSTAMP:20260424T180629
CREATED:20250509T090855Z
LAST-MODIFIED:20250509T090855Z
UID:79879-1747501200-1747517400@www.woluwe1150.be
SUMMARY:Après-midi durable - Duurzame namiddag
DESCRIPTION:Bienvenue à cet après-midi durable ! Jetez un œil dans les coulisses du shopping (en ligne) avec la projection du film Buy Now ! The Shopping Conspiracy et découvrez les initiatives durables dans votre quartier. \nAu programme: \n❍ 17:00 – 17:30 : atelier pour enfants et adultes par Circul’air\n❍ 17:30 – 18:15 : séance d’information sur le supermarché coopératif Bab’l market\n❍ 18:15 – 18:30 : séance d’information sur la solidarité Freego\n❍ 18:30 – 19:00 : hot-dogs végétariens (€3) \n❍ 19:00 – 20:30 : film « Buy Now »\n❍ 20:30 – 21:30 : débat après le film animé par Circul’air \n\nEn permanence: bar + garderie pour les enfants\nAteliers + scéance d’information bilingue\, en NL & FR\n\n\nGC Kontakt – Av. Orban 54 – 1150 Woluwé-Saint-Pierre\nInscriptions gratuit via https://forms.gle/D6rtSMdPJcoiubQFA  \n– – – – – – – – – – – – – – \nWelkom op deze duurzame namiddag! Neem een kijkje achter de schermen van het (online) shoppen met de filmvertoning van Buy Now! The Shopping Conspiracy & maak kennis met duurzame initiatieven in je buurt. \nProgramma\n17:00 17:30 : workshop voor kids en volwassenen van Circul’Air\n17:30 – 18:15 : infosessie over de coöperatieve supermarkt Bab’l market\n18:15 18:30: infosessie over de solidaire Freego\n18:30 – 19:00: veggie hot dogs ( 3)\n19:00 – 20:30: film ‘Buy Now’\n20:30 – 21:30: debat na de film o.l.v. Circul’air \nDoorlopend: bar + kinderopvang \n  \nGC Kontakt – Av. Orban 54 – 1150 Woluwé-Saint-Pierre\nGratis registratie via https://forms.gle/D6rtSMdPJcoiubQFA
URL:https://www.woluwe1150.be/event/apres-midi-durable-duurzame-namiddag/
LOCATION:GC Kontakt\, 54 avenue Orbanlaan\, Sint-Pieters-Woluwe\, 1150
CATEGORIES:Développement Durable
ATTACH;FMTTYPE=image/jpeg:https://www.woluwe1150.be/app/uploads/2025/05/Woluwe1150_Apres-midi-durable.jpg
ORGANIZER;CN="GC Kontakt":MAILTO:kontakt@vgc.be
END:VEVENT
BEGIN:VEVENT
DTSTART;TZID=Europe/Brussels:20250525T100000
DTEND;TZID=Europe/Brussels:20250525T120000
DTSTAMP:20260424T180629
CREATED:20250324T130646Z
LAST-MODIFIED:20250324T130720Z
UID:78560-1748167200-1748174400@www.woluwe1150.be
SUMMARY:Conférence "Les plantes qui teintent"
DESCRIPTION:25 mai 2025 :    Les plantes qui teintent. Mme Mathys    \nDimanche 25 mai : Conférence « Les plantes qui teintent » (Mme Mathys) organisée par le Cercle royal horticole et Avicole de Woluwe-Stockel. \n\nDe 10h à 12h. Sur inscription.\n \nPrix : Gratuit pour les membres en ordre de cotisation 2025 (20€). Accès à la conférence à 8€.\nInscription préalable indispensable : info@cercle-horticole-woluwe.be – 0488 416 259.\n \nSite web : cercle-horticole-woluwe.be
URL:https://www.woluwe1150.be/event/78560/
LOCATION:Ecole communale de Stockel\, Rue Vandermaelen 61\, Woluwe-Saint-Pierre\, 1150\, Belgium
CATEGORIES:Développement Durable
ATTACH;FMTTYPE=image/png:https://www.woluwe1150.be/app/uploads/2024/06/Woluwe1150_Cercle-Royal-Horticol-et-Avicol.png
END:VEVENT
BEGIN:VEVENT
DTSTART;TZID=Europe/Brussels:20250525T100000
DTEND;TZID=Europe/Brussels:20250525T130000
DTSTAMP:20260424T180629
CREATED:20250416T075630Z
LAST-MODIFIED:20250416T075630Z
UID:79060-1748167200-1748178000@www.woluwe1150.be
SUMMARY:Donnerie Joli-Bois
DESCRIPTION:Le dimanche 25  mai 2025\, Prenons le Temps / Quartier Durable \nJoli-Bois organise une DONNERIE pour vos objets inutilisés en \nbon état. \nNous prenons également les VELOS (que nous remettrons en état \navant d’être donnés). \nNous vous accueillerons au Centre Communautaire de Joli-Bois\, \n100 avenue du Haras\, 1150 Woluwé-St-Pierre \nDépôts : de 10h00 à 11h00 \nVenez chiner et emportez ce qui vous intéresse : de 11H30 à 13HOO \nPlus d’informations sur notre site prenonsletemps.be ou par \nmail à info@prenonsletemps.be
URL:https://www.woluwe1150.be/event/donnerie-joli-bois/
LOCATION:centre communautaire de Joli-Bois\, 15 drève des Shetlands\, Woluwe-Saint-Pierre\, 1150
CATEGORIES:Brocante,Développement Durable
ATTACH;FMTTYPE=image/jpeg:https://www.woluwe1150.be/app/uploads/2024/09/Woluwe1150_donnerie-Joli-Bois.jpg
ORGANIZER;CN="Prenons le Temps Joli-Bois":MAILTO:info@prenonsletemps.be
END:VEVENT
END:VCALENDAR