BEGIN:VCALENDAR
VERSION:2.0
PRODID:-//Woluwe Saint Pierre - ECPv6.13.2//NONSGML v1.0//EN
CALSCALE:GREGORIAN
METHOD:PUBLISH
X-ORIGINAL-URL:https://www.woluwe1150.be
X-WR-CALDESC:Évènements pour Woluwe Saint Pierre
REFRESH-INTERVAL;VALUE=DURATION:PT1H
X-Robots-Tag:noindex
X-PUBLISHED-TTL:PT1H
BEGIN:VTIMEZONE
TZID:Europe/Brussels
BEGIN:DAYLIGHT
TZOFFSETFROM:+0100
TZOFFSETTO:+0200
TZNAME:CEST
DTSTART:20250330T010000
END:DAYLIGHT
BEGIN:STANDARD
TZOFFSETFROM:+0200
TZOFFSETTO:+0100
TZNAME:CET
DTSTART:20251026T010000
END:STANDARD
END:VTIMEZONE
BEGIN:VEVENT
DTSTART;TZID=Europe/Brussels:20250907T100000
DTEND;TZID=Europe/Brussels:20250907T120000
DTSTAMP:20260424T111459
CREATED:20250728T101452Z
LAST-MODIFIED:20250728T101452Z
UID:81474-1757239200-1757246400@www.woluwe1150.be
SUMMARY:Conférence "Les corvidés"
DESCRIPTION:  \n\n\nDimanche 07 septembre: conférence « Les corvidés » (M. Paquet)\, organisée par le Cercle royal horticole et Avicole de Woluwe-Stockel. \n\nDe 10h à 12h. Sur inscription.\n \nPrix : Gratuit pour les membres en ordre de cotisation 2025 (20€). Accès à la conférence à 8€.\nInscription préalable indispensable : info@cercle-horticole-woluwe.be – 0488 416 259.\n \nSite web : cercle-horticole-woluwe.be
URL:https://www.woluwe1150.be/event/conference-les-corvides/
LOCATION:Ecole communale de Stockel\, Rue Vandermaelen 61\, Woluwe-Saint-Pierre\, 1150\, Belgium
CATEGORIES:Conférence,Développement Durable
ATTACH;FMTTYPE=image/png:https://www.woluwe1150.be/app/uploads/2024/06/Woluwe1150_Cercle-Royal-Horticol-et-Avicol.png
END:VEVENT
BEGIN:VEVENT
DTSTART;TZID=Europe/Brussels:20250914T140000
DTEND;TZID=Europe/Brussels:20250914T160000
DTSTAMP:20260424T111459
CREATED:20250728T100809Z
LAST-MODIFIED:20250728T100809Z
UID:81469-1757858400-1757865600@www.woluwe1150.be
SUMMARY:Promenade gratuite
DESCRIPTION:PROMENADE DU DIMANCHE 14 SEPTEMBRE : LA WOLUWE A CIEL OUVERT. \nOrganisation: Prenons le temps et Natura Woluwe \nThème : les multiples usages de l’eau\, la Woluwe à ciel ouvert\, le parc Malou\, le parc des Sources. \nRendez-vous : à 14 h sur le parking situé devant le stade Fallon\, chemin du Stuykbeken à Woluwe- Saint-Lambert (à l’entrée de la grande allée menant au parc Malou\, près des poteaux interdisant l’accès aux véhicules). Bus 28 arrêt « Stade Fallon ». \nDurée de la promenade : environ 2 heures 30. Environ 4 kms. \nCommentaires en français . Gratuit \nInformations et inscriptions obligatoires auprès du guide-nature raymonddelahaye08@gmail.com ou par message GSM 0479134270
URL:https://www.woluwe1150.be/event/promenade-gratuite/
CATEGORIES:Visite guidée,Développement Durable,Balade
ATTACH;FMTTYPE=image/jpeg:https://www.woluwe1150.be/app/uploads/2025/07/Woluwe1150_Promenade-woluwe.jpg
ORGANIZER;CN="Quartier Durable Prenons le Temps":MAILTO:info@prenonsletemps.be
END:VEVENT
BEGIN:VEVENT
DTSTART;TZID=Europe/Brussels:20250914T143000
DTEND;TZID=Europe/Brussels:20250914T173000
DTSTAMP:20260424T111459
CREATED:20250729T143848Z
LAST-MODIFIED:20250729T143848Z
UID:81576-1757860200-1757871000@www.woluwe1150.be
SUMMARY:Repair Café de la Médiathèque
DESCRIPTION:Ce Repair Café de la rentrée se déroulera lors du Festiwhalll et aura donc lieu exceptionnellement le dimanche 14 septembre\, de 14h30 à 17h30. \nVenez réparer vos objets défectueux dans une ambiance conviviale et musicale.  \nNB : le reste de l’année\, le Repair Café de la médiathèque a lieu le 2e samedi du mois\, de 14h à 17h.  \nPlus d’infos
URL:https://www.woluwe1150.be/event/repair-cafe-de-la-mediatheque-6/
LOCATION:Centre culturel/cultureel centrum Whalll\, 93 avenue Charles Thielemanslaan\, WSP/SPW\, 1150
CATEGORIES:Animation,Développement Durable
ATTACH;FMTTYPE=image/jpeg:https://www.woluwe1150.be/app/uploads/2025/01/repair_cafe_media.jpg
ORGANIZER;CN="M%C3%A9diath%C3%A8que de Woluwe-Saint-Pierre":MAILTO:wsp@lamediatheque.be
END:VEVENT
BEGIN:VEVENT
DTSTART;TZID=Europe/Brussels:20250925T190000
DTEND;TZID=Europe/Brussels:20250925T190000
DTSTAMP:20260424T111459
CREATED:20250728T101709Z
LAST-MODIFIED:20250728T101736Z
UID:81476-1758826800-1758826800@www.woluwe1150.be
SUMMARY:Conférence "Le cacao\, boisson des dieux"
DESCRIPTION:  \n\n\nJeudi 25 septembre: conférence « Les corvidés » (M. Paquet)\, organisée par le Cercle royal horticole et Avicole de Woluwe-Stockel. \n\nA 19h. Sur inscription.\n \nPrix : Gratuit pour les membres en ordre de cotisation 2025 (20€). Accès à la conférence à 8€.\nInscription préalable indispensable : info@cercle-horticole-woluwe.be – 0488 416 259.\n \nSite web : cercle-horticole-woluwe.be
URL:https://www.woluwe1150.be/event/conference-le-cacao-boisson-des-dieux/
CATEGORIES:Conférence,Développement Durable
ATTACH;FMTTYPE=image/png:https://www.woluwe1150.be/app/uploads/2024/06/Woluwe1150_Cercle-Royal-Horticol-et-Avicol.png
END:VEVENT
END:VCALENDAR