BEGIN:VCALENDAR
VERSION:2.0
PRODID:-//Woluwe Saint Pierre - ECPv6.13.2//NONSGML v1.0//EN
CALSCALE:GREGORIAN
METHOD:PUBLISH
X-ORIGINAL-URL:https://www.woluwe1150.be
X-WR-CALDESC:Évènements pour Woluwe Saint Pierre
REFRESH-INTERVAL;VALUE=DURATION:PT1H
X-Robots-Tag:noindex
X-PUBLISHED-TTL:PT1H
BEGIN:VTIMEZONE
TZID:Europe/Brussels
BEGIN:DAYLIGHT
TZOFFSETFROM:+0100
TZOFFSETTO:+0200
TZNAME:CEST
DTSTART:20250330T010000
END:DAYLIGHT
BEGIN:STANDARD
TZOFFSETFROM:+0200
TZOFFSETTO:+0100
TZNAME:CET
DTSTART:20251026T010000
END:STANDARD
END:VTIMEZONE
BEGIN:VEVENT
DTSTART;TZID=Europe/Brussels:20251108T140000
DTEND;TZID=Europe/Brussels:20251108T170000
DTSTAMP:20260424T083139
CREATED:20251020T112727Z
LAST-MODIFIED:20251020T112727Z
UID:85678-1762610400-1762621200@www.woluwe1150.be
SUMMARY:Repair Café de la Médiathèque
DESCRIPTION:Venez réparer vos objets défectueux dans une ambiance conviviale et musicale.  \nLe Repair Café de la médiathèque a lieu le 2e samedi du mois\, de 14h à 17h.  \nPlus d’infos
URL:https://www.woluwe1150.be/event/repair-cafe-de-la-mediatheque-8/
LOCATION:Centre culturel/cultureel centrum Whalll\, 93 avenue Charles Thielemanslaan\, WSP/SPW\, 1150
CATEGORIES:Animation,Développement Durable
ATTACH;FMTTYPE=image/jpeg:https://www.woluwe1150.be/app/uploads/2025/01/repair_cafe_media.jpg
ORGANIZER;CN="Service D%C3%A9veloppement Durable":MAILTO:durable@woluwe1150.be
END:VEVENT
BEGIN:VEVENT
DTSTART;TZID=Europe/Brussels:20251109T030000
DTEND;TZID=Europe/Brussels:20251109T180000
DTSTAMP:20260424T083139
CREATED:20250612T080303Z
LAST-MODIFIED:20250612T080303Z
UID:80633-1762657200-1762711200@www.woluwe1150.be
SUMMARY:Ciné-atelier - Flow\, le chat qui n'avait plus peur de l'eau
DESCRIPTION:Ciné-atelier le dimanche 9.11.2025 à 16h (dès 8 ans) \nDans un monde englouti\, un chat solitaire se réveille. L’humanité a disparu. Il embarque avec d’autres animaux sur un bateau\, mais vivre ensemble s’avère plus dur que sa peur de l’eau. Flow est une fable visuelle mêlant humour et gravité\, sur la survie après l’homme et l’urgence du vivre-ensemble. \nFestival d’Annecy 2024 – Prix du Jury et Prix du Public. Nommé aux Oscars pour les prix du meilleur film d ‘animation et Meilleur Film International.  \nDans le cadre du Cycle Passerelle Transition. \nAtelier interactif avant et après la séance par Médiathèque Nouvelle (à partir de 15h).  \nPrix conscient: 5€ (réduit); 7€ (juste); 9€ (solidaire).  \nInfos et réservation: whalll.be 
URL:https://www.woluwe1150.be/event/cine-atelier-flow-le-chat-qui-navait-plus-peur-de-leau/
LOCATION:Centre culturel/cultureel centrum Whalll\, 93 avenue Charles Thielemanslaan\, WSP/SPW\, 1150
CATEGORIES:Développement Durable,Animation,Enfants,Cinéma
ATTACH;FMTTYPE=image/png:https://www.woluwe1150.be/app/uploads/2025/06/Woluwe1150_Flow.png
ORGANIZER;CN="Whalll":MAILTO:billetterie@whalll.be
END:VEVENT
BEGIN:VEVENT
DTSTART;TZID=Europe/Brussels:20251113T190000
DTEND;TZID=Europe/Brussels:20251113T210000
DTSTAMP:20260424T083139
CREATED:20250612T080952Z
LAST-MODIFIED:20250612T085504Z
UID:80638-1763060400-1763067600@www.woluwe1150.be
SUMMARY:Fresque du climat
DESCRIPTION:Expérience immersive pour le climat le jeudi 13.11.2025 à 19h (dès 16ans) \nEn 3 heures et en équipe : découvrez et appropriez-vous-en un temps record les données et mécanismes du dérèglement climatique. Car pour agir\, il faut comprendre ! \nCet atelier Fresque du climat est un outil scientifique\, coopératif et mobilisateur qui permet aux participants des échanges constructifs et objectifs pour agir\, à l’issue de l’atelier\, à son échelle pour le climat ! \n  \nDans le cadre du Cycle Passerelle Transition. \nGratuit – sur inscription indispensable \nInfos et réservation: whalll.be 
URL:https://www.woluwe1150.be/event/fresque-du-climat/
LOCATION:Centre culturel/cultureel centrum Whalll\, 93 avenue Charles Thielemanslaan\, WSP/SPW\, 1150
CATEGORIES:Animation,Développement Durable
ATTACH;FMTTYPE=image/png:https://www.woluwe1150.be/app/uploads/2025/06/Woluwe1150_Fresque-du-climat.png
ORGANIZER;CN="Whalll":MAILTO:billetterie@whalll.be
END:VEVENT
BEGIN:VEVENT
DTSTART;TZID=Europe/Brussels:20251113T200000
DTEND;TZID=Europe/Brussels:20251113T220000
DTSTAMP:20260424T083139
CREATED:20251020T120112Z
LAST-MODIFIED:20251020T120112Z
UID:85705-1763064000-1763071200@www.woluwe1150.be
SUMMARY:Soirée Pop-corn : À bicyclette
DESCRIPTION:Initié par un bal folk en octobre\, le nouveau cycle de soirées cinéma organisé par l’Habitat groupé Longue Vue se poursuit ces prochains mois. Voici la programmation\, sur le thème du voyage : \n\n13 novembre : A bicyclette\n11 décembre : Little Miss Sunshine\n22 janvier : The salt path\n\nCes soirées sont ouvertes à toutes et tous. \nInscription par mail : hglongue@hotmail.com \nParticipation aux droits d’auteur : 4€\nAccueil à 19h45\, projection à 20h\, puis partages d’impressions.\nAdresse : 170 rue Longue.
URL:https://www.woluwe1150.be/event/soiree-pop-corn-a-bicyclette/
LOCATION:Habitat Groupé Longue Vue\, rue Longue\, 170\, Bruxelles\, Woluwe-Saint-Pierre\, 1150\, Belgique
CATEGORIES:Cinéma,Développement Durable
ATTACH;FMTTYPE=image/jpeg:https://www.woluwe1150.be/app/uploads/2025/10/soirees_pop_corn_1125-scaled.jpg
ORGANIZER;CN="Habitat Group%C3%A9 Longue Vue":MAILTO:hglongue@hotmail.com
END:VEVENT
BEGIN:VEVENT
DTSTART;TZID=Europe/Brussels:20251116T100000
DTEND;TZID=Europe/Brussels:20251116T123000
DTSTAMP:20260424T083139
CREATED:20251014T073836Z
LAST-MODIFIED:20251014T073836Z
UID:85436-1763287200-1763296200@www.woluwe1150.be
SUMMARY:Atelier Parents-Enfants « Créations de pralines en chocolat »
DESCRIPTION:Atelier Parents-Enfants « Créations de pralines en chocolat » \nVenez accompagner votre enfant dans la création de ses propres pralines en chocolat et le bricolage des contenants pour les emporter chez vous. \nC’est un moment de partage sympa et délicieux entre parents et enfants. \nLe groupe 0 déchet de Stockel durable vous invite à une matinée de lien parent-enfant autour des pralines en chocolat. \nAu programme : \n\nles enfants\, accompagnés de leur(s) parent(s)\, pourront créer des délices en chocolat avec une petite explication sur le chocolat ;\natelier bricolage pour créer et personnaliser ses contenants.\n\nRendez-vous le dimanche 16 novembre de 10H à 12H30 à l’habitat groupé\, 170 rue longue\, 1150 Bruxelles \nInformations pratiques \n\nInscription nécessaire chez fannymdh@gmail.com\nParticipation financière de 12€ par personne\nPrévoyez un tablier pour chaque enfant J
URL:https://www.woluwe1150.be/event/atelier-parents-enfants-creations-de-pralines-en-chocolat/
LOCATION:Habitat Groupé Longue Vue\, rue Longue\, 170\, Bruxelles\, Woluwe-Saint-Pierre\, 1150\, Belgique
CATEGORIES:Animation,Enfants,Développement Durable
ATTACH;FMTTYPE=image/jpeg:https://www.woluwe1150.be/app/uploads/2025/10/Woluwe1150_atelier-chocolat-stockel.jpg
END:VEVENT
BEGIN:VEVENT
DTSTART;TZID=Europe/Brussels:20251119T081500
DTEND;TZID=Europe/Brussels:20251119T214500
DTSTAMP:20260424T083139
CREATED:20251014T072816Z
LAST-MODIFIED:20251014T072846Z
UID:85427-1763540100-1763588700@www.woluwe1150.be
SUMMARY:Conférence "Placements dits «éthiques»\, changer  (un peu) le monde avec son argent ?"
DESCRIPTION:Mercredi 19/11 à 20h15 : Placements dits «éthiques»\, changer  (un peu) le monde avec son argent ? \nLes placements proposés par les banques ont souvent un impact négatif sur l’environnement et les enjeux sociaux\, notamment à travers les financements des énergies fossiles. Cette conférence explore des solutions et outils concrets pour investir de manière plus responsable\, en accord avec vos valeurs et en faveur de la planète. \nOrganisé par le Chant d’Oiseau Quartier Durable. \nPAF : libre. \nSans inscription. \nOù? A la Cure Notre-Dame des Grâces \nDe 20h15 à 21h45
URL:https://www.woluwe1150.be/event/85427/
LOCATION:Eglise Notre-Dame du Chant d’Oiseau/Onze-Lieve-Vrouw van Genadekerk\, 2 avenue du Chant d'Oiseau\, Woluwe-Saint-Pierre\, 1150
CATEGORIES:Conférence,Développement Durable
ATTACH;FMTTYPE=image/jpeg:https://www.woluwe1150.be/app/uploads/2025/10/Woluwe1150_Financite-Chant-dOiseau.jpg
ORGANIZER;CN="Chant d'Oiseau Quartier Durable":MAILTO:chantdoiseauqd@gmail.com
END:VEVENT
BEGIN:VEVENT
DTSTART;TZID=Europe/Brussels:20251122T140000
DTEND;TZID=Europe/Brussels:20251122T160000
DTSTAMP:20260424T083139
CREATED:20251112T135201Z
LAST-MODIFIED:20251112T135201Z
UID:86776-1763820000-1763827200@www.woluwe1150.be
SUMMARY:Formation gratuite "Gestion différenciée"
DESCRIPTION:Formation gratuite de gestion différenciée pour les citoyens de Woluwe-Saint-Pierre \n\n\n\n\n\nComment aménager mon jardin pour accueillir au mieux la nature ? \n\n\n\n\nA Woluwe-Saint-Pierre\, on gère les espaces verts différemment selon leur localisation et fonction. Pourquoi ne pas transférer ces bonnes pratiques dans mon jardin ? \n\n\n\n\nPrairies fleuries\, tontes tardives\, fascines\, …. La gestion différenciée a pour but de laisser la végétation se réinstaller de manière plus naturelle à certains endroits d’une parcelle mais aussi d’entretenir son jardin en moins de temps et de manière plus économique. La flore\, la faune\, son portefeuille\, tout le monde gagne à agir ainsi. \n\n\n\nQuand ?              Le samedi 22/11 – 14h-16h \n\n\n\n\nOù ?                    Grange de l’Auberge des Maïeurs\, Parv. Saint-Pierre 1 \n\n\n\n\nInscription ?       GRATUIT\, sur inscription à durable@woluwe1150.be \n\n\n\n\n\nA cette occasion\, votre commune distribuera gratuitement des petits sachets de semences de prairies fleuries… pour votre jardin ou ailleurs !
URL:https://www.woluwe1150.be/event/formation-gratuite-gestion-differenciee/
LOCATION:Auberge des Maïeurs\, Parv. Saint-Pierre 1\, Woluwe-Saint-Pierre\, \, 1150\, Belgique
CATEGORIES:Conférence,Développement Durable
ATTACH;FMTTYPE=image/jpeg:https://www.woluwe1150.be/app/uploads/2025/11/Woluwe1150_Formation-citoyen-Gestion-differenciee.jpg
ORGANIZER;CN="Service D%C3%A9veloppement Durable":MAILTO:durable@woluwe1150.be
END:VEVENT
BEGIN:VEVENT
DTSTART;TZID=Europe/Brussels:20251122T140000
DTEND;TZID=Europe/Brussels:20251122T170000
DTSTAMP:20260424T083139
CREATED:20250728T114859Z
LAST-MODIFIED:20250728T114859Z
UID:81495-1763820000-1763830800@www.woluwe1150.be
SUMMARY:Conférence "Préparation des jardinières pour le printemps"
DESCRIPTION:Samedi 22 novembre : conférence « Préparation des jardinières pour le printemps » (Mme Denet\, MM Parissis et Wanson)\, organisée par le Cercle royal horticole et Avicole de Woluwe-Stockel. \n\n\n\nDe 14h à 17h. Sur inscription.\n \nPrix : Gratuit pour les membres en ordre de cotisation 2025 (20€). Accès à la conférence à 8€.\nInscription préalable indispensable : info@cercle-horticole-woluwe.be – 0488 416 259.\n \nSite web : cercle-horticole-woluwe.be
URL:https://www.woluwe1150.be/event/conference-preparation-des-jardinieres-pour-le-printemps/
CATEGORIES:Conférence,Développement Durable
ATTACH;FMTTYPE=image/png:https://www.woluwe1150.be/app/uploads/2024/06/Woluwe1150_Cercle-Royal-Horticol-et-Avicol.png
END:VEVENT
BEGIN:VEVENT
DTSTART;TZID=Europe/Brussels:20251122T140000
DTEND;TZID=Europe/Brussels:20251122T170000
DTSTAMP:20260424T083139
CREATED:20251007T115920Z
LAST-MODIFIED:20251007T115920Z
UID:84781-1763820000-1763830800@www.woluwe1150.be
SUMMARY:Donnerie du Chant d'Oiseau
DESCRIPTION:Envie de libérer votre grenier ou garage\, sans avoir le cœur de tout jeter ? \nVenez à notre donnerie de 14h à 17h au Centre Communautaire du Chant d’Oiseau (CCCO)\, 40 avenue du Chant d’Oiseau! \nLe principe est simple : venez avec quelques objets en bon état dont vous n’avez plus besoin (ou les mains vides) et repartez avec ce qui vous est utile. On donne et on reçoit\, tout est gratuit !\nLes objets donnés dans le cadre de la donnerie ne sont pas destinés à la vente. \n !!!! Pour assurer le confort et la sécurité des nombreuses personnes fréquentant le Centre Communautaire\, nous vous remercions de ne pas y déposer vos objets à donner avant le 30 août à 14h!!!!\n!!! Les dépôts ne sont acceptés que jusque 16h !!! \nDes questions? Contactez nous via chantdoiseauqd@gmail.com
URL:https://www.woluwe1150.be/event/donnerie-du-chant-doiseau-2/
LOCATION:Centre communautaire du Chant d’Oiseau\, 40 avenue du Chant d'Oiseau\, 1150 Woluwe-Saint-Pierre\, 1150\, Belgique
CATEGORIES:Brocante,Développement Durable
ATTACH;FMTTYPE=image/png:https://www.woluwe1150.be/app/uploads/2022/05/Donnerie_ChantdOiseau_Woluwe1150.png
ORGANIZER;CN="Centre communautaire du Chant d'Oiseau":MAILTO:ccco@woluwe1150.be
END:VEVENT
BEGIN:VEVENT
DTSTART;TZID=Europe/Brussels:20251123T083000
DTEND;TZID=Europe/Brussels:20251123T113000
DTSTAMP:20260424T083139
CREATED:20251020T124750Z
LAST-MODIFIED:20251020T124750Z
UID:85710-1763886600-1763897400@www.woluwe1150.be
SUMMARY:Petit-déjeuner Oxfam
DESCRIPTION:Dans un contexte où les inégalités se creusent et où les solidarités sont mises à mal\, le mouvement Oxfam Magasins du monde vous invite à un réveil collectif. Rendez-vous le dimanche 23 novembre à l’école de Stockel pour un petit-déjeuner équitable\, solidaire et convivial.  \nCette année\, l’action soutient l’organisation de commerce équitable ALLPA\, située au Pérou et partenaire d’Oxfam depuis 2012. Le projet ALLPA a pour objectif de réduire l’utilisation d’eau dans la production de tissus en alpaga\, en réponse à la sécheresse dans les zones andines du Pérou. \nInfos pratiques \n\nDimanche 23 novembre 2025 de 8h30 à 11h30\nÀ l’école communale de Stockel\, rue Vandermaelen 61.\nPrix : 10€/adulte ; 6€/enfant (à partir de 5 ans).\nParking gratuit au Stockel Square\, offert par Interparking (accès par la rue Dominique De Jonghe).
URL:https://www.woluwe1150.be/event/petit-dejeuner-oxfam/
LOCATION:Ecole communale de Stockel\, Rue Vandermaelen 61\, Woluwe-Saint-Pierre\, 1150\, Belgium
CATEGORIES:Animation,Développement Durable
ATTACH;FMTTYPE=image/jpeg:https://www.woluwe1150.be/app/uploads/2025/10/PDJ-Oxfam-2025-scaled.jpg
END:VEVENT
BEGIN:VEVENT
DTSTART;TZID=Europe/Brussels:20251126T201500
DTEND;TZID=Europe/Brussels:20251126T214500
DTSTAMP:20260424T083139
CREATED:20251014T073559Z
LAST-MODIFIED:20251014T073559Z
UID:85434-1764188100-1764193500@www.woluwe1150.be
SUMMARY:Conférence "Banques et intérêt général\, mission (im)possible ?"
DESCRIPTION:Mercredi 26/11 à 20h15 : Banques et intérêt général\, mission (im)possible ? \nLes banques\, moteur de l’économie via l’épargne et les crédits\, sont liées à des problèmes sociaux tels que chômage\, inégalités\, crises financières et réchauffement climatique. Cet atelier examinera leurs missions et dérives\, tout en explorant des réformes et des actions concrètes pour un changement collectif et individuel. \nOrganisée par le Chant d’Oiseau Quartier Durable. \nPAF : libre. \nSans inscription. \nOù? A la Cure Notre-Dame des Grâces \nDe 20h15 à 21h45
URL:https://www.woluwe1150.be/event/conference-banques-et-interet-general-mission-impossible/
LOCATION:Eglise Notre-Dame du Chant d’Oiseau/Onze-Lieve-Vrouw van Genadekerk\, 2 avenue du Chant d'Oiseau\, Woluwe-Saint-Pierre\, 1150
CATEGORIES:Conférence,Développement Durable
ATTACH;FMTTYPE=image/jpeg:https://www.woluwe1150.be/app/uploads/2025/10/Woluwe1150_Financite-Chant-dOiseau.jpg
ORGANIZER;CN="Chant d'Oiseau Quartier Durable":MAILTO:chantdoiseauqd@gmail.com
END:VEVENT
BEGIN:VEVENT
DTSTART;TZID=Europe/Brussels:20251130T100000
DTEND;TZID=Europe/Brussels:20251130T120000
DTSTAMP:20260424T083139
CREATED:20250728T115046Z
LAST-MODIFIED:20250728T115046Z
UID:81498-1764496800-1764504000@www.woluwe1150.be
SUMMARY:Conférence "Les haies nourricières"
DESCRIPTION:  \n\n\nDimanche 30 novembre: conférence « Les haies nourricières » (M. Veys)\, organisée par le Cercle royal horticole et Avicole de Woluwe-Stockel. \n\nDe 10h à 12h. Sur inscription.\n \nPrix : Gratuit pour les membres en ordre de cotisation 2025 (20€). Accès à la conférence à 8€.\nInscription préalable indispensable : info@cercle-horticole-woluwe.be – 0488 416 259.\n \nSite web : cercle-horticole-woluwe.be
URL:https://www.woluwe1150.be/event/conference-les-haies-nourricieres/
CATEGORIES:Conférence,Développement Durable
ATTACH;FMTTYPE=image/png:https://www.woluwe1150.be/app/uploads/2024/06/Woluwe1150_Cercle-Royal-Horticol-et-Avicol.png
END:VEVENT
END:VCALENDAR