BEGIN:VCALENDAR
VERSION:2.0
PRODID:-//Woluwe Saint Pierre - ECPv6.13.2//NONSGML v1.0//EN
CALSCALE:GREGORIAN
METHOD:PUBLISH
X-WR-CALNAME:Woluwe Saint Pierre
X-ORIGINAL-URL:https://www.woluwe1150.be
X-WR-CALDESC:Évènements pour Woluwe Saint Pierre
REFRESH-INTERVAL;VALUE=DURATION:PT1H
X-Robots-Tag:noindex
X-PUBLISHED-TTL:PT1H
BEGIN:VTIMEZONE
TZID:Europe/Brussels
BEGIN:DAYLIGHT
TZOFFSETFROM:+0100
TZOFFSETTO:+0200
TZNAME:CEST
DTSTART:20260329T010000
END:DAYLIGHT
BEGIN:STANDARD
TZOFFSETFROM:+0200
TZOFFSETTO:+0100
TZNAME:CET
DTSTART:20261025T010000
END:STANDARD
END:VTIMEZONE
BEGIN:VEVENT
DTSTART;TZID=Europe/Brussels:20260110T140000
DTEND;TZID=Europe/Brussels:20260110T160000
DTSTAMP:20260424T054307
CREATED:20251210T105440Z
LAST-MODIFIED:20251210T105440Z
UID:88595-1768053600-1768060800@www.woluwe1150.be
SUMMARY:Séance d'information - Abonnement en autocueillette à la Ferme des Dames Blanches
DESCRIPTION:Ferme des Dames Blanches : des légumes sains cultivés près de chez vous\n \nLa ferme de la Trèflerie est en train de s’installer sur le champ des Dames Blanches. Parmi les chouettes projets développés\, vous pourrez y trouver des légumes cultivés avec amour par Livia et Mélusine\, les deux maraîchères.\n \nCes légumes seront proposés sous forme d’abonnement en autocueillette.\n \nLe principe est simple : elles font pousser des légumes sains et vous\, vous venez les cueillir sur le champ.\n\n \n\nLes inscriptions aux séances d’information sont ouvertes !\nPour vous inscrire\, c’est par ici : https://forms.gle/Wn4FwVBeWEipKboL7\n————\nBoerderij van de Witte Vrouwen: gezonde groenten\, dicht bij huis geteeld\nDe boerderij La Trèflerie is zich aan het installeren op het veld van de Witte Vrouwen. Onder de vele projecten vind je er groenten die met liefde worden geteeld door Livia en Mélusine\, de twee tuiniersters.\n \nDeze groenten worden aangeboden in de vorm van een abonnement voor zelfoogst.\n \nHet principe is eenvoudig: zij kweken gezonde groenten en jij komt ze op het veld oogsten.\nDe inschrijvingen voor de informatiesessies zijn geopend!\n \nFormulier in het NL vindt u hierhttps://forms.gle/Sk5dDyatvRdAJjkA7
URL:https://www.woluwe1150.be/event/seance-dinformation-abonnement-en-autocueillette-a-la-ferme-des-dames-blanches-2/
CATEGORIES:Développement Durable
ATTACH;FMTTYPE=image/jpeg:https://www.woluwe1150.be/app/uploads/2025/12/Woluwe1150_Treflerie.jpg
ORGANIZER;CN="Service D%C3%A9veloppement Durable":MAILTO:durable@woluwe1150.be
END:VEVENT
BEGIN:VEVENT
DTSTART;TZID=Europe/Brussels:20260110T140000
DTEND;TZID=Europe/Brussels:20260110T170000
DTSTAMP:20260424T054308
CREATED:20251208T120844Z
LAST-MODIFIED:20251208T120844Z
UID:88194-1768053600-1768064400@www.woluwe1150.be
SUMMARY:Repair Café de la Médiathèque
DESCRIPTION:Venez réparer vos objets défectueux dans une ambiance conviviale et musicale.  \nLe Repair Café de la médiathèque a lieu le 2e samedi du mois\, de 14h à 17h.  \nPlus d’infos
URL:https://www.woluwe1150.be/event/repair-cafe-de-la-mediatheque-10/
LOCATION:Centre culturel/cultureel centrum Whalll\, 93 avenue Charles Thielemanslaan\, WSP/SPW\, 1150
CATEGORIES:Animation,Développement Durable
ATTACH;FMTTYPE=image/jpeg:https://www.woluwe1150.be/app/uploads/2025/01/repair_cafe_media.jpg
ORGANIZER;CN="M%C3%A9diath%C3%A8que de Woluwe-Saint-Pierre":MAILTO:wsp@lamediatheque.be
END:VEVENT
BEGIN:VEVENT
DTSTART;TZID=Europe/Brussels:20260114T190000
DTEND;TZID=Europe/Brussels:20260114T200000
DTSTAMP:20260424T054308
CREATED:20251210T105802Z
LAST-MODIFIED:20251210T105802Z
UID:88597-1768417200-1768420800@www.woluwe1150.be
SUMMARY:Séance d'information - Abonnement en autocueillette à la Ferme des Dames Blanches
DESCRIPTION:Ferme des Dames Blanches : des légumes sains cultivés près de chez vous\n \nLa ferme de la Trèflerie est en train de s’installer sur le champ des Dames Blanches. Parmi les chouettes projets développés\, vous pourrez y trouver des légumes cultivés avec amour par Livia et Mélusine\, les deux maraîchères.\n \nCes légumes seront proposés sous forme d’abonnement en autocueillette.\n \nLe principe est simple : elles font pousser des légumes sains et vous\, vous venez les cueillir sur le champ.\n\n \n\nLes inscriptions aux séances d’information sont ouvertes !\nPour vous inscrire\, c’est par ici : https://forms.gle/Wn4FwVBeWEipKboL7\n————\nBoerderij van de Witte Vrouwen: gezonde groenten\, dicht bij huis geteeld\nDe boerderij La Trèflerie is zich aan het installeren op het veld van de Witte Vrouwen. Onder de vele projecten vind je er groenten die met liefde worden geteeld door Livia en Mélusine\, de twee tuiniersters.\n \nDeze groenten worden aangeboden in de vorm van een abonnement voor zelfoogst.\n \nHet principe is eenvoudig: zij kweken gezonde groenten en jij komt ze op het veld oogsten.\nDe inschrijvingen voor de informatiesessies zijn geopend!\n \nFormulier in het NL vindt u hierhttps://forms.gle/Sk5dDyatvRdAJjkA7
URL:https://www.woluwe1150.be/event/seance-dinformation-abonnement-en-autocueillette-a-la-ferme-des-dames-blanches-3/
LOCATION:En ligne
CATEGORIES:Développement Durable
ATTACH;FMTTYPE=image/jpeg:https://www.woluwe1150.be/app/uploads/2025/12/Woluwe1150_Treflerie.jpg
ORGANIZER;CN="Service D%C3%A9veloppement Durable":MAILTO:durable@woluwe1150.be
END:VEVENT
BEGIN:VEVENT
DTSTART;TZID=Europe/Brussels:20260125T110000
DTEND;TZID=Europe/Brussels:20260125T130000
DTSTAMP:20260424T054308
CREATED:20251204T082036Z
LAST-MODIFIED:20251204T082036Z
UID:88054-1769338800-1769346000@www.woluwe1150.be
SUMMARY:Conférence "Culture des arbres fruitiers en espalier"
DESCRIPTION:Dimanche 25 janvier : conférence « Culture des arbres fruitiers en espalier » (M. Wanson)\, organisée par le Cercle royal horticole et Avicole de Woluwe-Stockel. \n+ à 10h: Assemblée Générale statutaire \n\n\n\nDe 11h à 13h. Sur inscription.\n \nPrix : Gratuit pour les membres en ordre de cotisation 2025 (20€). Accès à la conférence à 8€.\nInscription préalable indispensable : info@cercle-horticole-woluwe.be – 0488 416 259.\n \nSite web : cercle-horticole-woluwe.be
URL:https://www.woluwe1150.be/event/conference-culture-des-arbres-fruitiers-en-espalier/
CATEGORIES:Conférence,Développement Durable
ATTACH;FMTTYPE=image/png:https://www.woluwe1150.be/app/uploads/2024/06/Woluwe1150_Cercle-Royal-Horticol-et-Avicol.png
END:VEVENT
END:VCALENDAR