BEGIN:VCALENDAR
VERSION:2.0
PRODID:-//Woluwe Saint Pierre - ECPv6.13.2//NONSGML v1.0//EN
CALSCALE:GREGORIAN
METHOD:PUBLISH
X-WR-CALNAME:Woluwe Saint Pierre
X-ORIGINAL-URL:https://www.woluwe1150.be
X-WR-CALDESC:Évènements pour Woluwe Saint Pierre
REFRESH-INTERVAL;VALUE=DURATION:PT1H
X-Robots-Tag:noindex
X-PUBLISHED-TTL:PT1H
BEGIN:VTIMEZONE
TZID:Europe/Brussels
BEGIN:DAYLIGHT
TZOFFSETFROM:+0100
TZOFFSETTO:+0200
TZNAME:CEST
DTSTART:20250330T010000
END:DAYLIGHT
BEGIN:STANDARD
TZOFFSETFROM:+0200
TZOFFSETTO:+0100
TZNAME:CET
DTSTART:20251026T010000
END:STANDARD
END:VTIMEZONE
BEGIN:VEVENT
DTSTART;TZID=Europe/Brussels:20250322T140000
DTEND;TZID=Europe/Brussels:20250322T170000
DTSTAMP:20260424T231937
CREATED:20250218T111144Z
LAST-MODIFIED:20250218T111144Z
UID:77646-1742652000-1742662800@www.woluwe1150.be
SUMMARY:A la découverte de la vie aquatique de la Woluwe
DESCRIPTION:Dans le cadre de la  semaine de l’eau \, l’Oasis du centre vous propose de partir « A la découverte de la vie aquatique de la Woluwe » \nVenez découvrir en compagnie de Samuel et Bertrand la richesse et la diversité de l’écosystème aquatique de la Woluwe. Une balade découverte en bord de rivière suivie d’un exposé vous attendent le 22 mars 2025.  \nNous vous donnons rendez-vous : \n– Balade: à 14h à l’arrêt du tram 8 parc des sources \n– ⁠Conférence: à 17h au « Forum de la Woluwe » \, 8 rue René Declercq 1150 Bruxelles \nTarif unique 2 € par activité \nPossibilité de participer à un des ateliers ou les deux. \nInscription : oasisducentre1150@gmail.com            \nFacebook : Oasis du centre
URL:https://www.woluwe1150.be/event/a-la-decouverte-de-la-vie-aquatique-de-la-woluwe/
CATEGORIES:Animation,Développement Durable,Balade
ATTACH;FMTTYPE=image/jpeg:https://www.woluwe1150.be/app/uploads/2025/02/Woluwe1150_Oasis_journees-de-leau.jpg
ORGANIZER;CN="Oasis du Centre":MAILTO:oasisducentre1150@gmail.com
END:VEVENT
END:VCALENDAR