BEGIN:VCALENDAR
VERSION:2.0
PRODID:-//Woluwe Saint Pierre - ECPv6.13.2//NONSGML v1.0//EN
CALSCALE:GREGORIAN
METHOD:PUBLISH
X-WR-CALNAME:Woluwe Saint Pierre
X-ORIGINAL-URL:https://www.woluwe1150.be
X-WR-CALDESC:Évènements pour Woluwe Saint Pierre
REFRESH-INTERVAL;VALUE=DURATION:PT1H
X-Robots-Tag:noindex
X-PUBLISHED-TTL:PT1H
BEGIN:VTIMEZONE
TZID:Europe/Brussels
BEGIN:DAYLIGHT
TZOFFSETFROM:+0100
TZOFFSETTO:+0200
TZNAME:CEST
DTSTART:20250330T010000
END:DAYLIGHT
BEGIN:STANDARD
TZOFFSETFROM:+0200
TZOFFSETTO:+0100
TZNAME:CET
DTSTART:20251026T010000
END:STANDARD
END:VTIMEZONE
BEGIN:VEVENT
DTSTART;TZID=Europe/Brussels:20250327T190000
DTEND;TZID=Europe/Brussels:20250327T220000
DTSTAMP:20260424T231936
CREATED:20240521T092424Z
LAST-MODIFIED:20240521T092549Z
UID:70754-1743102000-1743112800@www.woluwe1150.be
SUMMARY:Atelier "2tonnes" (2)
DESCRIPTION:Projetez-vous jusqu’en 2050\, découvrez les leviers individuels et collectifs de la transition écologique\, et identifier le rôle que vous pouvez y jouer ! \nEn 3 heures et en équipe\, cet atelier immersif et ludique permet de donner les connaissances\, les envie et les idées pour agir à son échelle\, pour le climat (gratuit sur réservation). \n(un autre atelier est organisé le 14.11.24\, plus d’infos en cliquant ici)\n\n\nDans le cadre du Cycle Passerelle Transition \nInfos et réservation: whalll.be ou 02 435 59 99 (ouverture de la billetterie le 20.06)
URL:https://www.woluwe1150.be/event/atelier-2tonnes-2/
LOCATION:Centre culturel/cultureel centrum Whalll\, 93 avenue Charles Thielemanslaan\, WSP/SPW\, 1150
CATEGORIES:Développement Durable
ATTACH;FMTTYPE=image/png:https://www.woluwe1150.be/app/uploads/2024/05/Woluwe1150_2tonnes.png
ORGANIZER;CN="Whalll":MAILTO:billetterie@whalll.be
END:VEVENT
END:VCALENDAR